
BEGIN:VCALENDAR
VERSION:2.0
PRODID:-//u3a Bury St Edmunds - ECPv6.15.20//NONSGML v1.0//EN
CALSCALE:GREGORIAN
METHOD:PUBLISH
X-WR-CALNAME:u3a Bury St Edmunds
X-ORIGINAL-URL:https://www.u3aburystedmunds.co.uk
X-WR-CALDESC:Events for u3a Bury St Edmunds
REFRESH-INTERVAL;VALUE=DURATION:PT1H
X-Robots-Tag:noindex
X-PUBLISHED-TTL:PT1H
BEGIN:VTIMEZONE
TZID:Europe/London
BEGIN:DAYLIGHT
TZOFFSETFROM:+0000
TZOFFSETTO:+0100
TZNAME:BST
DTSTART:20250330T010000
END:DAYLIGHT
BEGIN:STANDARD
TZOFFSETFROM:+0100
TZOFFSETTO:+0000
TZNAME:GMT
DTSTART:20251026T010000
END:STANDARD
BEGIN:DAYLIGHT
TZOFFSETFROM:+0000
TZOFFSETTO:+0100
TZNAME:BST
DTSTART:20260329T010000
END:DAYLIGHT
BEGIN:STANDARD
TZOFFSETFROM:+0100
TZOFFSETTO:+0000
TZNAME:GMT
DTSTART:20261025T010000
END:STANDARD
BEGIN:DAYLIGHT
TZOFFSETFROM:+0000
TZOFFSETTO:+0100
TZNAME:BST
DTSTART:20270328T010000
END:DAYLIGHT
BEGIN:STANDARD
TZOFFSETFROM:+0100
TZOFFSETTO:+0000
TZNAME:GMT
DTSTART:20271031T010000
END:STANDARD
END:VTIMEZONE
BEGIN:VEVENT
DTSTART;TZID=Europe/London:20260512T103000
DTEND;TZID=Europe/London:20260512T120000
DTSTAMP:20260421T224647
CREATED:20180801T151505Z
LAST-MODIFIED:20251114T115456Z
UID:10004422-1778581800-1778587200@www.u3aburystedmunds.co.uk
SUMMARY:Book Group 1
DESCRIPTION:Our aim is to promote friendship by reading a wide range of books from the classics to contemporary fiction.
URL:https://www.u3aburystedmunds.co.uk/event/book-club-i/2026-05-12/
LOCATION:St John’s Centre\, The Centre\, St John’s Street\, Bury St Edmunds\, Suffolk\, IP33 1SN\, United Kingdom
CATEGORIES:Literature, Theatre and Film,Study Group
ATTACH;FMTTYPE=image/png:https://www.u3aburystedmunds.co.uk/wp-content/uploads/2018/08/book-club-1.png
ORGANIZER;CN="Jan Tuffs":MAILTO:janjet98@googlemail.com
GEO:52.2488955;0.7123436
X-APPLE-STRUCTURED-LOCATION;VALUE=URI;X-ADDRESS=St John’s Centre The Centre St John’s Street Bury St Edmunds Suffolk IP33 1SN United Kingdom;X-APPLE-RADIUS=500;X-TITLE=The Centre\, St John’s Street:geo:0.7123436,52.2488955
END:VEVENT
END:VCALENDAR