
BEGIN:VCALENDAR
VERSION:2.0
PRODID:-//u3a Bury St Edmunds - ECPv6.15.20//NONSGML v1.0//EN
CALSCALE:GREGORIAN
METHOD:PUBLISH
X-WR-CALNAME:u3a Bury St Edmunds
X-ORIGINAL-URL:https://www.u3aburystedmunds.co.uk
X-WR-CALDESC:Events for u3a Bury St Edmunds
REFRESH-INTERVAL;VALUE=DURATION:PT1H
X-Robots-Tag:noindex
X-PUBLISHED-TTL:PT1H
BEGIN:VTIMEZONE
TZID:Europe/London
BEGIN:DAYLIGHT
TZOFFSETFROM:+0000
TZOFFSETTO:+0100
TZNAME:BST
DTSTART:20250330T010000
END:DAYLIGHT
BEGIN:STANDARD
TZOFFSETFROM:+0100
TZOFFSETTO:+0000
TZNAME:GMT
DTSTART:20251026T010000
END:STANDARD
BEGIN:DAYLIGHT
TZOFFSETFROM:+0000
TZOFFSETTO:+0100
TZNAME:BST
DTSTART:20260329T010000
END:DAYLIGHT
BEGIN:STANDARD
TZOFFSETFROM:+0100
TZOFFSETTO:+0000
TZNAME:GMT
DTSTART:20261025T010000
END:STANDARD
BEGIN:DAYLIGHT
TZOFFSETFROM:+0000
TZOFFSETTO:+0100
TZNAME:BST
DTSTART:20270328T010000
END:DAYLIGHT
BEGIN:STANDARD
TZOFFSETFROM:+0100
TZOFFSETTO:+0000
TZNAME:GMT
DTSTART:20271031T010000
END:STANDARD
END:VTIMEZONE
BEGIN:VEVENT
DTSTART;TZID=Europe/London:20260511T100000
DTEND;TZID=Europe/London:20260511T120000
DTSTAMP:20260422T002114
CREATED:20180801T152022Z
LAST-MODIFIED:20251216T152030Z
UID:10004472-1778493600-1778500800@www.u3aburystedmunds.co.uk
SUMMARY:Book Group 2
DESCRIPTION:Our Group members decide on a range of books that they would like to read and discuss over the coming months. This results in a wide and enjoyable selection. \n 
URL:https://www.u3aburystedmunds.co.uk/event/book-club-ii/2026-05-11/
LOCATION:JD Wetherspoons\, The Corn Exchange\, Bury St. Edmunds\, Suffolk\, IP33 1LG\, United Kingdom
CATEGORIES:Literature, Theatre and Film,Study Group
ATTACH;FMTTYPE=image/jpeg:https://www.u3aburystedmunds.co.uk/wp-content/uploads/2018/08/bookclub2.jpg
GEO:52.2469041;0.7112514
X-APPLE-STRUCTURED-LOCATION;VALUE=URI;X-ADDRESS=JD Wetherspoons The Corn Exchange Bury St. Edmunds Suffolk IP33 1LG United Kingdom;X-APPLE-RADIUS=500;X-TITLE=The Corn Exchange:geo:0.7112514,52.2469041
END:VEVENT
BEGIN:VEVENT
DTSTART;TZID=Europe/London:20260608T100000
DTEND;TZID=Europe/London:20260608T120000
DTSTAMP:20260422T002114
CREATED:20180801T152022Z
LAST-MODIFIED:20251216T152030Z
UID:10010033-1780912800-1780920000@www.u3aburystedmunds.co.uk
SUMMARY:Book Group 2
DESCRIPTION:Our Group members decide on a range of books that they would like to read and discuss over the coming months. This results in a wide and enjoyable selection. \n 
URL:https://www.u3aburystedmunds.co.uk/event/book-club-ii/2026-06-08/
LOCATION:JD Wetherspoons\, The Corn Exchange\, Bury St. Edmunds\, Suffolk\, IP33 1LG\, United Kingdom
CATEGORIES:Literature, Theatre and Film,Study Group
ATTACH;FMTTYPE=image/jpeg:https://www.u3aburystedmunds.co.uk/wp-content/uploads/2018/08/bookclub2.jpg
GEO:52.2469041;0.7112514
X-APPLE-STRUCTURED-LOCATION;VALUE=URI;X-ADDRESS=JD Wetherspoons The Corn Exchange Bury St. Edmunds Suffolk IP33 1LG United Kingdom;X-APPLE-RADIUS=500;X-TITLE=The Corn Exchange:geo:0.7112514,52.2469041
END:VEVENT
BEGIN:VEVENT
DTSTART;TZID=Europe/London:20260713T100000
DTEND;TZID=Europe/London:20260713T120000
DTSTAMP:20260422T002114
CREATED:20180801T152022Z
LAST-MODIFIED:20251216T152030Z
UID:10010034-1783936800-1783944000@www.u3aburystedmunds.co.uk
SUMMARY:Book Group 2
DESCRIPTION:Our Group members decide on a range of books that they would like to read and discuss over the coming months. This results in a wide and enjoyable selection. \n 
URL:https://www.u3aburystedmunds.co.uk/event/book-club-ii/2026-07-13/
LOCATION:JD Wetherspoons\, The Corn Exchange\, Bury St. Edmunds\, Suffolk\, IP33 1LG\, United Kingdom
CATEGORIES:Literature, Theatre and Film,Study Group
ATTACH;FMTTYPE=image/jpeg:https://www.u3aburystedmunds.co.uk/wp-content/uploads/2018/08/bookclub2.jpg
GEO:52.2469041;0.7112514
X-APPLE-STRUCTURED-LOCATION;VALUE=URI;X-ADDRESS=JD Wetherspoons The Corn Exchange Bury St. Edmunds Suffolk IP33 1LG United Kingdom;X-APPLE-RADIUS=500;X-TITLE=The Corn Exchange:geo:0.7112514,52.2469041
END:VEVENT
BEGIN:VEVENT
DTSTART;TZID=Europe/London:20260810T100000
DTEND;TZID=Europe/London:20260810T120000
DTSTAMP:20260422T002114
CREATED:20180801T152022Z
LAST-MODIFIED:20251216T152030Z
UID:10010035-1786356000-1786363200@www.u3aburystedmunds.co.uk
SUMMARY:Book Group 2
DESCRIPTION:Our Group members decide on a range of books that they would like to read and discuss over the coming months. This results in a wide and enjoyable selection. \n 
URL:https://www.u3aburystedmunds.co.uk/event/book-club-ii/2026-08-10/
LOCATION:JD Wetherspoons\, The Corn Exchange\, Bury St. Edmunds\, Suffolk\, IP33 1LG\, United Kingdom
CATEGORIES:Literature, Theatre and Film,Study Group
ATTACH;FMTTYPE=image/jpeg:https://www.u3aburystedmunds.co.uk/wp-content/uploads/2018/08/bookclub2.jpg
GEO:52.2469041;0.7112514
X-APPLE-STRUCTURED-LOCATION;VALUE=URI;X-ADDRESS=JD Wetherspoons The Corn Exchange Bury St. Edmunds Suffolk IP33 1LG United Kingdom;X-APPLE-RADIUS=500;X-TITLE=The Corn Exchange:geo:0.7112514,52.2469041
END:VEVENT
BEGIN:VEVENT
DTSTART;TZID=Europe/London:20260914T100000
DTEND;TZID=Europe/London:20260914T120000
DTSTAMP:20260422T002114
CREATED:20180801T152022Z
LAST-MODIFIED:20251216T152030Z
UID:10010036-1789380000-1789387200@www.u3aburystedmunds.co.uk
SUMMARY:Book Group 2
DESCRIPTION:Our Group members decide on a range of books that they would like to read and discuss over the coming months. This results in a wide and enjoyable selection. \n 
URL:https://www.u3aburystedmunds.co.uk/event/book-club-ii/2026-09-14/
LOCATION:JD Wetherspoons\, The Corn Exchange\, Bury St. Edmunds\, Suffolk\, IP33 1LG\, United Kingdom
CATEGORIES:Literature, Theatre and Film,Study Group
ATTACH;FMTTYPE=image/jpeg:https://www.u3aburystedmunds.co.uk/wp-content/uploads/2018/08/bookclub2.jpg
GEO:52.2469041;0.7112514
X-APPLE-STRUCTURED-LOCATION;VALUE=URI;X-ADDRESS=JD Wetherspoons The Corn Exchange Bury St. Edmunds Suffolk IP33 1LG United Kingdom;X-APPLE-RADIUS=500;X-TITLE=The Corn Exchange:geo:0.7112514,52.2469041
END:VEVENT
BEGIN:VEVENT
DTSTART;TZID=Europe/London:20261012T100000
DTEND;TZID=Europe/London:20261012T120000
DTSTAMP:20260422T002114
CREATED:20180801T152022Z
LAST-MODIFIED:20251216T152030Z
UID:10010037-1791799200-1791806400@www.u3aburystedmunds.co.uk
SUMMARY:Book Group 2
DESCRIPTION:Our Group members decide on a range of books that they would like to read and discuss over the coming months. This results in a wide and enjoyable selection. \n 
URL:https://www.u3aburystedmunds.co.uk/event/book-club-ii/2026-10-12/
LOCATION:JD Wetherspoons\, The Corn Exchange\, Bury St. Edmunds\, Suffolk\, IP33 1LG\, United Kingdom
CATEGORIES:Literature, Theatre and Film,Study Group
ATTACH;FMTTYPE=image/jpeg:https://www.u3aburystedmunds.co.uk/wp-content/uploads/2018/08/bookclub2.jpg
GEO:52.2469041;0.7112514
X-APPLE-STRUCTURED-LOCATION;VALUE=URI;X-ADDRESS=JD Wetherspoons The Corn Exchange Bury St. Edmunds Suffolk IP33 1LG United Kingdom;X-APPLE-RADIUS=500;X-TITLE=The Corn Exchange:geo:0.7112514,52.2469041
END:VEVENT
END:VCALENDAR