
BEGIN:VCALENDAR
VERSION:2.0
PRODID:-//u3a Bury St Edmunds - ECPv6.15.20//NONSGML v1.0//EN
CALSCALE:GREGORIAN
METHOD:PUBLISH
X-WR-CALNAME:u3a Bury St Edmunds
X-ORIGINAL-URL:https://www.u3aburystedmunds.co.uk
X-WR-CALDESC:Events for u3a Bury St Edmunds
REFRESH-INTERVAL;VALUE=DURATION:PT1H
X-Robots-Tag:noindex
X-PUBLISHED-TTL:PT1H
BEGIN:VTIMEZONE
TZID:Europe/London
BEGIN:DAYLIGHT
TZOFFSETFROM:+0000
TZOFFSETTO:+0100
TZNAME:BST
DTSTART:20250330T010000
END:DAYLIGHT
BEGIN:STANDARD
TZOFFSETFROM:+0100
TZOFFSETTO:+0000
TZNAME:GMT
DTSTART:20251026T010000
END:STANDARD
BEGIN:DAYLIGHT
TZOFFSETFROM:+0000
TZOFFSETTO:+0100
TZNAME:BST
DTSTART:20260329T010000
END:DAYLIGHT
BEGIN:STANDARD
TZOFFSETFROM:+0100
TZOFFSETTO:+0000
TZNAME:GMT
DTSTART:20261025T010000
END:STANDARD
BEGIN:DAYLIGHT
TZOFFSETFROM:+0000
TZOFFSETTO:+0100
TZNAME:BST
DTSTART:20270328T010000
END:DAYLIGHT
BEGIN:STANDARD
TZOFFSETFROM:+0100
TZOFFSETTO:+0000
TZNAME:GMT
DTSTART:20271031T010000
END:STANDARD
END:VTIMEZONE
BEGIN:VEVENT
DTSTART;TZID=Europe/London:20260423T143000
DTEND;TZID=Europe/London:20260423T173000
DTSTAMP:20260421T132141
CREATED:20250807T151806Z
LAST-MODIFIED:20260127T141318Z
UID:10005215-1776954600-1776965400@www.u3aburystedmunds.co.uk
SUMMARY:Petanque
DESCRIPTION:We are now going to be playing at Moreton Hall Community Centre\, Symonds Road\, IP32 7EE. All players must join Moreton Hall at a cost of £10 per year. Membership entitles you to use the club any time you like and you get a discounted rate on drinks. \nThere is a big car park at the hall which is free.
URL:https://www.u3aburystedmunds.co.uk/event/petanque/2026-04-23/
LOCATION:Moreton Hall Community Centre\, Symonds Road\, Bury St Edmunds\, Suffolk\, IP32\, United Kingdom
CATEGORIES:Sport,Study Group
ATTACH;FMTTYPE=image/png:https://www.u3aburystedmunds.co.uk/wp-content/uploads/2019/05/petanque.png
ORGANIZER;CN="Sue Hawthorn":MAILTO:suehawthorn65@gmail.com
GEO:52.2438503;0.7365108
X-APPLE-STRUCTURED-LOCATION;VALUE=URI;X-ADDRESS=Moreton Hall Community Centre Symonds Road Bury St Edmunds Suffolk IP32 United Kingdom;X-APPLE-RADIUS=500;X-TITLE=Symonds Road:geo:0.7365108,52.2438503
END:VEVENT
BEGIN:VEVENT
DTSTART;TZID=Europe/London:20260427T143000
DTEND;TZID=Europe/London:20260427T173000
DTSTAMP:20260421T132141
CREATED:20250807T151806Z
LAST-MODIFIED:20260127T141318Z
UID:10005216-1777300200-1777311000@www.u3aburystedmunds.co.uk
SUMMARY:Petanque
DESCRIPTION:We are now going to be playing at Moreton Hall Community Centre\, Symonds Road\, IP32 7EE. All players must join Moreton Hall at a cost of £10 per year. Membership entitles you to use the club any time you like and you get a discounted rate on drinks. \nThere is a big car park at the hall which is free.
URL:https://www.u3aburystedmunds.co.uk/event/petanque/2026-04-27/
LOCATION:Moreton Hall Community Centre\, Symonds Road\, Bury St Edmunds\, Suffolk\, IP32\, United Kingdom
CATEGORIES:Sport,Study Group
ATTACH;FMTTYPE=image/png:https://www.u3aburystedmunds.co.uk/wp-content/uploads/2019/05/petanque.png
ORGANIZER;CN="Sue Hawthorn":MAILTO:suehawthorn65@gmail.com
GEO:52.2438503;0.7365108
X-APPLE-STRUCTURED-LOCATION;VALUE=URI;X-ADDRESS=Moreton Hall Community Centre Symonds Road Bury St Edmunds Suffolk IP32 United Kingdom;X-APPLE-RADIUS=500;X-TITLE=Symonds Road:geo:0.7365108,52.2438503
END:VEVENT
BEGIN:VEVENT
DTSTART;TZID=Europe/London:20260430T143000
DTEND;TZID=Europe/London:20260430T173000
DTSTAMP:20260421T132141
CREATED:20250807T151806Z
LAST-MODIFIED:20260127T141318Z
UID:10005217-1777559400-1777570200@www.u3aburystedmunds.co.uk
SUMMARY:Petanque
DESCRIPTION:We are now going to be playing at Moreton Hall Community Centre\, Symonds Road\, IP32 7EE. All players must join Moreton Hall at a cost of £10 per year. Membership entitles you to use the club any time you like and you get a discounted rate on drinks. \nThere is a big car park at the hall which is free.
URL:https://www.u3aburystedmunds.co.uk/event/petanque/2026-04-30/
LOCATION:Moreton Hall Community Centre\, Symonds Road\, Bury St Edmunds\, Suffolk\, IP32\, United Kingdom
CATEGORIES:Sport,Study Group
ATTACH;FMTTYPE=image/png:https://www.u3aburystedmunds.co.uk/wp-content/uploads/2019/05/petanque.png
ORGANIZER;CN="Sue Hawthorn":MAILTO:suehawthorn65@gmail.com
GEO:52.2438503;0.7365108
X-APPLE-STRUCTURED-LOCATION;VALUE=URI;X-ADDRESS=Moreton Hall Community Centre Symonds Road Bury St Edmunds Suffolk IP32 United Kingdom;X-APPLE-RADIUS=500;X-TITLE=Symonds Road:geo:0.7365108,52.2438503
END:VEVENT
BEGIN:VEVENT
DTSTART;TZID=Europe/London:20260504T143000
DTEND;TZID=Europe/London:20260504T173000
DTSTAMP:20260421T132141
CREATED:20250807T151806Z
LAST-MODIFIED:20260127T141318Z
UID:10005218-1777905000-1777915800@www.u3aburystedmunds.co.uk
SUMMARY:Petanque
DESCRIPTION:We are now going to be playing at Moreton Hall Community Centre\, Symonds Road\, IP32 7EE. All players must join Moreton Hall at a cost of £10 per year. Membership entitles you to use the club any time you like and you get a discounted rate on drinks. \nThere is a big car park at the hall which is free.
URL:https://www.u3aburystedmunds.co.uk/event/petanque/2026-05-04/
LOCATION:Moreton Hall Community Centre\, Symonds Road\, Bury St Edmunds\, Suffolk\, IP32\, United Kingdom
CATEGORIES:Sport,Study Group
ATTACH;FMTTYPE=image/png:https://www.u3aburystedmunds.co.uk/wp-content/uploads/2019/05/petanque.png
ORGANIZER;CN="Sue Hawthorn":MAILTO:suehawthorn65@gmail.com
GEO:52.2438503;0.7365108
X-APPLE-STRUCTURED-LOCATION;VALUE=URI;X-ADDRESS=Moreton Hall Community Centre Symonds Road Bury St Edmunds Suffolk IP32 United Kingdom;X-APPLE-RADIUS=500;X-TITLE=Symonds Road:geo:0.7365108,52.2438503
END:VEVENT
BEGIN:VEVENT
DTSTART;TZID=Europe/London:20260507T143000
DTEND;TZID=Europe/London:20260507T173000
DTSTAMP:20260421T132141
CREATED:20250807T151806Z
LAST-MODIFIED:20260127T141318Z
UID:10005219-1778164200-1778175000@www.u3aburystedmunds.co.uk
SUMMARY:Petanque
DESCRIPTION:We are now going to be playing at Moreton Hall Community Centre\, Symonds Road\, IP32 7EE. All players must join Moreton Hall at a cost of £10 per year. Membership entitles you to use the club any time you like and you get a discounted rate on drinks. \nThere is a big car park at the hall which is free.
URL:https://www.u3aburystedmunds.co.uk/event/petanque/2026-05-07/
LOCATION:Moreton Hall Community Centre\, Symonds Road\, Bury St Edmunds\, Suffolk\, IP32\, United Kingdom
CATEGORIES:Sport,Study Group
ATTACH;FMTTYPE=image/png:https://www.u3aburystedmunds.co.uk/wp-content/uploads/2019/05/petanque.png
ORGANIZER;CN="Sue Hawthorn":MAILTO:suehawthorn65@gmail.com
GEO:52.2438503;0.7365108
X-APPLE-STRUCTURED-LOCATION;VALUE=URI;X-ADDRESS=Moreton Hall Community Centre Symonds Road Bury St Edmunds Suffolk IP32 United Kingdom;X-APPLE-RADIUS=500;X-TITLE=Symonds Road:geo:0.7365108,52.2438503
END:VEVENT
BEGIN:VEVENT
DTSTART;TZID=Europe/London:20260511T143000
DTEND;TZID=Europe/London:20260511T173000
DTSTAMP:20260421T132141
CREATED:20250807T151806Z
LAST-MODIFIED:20260127T141318Z
UID:10005220-1778509800-1778520600@www.u3aburystedmunds.co.uk
SUMMARY:Petanque
DESCRIPTION:We are now going to be playing at Moreton Hall Community Centre\, Symonds Road\, IP32 7EE. All players must join Moreton Hall at a cost of £10 per year. Membership entitles you to use the club any time you like and you get a discounted rate on drinks. \nThere is a big car park at the hall which is free.
URL:https://www.u3aburystedmunds.co.uk/event/petanque/2026-05-11/
LOCATION:Moreton Hall Community Centre\, Symonds Road\, Bury St Edmunds\, Suffolk\, IP32\, United Kingdom
CATEGORIES:Sport,Study Group
ATTACH;FMTTYPE=image/png:https://www.u3aburystedmunds.co.uk/wp-content/uploads/2019/05/petanque.png
ORGANIZER;CN="Sue Hawthorn":MAILTO:suehawthorn65@gmail.com
GEO:52.2438503;0.7365108
X-APPLE-STRUCTURED-LOCATION;VALUE=URI;X-ADDRESS=Moreton Hall Community Centre Symonds Road Bury St Edmunds Suffolk IP32 United Kingdom;X-APPLE-RADIUS=500;X-TITLE=Symonds Road:geo:0.7365108,52.2438503
END:VEVENT
BEGIN:VEVENT
DTSTART;TZID=Europe/London:20260514T143000
DTEND;TZID=Europe/London:20260514T173000
DTSTAMP:20260421T132141
CREATED:20250807T151806Z
LAST-MODIFIED:20260127T141318Z
UID:10005221-1778769000-1778779800@www.u3aburystedmunds.co.uk
SUMMARY:Petanque
DESCRIPTION:We are now going to be playing at Moreton Hall Community Centre\, Symonds Road\, IP32 7EE. All players must join Moreton Hall at a cost of £10 per year. Membership entitles you to use the club any time you like and you get a discounted rate on drinks. \nThere is a big car park at the hall which is free.
URL:https://www.u3aburystedmunds.co.uk/event/petanque/2026-05-14/
LOCATION:Moreton Hall Community Centre\, Symonds Road\, Bury St Edmunds\, Suffolk\, IP32\, United Kingdom
CATEGORIES:Sport,Study Group
ATTACH;FMTTYPE=image/png:https://www.u3aburystedmunds.co.uk/wp-content/uploads/2019/05/petanque.png
ORGANIZER;CN="Sue Hawthorn":MAILTO:suehawthorn65@gmail.com
GEO:52.2438503;0.7365108
X-APPLE-STRUCTURED-LOCATION;VALUE=URI;X-ADDRESS=Moreton Hall Community Centre Symonds Road Bury St Edmunds Suffolk IP32 United Kingdom;X-APPLE-RADIUS=500;X-TITLE=Symonds Road:geo:0.7365108,52.2438503
END:VEVENT
BEGIN:VEVENT
DTSTART;TZID=Europe/London:20260518T143000
DTEND;TZID=Europe/London:20260518T173000
DTSTAMP:20260421T132141
CREATED:20250807T151806Z
LAST-MODIFIED:20260127T141318Z
UID:10005222-1779114600-1779125400@www.u3aburystedmunds.co.uk
SUMMARY:Petanque
DESCRIPTION:We are now going to be playing at Moreton Hall Community Centre\, Symonds Road\, IP32 7EE. All players must join Moreton Hall at a cost of £10 per year. Membership entitles you to use the club any time you like and you get a discounted rate on drinks. \nThere is a big car park at the hall which is free.
URL:https://www.u3aburystedmunds.co.uk/event/petanque/2026-05-18/
LOCATION:Moreton Hall Community Centre\, Symonds Road\, Bury St Edmunds\, Suffolk\, IP32\, United Kingdom
CATEGORIES:Sport,Study Group
ATTACH;FMTTYPE=image/png:https://www.u3aburystedmunds.co.uk/wp-content/uploads/2019/05/petanque.png
ORGANIZER;CN="Sue Hawthorn":MAILTO:suehawthorn65@gmail.com
GEO:52.2438503;0.7365108
X-APPLE-STRUCTURED-LOCATION;VALUE=URI;X-ADDRESS=Moreton Hall Community Centre Symonds Road Bury St Edmunds Suffolk IP32 United Kingdom;X-APPLE-RADIUS=500;X-TITLE=Symonds Road:geo:0.7365108,52.2438503
END:VEVENT
BEGIN:VEVENT
DTSTART;TZID=Europe/London:20260521T143000
DTEND;TZID=Europe/London:20260521T173000
DTSTAMP:20260421T132141
CREATED:20250807T151806Z
LAST-MODIFIED:20260127T141318Z
UID:10005223-1779373800-1779384600@www.u3aburystedmunds.co.uk
SUMMARY:Petanque
DESCRIPTION:We are now going to be playing at Moreton Hall Community Centre\, Symonds Road\, IP32 7EE. All players must join Moreton Hall at a cost of £10 per year. Membership entitles you to use the club any time you like and you get a discounted rate on drinks. \nThere is a big car park at the hall which is free.
URL:https://www.u3aburystedmunds.co.uk/event/petanque/2026-05-21/
LOCATION:Moreton Hall Community Centre\, Symonds Road\, Bury St Edmunds\, Suffolk\, IP32\, United Kingdom
CATEGORIES:Sport,Study Group
ATTACH;FMTTYPE=image/png:https://www.u3aburystedmunds.co.uk/wp-content/uploads/2019/05/petanque.png
ORGANIZER;CN="Sue Hawthorn":MAILTO:suehawthorn65@gmail.com
GEO:52.2438503;0.7365108
X-APPLE-STRUCTURED-LOCATION;VALUE=URI;X-ADDRESS=Moreton Hall Community Centre Symonds Road Bury St Edmunds Suffolk IP32 United Kingdom;X-APPLE-RADIUS=500;X-TITLE=Symonds Road:geo:0.7365108,52.2438503
END:VEVENT
BEGIN:VEVENT
DTSTART;TZID=Europe/London:20260525T143000
DTEND;TZID=Europe/London:20260525T173000
DTSTAMP:20260421T132141
CREATED:20250807T151806Z
LAST-MODIFIED:20260127T141318Z
UID:10005224-1779719400-1779730200@www.u3aburystedmunds.co.uk
SUMMARY:Petanque
DESCRIPTION:We are now going to be playing at Moreton Hall Community Centre\, Symonds Road\, IP32 7EE. All players must join Moreton Hall at a cost of £10 per year. Membership entitles you to use the club any time you like and you get a discounted rate on drinks. \nThere is a big car park at the hall which is free.
URL:https://www.u3aburystedmunds.co.uk/event/petanque/2026-05-25/
LOCATION:Moreton Hall Community Centre\, Symonds Road\, Bury St Edmunds\, Suffolk\, IP32\, United Kingdom
CATEGORIES:Sport,Study Group
ATTACH;FMTTYPE=image/png:https://www.u3aburystedmunds.co.uk/wp-content/uploads/2019/05/petanque.png
ORGANIZER;CN="Sue Hawthorn":MAILTO:suehawthorn65@gmail.com
GEO:52.2438503;0.7365108
X-APPLE-STRUCTURED-LOCATION;VALUE=URI;X-ADDRESS=Moreton Hall Community Centre Symonds Road Bury St Edmunds Suffolk IP32 United Kingdom;X-APPLE-RADIUS=500;X-TITLE=Symonds Road:geo:0.7365108,52.2438503
END:VEVENT
BEGIN:VEVENT
DTSTART;TZID=Europe/London:20260528T143000
DTEND;TZID=Europe/London:20260528T173000
DTSTAMP:20260421T132141
CREATED:20250807T151806Z
LAST-MODIFIED:20260127T141318Z
UID:10005225-1779978600-1779989400@www.u3aburystedmunds.co.uk
SUMMARY:Petanque
DESCRIPTION:We are now going to be playing at Moreton Hall Community Centre\, Symonds Road\, IP32 7EE. All players must join Moreton Hall at a cost of £10 per year. Membership entitles you to use the club any time you like and you get a discounted rate on drinks. \nThere is a big car park at the hall which is free.
URL:https://www.u3aburystedmunds.co.uk/event/petanque/2026-05-28/
LOCATION:Moreton Hall Community Centre\, Symonds Road\, Bury St Edmunds\, Suffolk\, IP32\, United Kingdom
CATEGORIES:Sport,Study Group
ATTACH;FMTTYPE=image/png:https://www.u3aburystedmunds.co.uk/wp-content/uploads/2019/05/petanque.png
ORGANIZER;CN="Sue Hawthorn":MAILTO:suehawthorn65@gmail.com
GEO:52.2438503;0.7365108
X-APPLE-STRUCTURED-LOCATION;VALUE=URI;X-ADDRESS=Moreton Hall Community Centre Symonds Road Bury St Edmunds Suffolk IP32 United Kingdom;X-APPLE-RADIUS=500;X-TITLE=Symonds Road:geo:0.7365108,52.2438503
END:VEVENT
BEGIN:VEVENT
DTSTART;TZID=Europe/London:20260601T143000
DTEND;TZID=Europe/London:20260601T173000
DTSTAMP:20260421T132141
CREATED:20250807T151806Z
LAST-MODIFIED:20260127T141318Z
UID:10005226-1780324200-1780335000@www.u3aburystedmunds.co.uk
SUMMARY:Petanque
DESCRIPTION:We are now going to be playing at Moreton Hall Community Centre\, Symonds Road\, IP32 7EE. All players must join Moreton Hall at a cost of £10 per year. Membership entitles you to use the club any time you like and you get a discounted rate on drinks. \nThere is a big car park at the hall which is free.
URL:https://www.u3aburystedmunds.co.uk/event/petanque/2026-06-01/
LOCATION:Moreton Hall Community Centre\, Symonds Road\, Bury St Edmunds\, Suffolk\, IP32\, United Kingdom
CATEGORIES:Sport,Study Group
ATTACH;FMTTYPE=image/png:https://www.u3aburystedmunds.co.uk/wp-content/uploads/2019/05/petanque.png
ORGANIZER;CN="Sue Hawthorn":MAILTO:suehawthorn65@gmail.com
GEO:52.2438503;0.7365108
X-APPLE-STRUCTURED-LOCATION;VALUE=URI;X-ADDRESS=Moreton Hall Community Centre Symonds Road Bury St Edmunds Suffolk IP32 United Kingdom;X-APPLE-RADIUS=500;X-TITLE=Symonds Road:geo:0.7365108,52.2438503
END:VEVENT
BEGIN:VEVENT
DTSTART;TZID=Europe/London:20260604T143000
DTEND;TZID=Europe/London:20260604T173000
DTSTAMP:20260421T132141
CREATED:20250807T151806Z
LAST-MODIFIED:20260127T141318Z
UID:10005227-1780583400-1780594200@www.u3aburystedmunds.co.uk
SUMMARY:Petanque
DESCRIPTION:We are now going to be playing at Moreton Hall Community Centre\, Symonds Road\, IP32 7EE. All players must join Moreton Hall at a cost of £10 per year. Membership entitles you to use the club any time you like and you get a discounted rate on drinks. \nThere is a big car park at the hall which is free.
URL:https://www.u3aburystedmunds.co.uk/event/petanque/2026-06-04/
LOCATION:Moreton Hall Community Centre\, Symonds Road\, Bury St Edmunds\, Suffolk\, IP32\, United Kingdom
CATEGORIES:Sport,Study Group
ATTACH;FMTTYPE=image/png:https://www.u3aburystedmunds.co.uk/wp-content/uploads/2019/05/petanque.png
ORGANIZER;CN="Sue Hawthorn":MAILTO:suehawthorn65@gmail.com
GEO:52.2438503;0.7365108
X-APPLE-STRUCTURED-LOCATION;VALUE=URI;X-ADDRESS=Moreton Hall Community Centre Symonds Road Bury St Edmunds Suffolk IP32 United Kingdom;X-APPLE-RADIUS=500;X-TITLE=Symonds Road:geo:0.7365108,52.2438503
END:VEVENT
END:VCALENDAR