
BEGIN:VCALENDAR
VERSION:2.0
PRODID:-//u3a Bury St Edmunds - ECPv6.15.20//NONSGML v1.0//EN
CALSCALE:GREGORIAN
METHOD:PUBLISH
X-WR-CALNAME:u3a Bury St Edmunds
X-ORIGINAL-URL:https://www.u3aburystedmunds.co.uk
X-WR-CALDESC:Events for u3a Bury St Edmunds
REFRESH-INTERVAL;VALUE=DURATION:PT1H
X-Robots-Tag:noindex
X-PUBLISHED-TTL:PT1H
BEGIN:VTIMEZONE
TZID:Europe/London
BEGIN:DAYLIGHT
TZOFFSETFROM:+0000
TZOFFSETTO:+0100
TZNAME:BST
DTSTART:20250330T010000
END:DAYLIGHT
BEGIN:STANDARD
TZOFFSETFROM:+0100
TZOFFSETTO:+0000
TZNAME:GMT
DTSTART:20251026T010000
END:STANDARD
BEGIN:DAYLIGHT
TZOFFSETFROM:+0000
TZOFFSETTO:+0100
TZNAME:BST
DTSTART:20260329T010000
END:DAYLIGHT
BEGIN:STANDARD
TZOFFSETFROM:+0100
TZOFFSETTO:+0000
TZNAME:GMT
DTSTART:20261025T010000
END:STANDARD
BEGIN:DAYLIGHT
TZOFFSETFROM:+0000
TZOFFSETTO:+0100
TZNAME:BST
DTSTART:20270328T010000
END:DAYLIGHT
BEGIN:STANDARD
TZOFFSETFROM:+0100
TZOFFSETTO:+0000
TZNAME:GMT
DTSTART:20271031T010000
END:STANDARD
END:VTIMEZONE
BEGIN:VEVENT
DTSTART;TZID=Europe/London:20260512T110000
DTEND;TZID=Europe/London:20260512T123000
DTSTAMP:20260421T171150
CREATED:20220324T090153Z
LAST-MODIFIED:20260123T110753Z
UID:10005465-1778583600-1778589000@www.u3aburystedmunds.co.uk
SUMMARY:Government and Politics
DESCRIPTION:We are a lively and participative group with members offering to lead discussions on a range of issues. \n**NOTE** Start time of 10.30 for February & March meetings.
URL:https://www.u3aburystedmunds.co.uk/event/government-and-politics/2026-05-12/
LOCATION:Thomas Clarkson Centre\, Hospital Road\, Bury St Edmunds\, IP33 3JT
CATEGORIES:Social Sciences,Study Group
ATTACH;FMTTYPE=image/jpeg:https://www.u3aburystedmunds.co.uk/wp-content/uploads/2018/05/GandP.jpg
ORGANIZER;CN="David Dawson":MAILTO:daviddawson440@hotmail.com
GEO:52.2409283;0.7106738
X-APPLE-STRUCTURED-LOCATION;VALUE=URI;X-ADDRESS=Thomas Clarkson Centre Hospital Road Bury St Edmunds IP33 3JT;X-APPLE-RADIUS=500;X-TITLE=Hospital Road:geo:0.7106738,52.2409283
END:VEVENT
END:VCALENDAR