
BEGIN:VCALENDAR
VERSION:2.0
PRODID:-//u3a Bury St Edmunds - ECPv6.15.20//NONSGML v1.0//EN
CALSCALE:GREGORIAN
METHOD:PUBLISH
X-WR-CALNAME:u3a Bury St Edmunds
X-ORIGINAL-URL:https://www.u3aburystedmunds.co.uk
X-WR-CALDESC:Events for u3a Bury St Edmunds
REFRESH-INTERVAL;VALUE=DURATION:PT1H
X-Robots-Tag:noindex
X-PUBLISHED-TTL:PT1H
BEGIN:VTIMEZONE
TZID:Europe/London
BEGIN:DAYLIGHT
TZOFFSETFROM:+0000
TZOFFSETTO:+0100
TZNAME:BST
DTSTART:20250330T010000
END:DAYLIGHT
BEGIN:STANDARD
TZOFFSETFROM:+0100
TZOFFSETTO:+0000
TZNAME:GMT
DTSTART:20251026T010000
END:STANDARD
BEGIN:DAYLIGHT
TZOFFSETFROM:+0000
TZOFFSETTO:+0100
TZNAME:BST
DTSTART:20260329T010000
END:DAYLIGHT
BEGIN:STANDARD
TZOFFSETFROM:+0100
TZOFFSETTO:+0000
TZNAME:GMT
DTSTART:20261025T010000
END:STANDARD
BEGIN:DAYLIGHT
TZOFFSETFROM:+0000
TZOFFSETTO:+0100
TZNAME:BST
DTSTART:20270328T010000
END:DAYLIGHT
BEGIN:STANDARD
TZOFFSETFROM:+0100
TZOFFSETTO:+0000
TZNAME:GMT
DTSTART:20271031T010000
END:STANDARD
END:VTIMEZONE
BEGIN:VEVENT
DTSTART;TZID=Europe/London:20260423T100000
DTEND;TZID=Europe/London:20260423T120000
DTSTAMP:20260421T152623
CREATED:20220325T160132Z
LAST-MODIFIED:20250813T100139Z
UID:10005745-1776938400-1776945600@www.u3aburystedmunds.co.uk
SUMMARY:Bridge
DESCRIPTION:We are a friendly mixed ability group with about 40 people attending each week. We can accommodate a few more people and you do not need to bring a partner as you will always get a game. We meet upstairs at The Apex. \nThere is no charge but members are encouraged to buy a drink from The Apex Coffee Shop.
URL:https://www.u3aburystedmunds.co.uk/event/bridge/2026-04-23/
LOCATION:The Apex\, Charter Square\, Bury St Edmunds\, Suffolk\, IP33 3FD\, United Kingdom
CATEGORIES:Leisure,Study Group
ATTACH;FMTTYPE=image/jpeg:https://www.u3aburystedmunds.co.uk/wp-content/uploads/2022/03/bridge-2.jpeg
ORGANIZER;CN="Chris Park":MAILTO:chrisandamandap@sky.com
GEO:52.2458045;0.7099607
X-APPLE-STRUCTURED-LOCATION;VALUE=URI;X-ADDRESS=The Apex Charter Square Bury St Edmunds Suffolk IP33 3FD United Kingdom;X-APPLE-RADIUS=500;X-TITLE=Charter Square:geo:0.7099607,52.2458045
END:VEVENT
BEGIN:VEVENT
DTSTART;TZID=Europe/London:20260430T100000
DTEND;TZID=Europe/London:20260430T120000
DTSTAMP:20260421T152623
CREATED:20220325T160132Z
LAST-MODIFIED:20250813T100139Z
UID:10005746-1777543200-1777550400@www.u3aburystedmunds.co.uk
SUMMARY:Bridge
DESCRIPTION:We are a friendly mixed ability group with about 40 people attending each week. We can accommodate a few more people and you do not need to bring a partner as you will always get a game. We meet upstairs at The Apex. \nThere is no charge but members are encouraged to buy a drink from The Apex Coffee Shop.
URL:https://www.u3aburystedmunds.co.uk/event/bridge/2026-04-30/
LOCATION:The Apex\, Charter Square\, Bury St Edmunds\, Suffolk\, IP33 3FD\, United Kingdom
CATEGORIES:Leisure,Study Group
ATTACH;FMTTYPE=image/jpeg:https://www.u3aburystedmunds.co.uk/wp-content/uploads/2022/03/bridge-2.jpeg
ORGANIZER;CN="Chris Park":MAILTO:chrisandamandap@sky.com
GEO:52.2458045;0.7099607
X-APPLE-STRUCTURED-LOCATION;VALUE=URI;X-ADDRESS=The Apex Charter Square Bury St Edmunds Suffolk IP33 3FD United Kingdom;X-APPLE-RADIUS=500;X-TITLE=Charter Square:geo:0.7099607,52.2458045
END:VEVENT
BEGIN:VEVENT
DTSTART;TZID=Europe/London:20260507T100000
DTEND;TZID=Europe/London:20260507T120000
DTSTAMP:20260421T152623
CREATED:20220325T160132Z
LAST-MODIFIED:20250813T100139Z
UID:10005747-1778148000-1778155200@www.u3aburystedmunds.co.uk
SUMMARY:Bridge
DESCRIPTION:We are a friendly mixed ability group with about 40 people attending each week. We can accommodate a few more people and you do not need to bring a partner as you will always get a game. We meet upstairs at The Apex. \nThere is no charge but members are encouraged to buy a drink from The Apex Coffee Shop.
URL:https://www.u3aburystedmunds.co.uk/event/bridge/2026-05-07/
LOCATION:The Apex\, Charter Square\, Bury St Edmunds\, Suffolk\, IP33 3FD\, United Kingdom
CATEGORIES:Leisure,Study Group
ATTACH;FMTTYPE=image/jpeg:https://www.u3aburystedmunds.co.uk/wp-content/uploads/2022/03/bridge-2.jpeg
ORGANIZER;CN="Chris Park":MAILTO:chrisandamandap@sky.com
GEO:52.2458045;0.7099607
X-APPLE-STRUCTURED-LOCATION;VALUE=URI;X-ADDRESS=The Apex Charter Square Bury St Edmunds Suffolk IP33 3FD United Kingdom;X-APPLE-RADIUS=500;X-TITLE=Charter Square:geo:0.7099607,52.2458045
END:VEVENT
BEGIN:VEVENT
DTSTART;TZID=Europe/London:20260514T100000
DTEND;TZID=Europe/London:20260514T120000
DTSTAMP:20260421T152623
CREATED:20220325T160132Z
LAST-MODIFIED:20250813T100139Z
UID:10005748-1778752800-1778760000@www.u3aburystedmunds.co.uk
SUMMARY:Bridge
DESCRIPTION:We are a friendly mixed ability group with about 40 people attending each week. We can accommodate a few more people and you do not need to bring a partner as you will always get a game. We meet upstairs at The Apex. \nThere is no charge but members are encouraged to buy a drink from The Apex Coffee Shop.
URL:https://www.u3aburystedmunds.co.uk/event/bridge/2026-05-14/
LOCATION:The Apex\, Charter Square\, Bury St Edmunds\, Suffolk\, IP33 3FD\, United Kingdom
CATEGORIES:Leisure,Study Group
ATTACH;FMTTYPE=image/jpeg:https://www.u3aburystedmunds.co.uk/wp-content/uploads/2022/03/bridge-2.jpeg
ORGANIZER;CN="Chris Park":MAILTO:chrisandamandap@sky.com
GEO:52.2458045;0.7099607
X-APPLE-STRUCTURED-LOCATION;VALUE=URI;X-ADDRESS=The Apex Charter Square Bury St Edmunds Suffolk IP33 3FD United Kingdom;X-APPLE-RADIUS=500;X-TITLE=Charter Square:geo:0.7099607,52.2458045
END:VEVENT
BEGIN:VEVENT
DTSTART;TZID=Europe/London:20260521T100000
DTEND;TZID=Europe/London:20260521T120000
DTSTAMP:20260421T152623
CREATED:20220325T160132Z
LAST-MODIFIED:20250813T100139Z
UID:10005749-1779357600-1779364800@www.u3aburystedmunds.co.uk
SUMMARY:Bridge
DESCRIPTION:We are a friendly mixed ability group with about 40 people attending each week. We can accommodate a few more people and you do not need to bring a partner as you will always get a game. We meet upstairs at The Apex. \nThere is no charge but members are encouraged to buy a drink from The Apex Coffee Shop.
URL:https://www.u3aburystedmunds.co.uk/event/bridge/2026-05-21/
LOCATION:The Apex\, Charter Square\, Bury St Edmunds\, Suffolk\, IP33 3FD\, United Kingdom
CATEGORIES:Leisure,Study Group
ATTACH;FMTTYPE=image/jpeg:https://www.u3aburystedmunds.co.uk/wp-content/uploads/2022/03/bridge-2.jpeg
ORGANIZER;CN="Chris Park":MAILTO:chrisandamandap@sky.com
GEO:52.2458045;0.7099607
X-APPLE-STRUCTURED-LOCATION;VALUE=URI;X-ADDRESS=The Apex Charter Square Bury St Edmunds Suffolk IP33 3FD United Kingdom;X-APPLE-RADIUS=500;X-TITLE=Charter Square:geo:0.7099607,52.2458045
END:VEVENT
BEGIN:VEVENT
DTSTART;TZID=Europe/London:20260528T100000
DTEND;TZID=Europe/London:20260528T120000
DTSTAMP:20260421T152623
CREATED:20220325T160132Z
LAST-MODIFIED:20250813T100139Z
UID:10005750-1779962400-1779969600@www.u3aburystedmunds.co.uk
SUMMARY:Bridge
DESCRIPTION:We are a friendly mixed ability group with about 40 people attending each week. We can accommodate a few more people and you do not need to bring a partner as you will always get a game. We meet upstairs at The Apex. \nThere is no charge but members are encouraged to buy a drink from The Apex Coffee Shop.
URL:https://www.u3aburystedmunds.co.uk/event/bridge/2026-05-28/
LOCATION:The Apex\, Charter Square\, Bury St Edmunds\, Suffolk\, IP33 3FD\, United Kingdom
CATEGORIES:Leisure,Study Group
ATTACH;FMTTYPE=image/jpeg:https://www.u3aburystedmunds.co.uk/wp-content/uploads/2022/03/bridge-2.jpeg
ORGANIZER;CN="Chris Park":MAILTO:chrisandamandap@sky.com
GEO:52.2458045;0.7099607
X-APPLE-STRUCTURED-LOCATION;VALUE=URI;X-ADDRESS=The Apex Charter Square Bury St Edmunds Suffolk IP33 3FD United Kingdom;X-APPLE-RADIUS=500;X-TITLE=Charter Square:geo:0.7099607,52.2458045
END:VEVENT
BEGIN:VEVENT
DTSTART;TZID=Europe/London:20260604T100000
DTEND;TZID=Europe/London:20260604T120000
DTSTAMP:20260421T152623
CREATED:20220325T160132Z
LAST-MODIFIED:20250813T100139Z
UID:10005751-1780567200-1780574400@www.u3aburystedmunds.co.uk
SUMMARY:Bridge
DESCRIPTION:We are a friendly mixed ability group with about 40 people attending each week. We can accommodate a few more people and you do not need to bring a partner as you will always get a game. We meet upstairs at The Apex. \nThere is no charge but members are encouraged to buy a drink from The Apex Coffee Shop.
URL:https://www.u3aburystedmunds.co.uk/event/bridge/2026-06-04/
LOCATION:The Apex\, Charter Square\, Bury St Edmunds\, Suffolk\, IP33 3FD\, United Kingdom
CATEGORIES:Leisure,Study Group
ATTACH;FMTTYPE=image/jpeg:https://www.u3aburystedmunds.co.uk/wp-content/uploads/2022/03/bridge-2.jpeg
ORGANIZER;CN="Chris Park":MAILTO:chrisandamandap@sky.com
GEO:52.2458045;0.7099607
X-APPLE-STRUCTURED-LOCATION;VALUE=URI;X-ADDRESS=The Apex Charter Square Bury St Edmunds Suffolk IP33 3FD United Kingdom;X-APPLE-RADIUS=500;X-TITLE=Charter Square:geo:0.7099607,52.2458045
END:VEVENT
END:VCALENDAR