
BEGIN:VCALENDAR
VERSION:2.0
PRODID:-//u3a Bury St Edmunds - ECPv6.15.20//NONSGML v1.0//EN
CALSCALE:GREGORIAN
METHOD:PUBLISH
X-WR-CALNAME:u3a Bury St Edmunds
X-ORIGINAL-URL:https://www.u3aburystedmunds.co.uk
X-WR-CALDESC:Events for u3a Bury St Edmunds
REFRESH-INTERVAL;VALUE=DURATION:PT1H
X-Robots-Tag:noindex
X-PUBLISHED-TTL:PT1H
BEGIN:VTIMEZONE
TZID:Europe/London
BEGIN:DAYLIGHT
TZOFFSETFROM:+0000
TZOFFSETTO:+0100
TZNAME:BST
DTSTART:20250330T010000
END:DAYLIGHT
BEGIN:STANDARD
TZOFFSETFROM:+0100
TZOFFSETTO:+0000
TZNAME:GMT
DTSTART:20251026T010000
END:STANDARD
BEGIN:DAYLIGHT
TZOFFSETFROM:+0000
TZOFFSETTO:+0100
TZNAME:BST
DTSTART:20260329T010000
END:DAYLIGHT
BEGIN:STANDARD
TZOFFSETFROM:+0100
TZOFFSETTO:+0000
TZNAME:GMT
DTSTART:20261025T010000
END:STANDARD
BEGIN:DAYLIGHT
TZOFFSETFROM:+0000
TZOFFSETTO:+0100
TZNAME:BST
DTSTART:20270328T010000
END:DAYLIGHT
BEGIN:STANDARD
TZOFFSETFROM:+0100
TZOFFSETTO:+0000
TZNAME:GMT
DTSTART:20271031T010000
END:STANDARD
END:VTIMEZONE
BEGIN:VEVENT
DTSTART;TZID=Europe/London:20260512T120000
DTEND;TZID=Europe/London:20260512T160000
DTSTAMP:20260423T112809
CREATED:20240228T143040Z
LAST-MODIFIED:20260110T113805Z
UID:10007760-1778587200-1778601600@www.u3aburystedmunds.co.uk
SUMMARY:Cribbage Tuesday Group
DESCRIPTION:An oversubscription of the popular Cribbage group triggered the creation of this new Cribbage: Tuesday group \nAlthough now at a different venue\, we follow a similar format.  organising into groups of 2\,3 or 4 to play rounds of cribbage over good food with friendly people.  Boards are provided.  All are welcome whether novice or veteran.
URL:https://www.u3aburystedmunds.co.uk/event/cribbage-tuesday-group/2026-05-12/
LOCATION:The Fox Inn\, 1\, Eastgate Street\, Bury St Edmunds\, Suffolk\, IP33 1XX\, United Kingdom
CATEGORIES:Leisure,Study Group
ATTACH;FMTTYPE=image/jpeg:https://www.u3aburystedmunds.co.uk/wp-content/uploads/2019/05/Cribbage-Tuesday.jpg
ORGANIZER;CN="Richard Sabatini":MAILTO:r2sabatini@icloud.com
GEO:52.2474277;0.7224278
X-APPLE-STRUCTURED-LOCATION;VALUE=URI;X-ADDRESS=The Fox Inn 1 Eastgate Street Bury St Edmunds Suffolk IP33 1XX United Kingdom;X-APPLE-RADIUS=500;X-TITLE=1\, Eastgate Street:geo:0.7224278,52.2474277
END:VEVENT
BEGIN:VEVENT
DTSTART;TZID=Europe/London:20260609T120000
DTEND;TZID=Europe/London:20260609T160000
DTSTAMP:20260423T112809
CREATED:20240228T143040Z
LAST-MODIFIED:20260110T113805Z
UID:10013082-1781006400-1781020800@www.u3aburystedmunds.co.uk
SUMMARY:Cribbage Tuesday Group
DESCRIPTION:An oversubscription of the popular Cribbage group triggered the creation of this new Cribbage: Tuesday group \nAlthough now at a different venue\, we follow a similar format.  organising into groups of 2\,3 or 4 to play rounds of cribbage over good food with friendly people.  Boards are provided.  All are welcome whether novice or veteran.
URL:https://www.u3aburystedmunds.co.uk/event/cribbage-tuesday-group/2026-06-09/
LOCATION:The Fox Inn\, 1\, Eastgate Street\, Bury St Edmunds\, Suffolk\, IP33 1XX\, United Kingdom
CATEGORIES:Leisure,Study Group
ATTACH;FMTTYPE=image/jpeg:https://www.u3aburystedmunds.co.uk/wp-content/uploads/2019/05/Cribbage-Tuesday.jpg
ORGANIZER;CN="Richard Sabatini":MAILTO:r2sabatini@icloud.com
GEO:52.2474277;0.7224278
X-APPLE-STRUCTURED-LOCATION;VALUE=URI;X-ADDRESS=The Fox Inn 1 Eastgate Street Bury St Edmunds Suffolk IP33 1XX United Kingdom;X-APPLE-RADIUS=500;X-TITLE=1\, Eastgate Street:geo:0.7224278,52.2474277
END:VEVENT
BEGIN:VEVENT
DTSTART;TZID=Europe/London:20260714T120000
DTEND;TZID=Europe/London:20260714T160000
DTSTAMP:20260423T112809
CREATED:20240228T143040Z
LAST-MODIFIED:20260110T113805Z
UID:10013083-1784030400-1784044800@www.u3aburystedmunds.co.uk
SUMMARY:Cribbage Tuesday Group
DESCRIPTION:An oversubscription of the popular Cribbage group triggered the creation of this new Cribbage: Tuesday group \nAlthough now at a different venue\, we follow a similar format.  organising into groups of 2\,3 or 4 to play rounds of cribbage over good food with friendly people.  Boards are provided.  All are welcome whether novice or veteran.
URL:https://www.u3aburystedmunds.co.uk/event/cribbage-tuesday-group/2026-07-14/
LOCATION:The Fox Inn\, 1\, Eastgate Street\, Bury St Edmunds\, Suffolk\, IP33 1XX\, United Kingdom
CATEGORIES:Leisure,Study Group
ATTACH;FMTTYPE=image/jpeg:https://www.u3aburystedmunds.co.uk/wp-content/uploads/2019/05/Cribbage-Tuesday.jpg
ORGANIZER;CN="Richard Sabatini":MAILTO:r2sabatini@icloud.com
GEO:52.2474277;0.7224278
X-APPLE-STRUCTURED-LOCATION;VALUE=URI;X-ADDRESS=The Fox Inn 1 Eastgate Street Bury St Edmunds Suffolk IP33 1XX United Kingdom;X-APPLE-RADIUS=500;X-TITLE=1\, Eastgate Street:geo:0.7224278,52.2474277
END:VEVENT
BEGIN:VEVENT
DTSTART;TZID=Europe/London:20260811T120000
DTEND;TZID=Europe/London:20260811T160000
DTSTAMP:20260423T112809
CREATED:20240228T143040Z
LAST-MODIFIED:20260110T113805Z
UID:10013084-1786449600-1786464000@www.u3aburystedmunds.co.uk
SUMMARY:Cribbage Tuesday Group
DESCRIPTION:An oversubscription of the popular Cribbage group triggered the creation of this new Cribbage: Tuesday group \nAlthough now at a different venue\, we follow a similar format.  organising into groups of 2\,3 or 4 to play rounds of cribbage over good food with friendly people.  Boards are provided.  All are welcome whether novice or veteran.
URL:https://www.u3aburystedmunds.co.uk/event/cribbage-tuesday-group/2026-08-11/
LOCATION:The Fox Inn\, 1\, Eastgate Street\, Bury St Edmunds\, Suffolk\, IP33 1XX\, United Kingdom
CATEGORIES:Leisure,Study Group
ATTACH;FMTTYPE=image/jpeg:https://www.u3aburystedmunds.co.uk/wp-content/uploads/2019/05/Cribbage-Tuesday.jpg
ORGANIZER;CN="Richard Sabatini":MAILTO:r2sabatini@icloud.com
GEO:52.2474277;0.7224278
X-APPLE-STRUCTURED-LOCATION;VALUE=URI;X-ADDRESS=The Fox Inn 1 Eastgate Street Bury St Edmunds Suffolk IP33 1XX United Kingdom;X-APPLE-RADIUS=500;X-TITLE=1\, Eastgate Street:geo:0.7224278,52.2474277
END:VEVENT
BEGIN:VEVENT
DTSTART;TZID=Europe/London:20260908T120000
DTEND;TZID=Europe/London:20260908T160000
DTSTAMP:20260423T112809
CREATED:20240228T143040Z
LAST-MODIFIED:20260110T113805Z
UID:10013085-1788868800-1788883200@www.u3aburystedmunds.co.uk
SUMMARY:Cribbage Tuesday Group
DESCRIPTION:An oversubscription of the popular Cribbage group triggered the creation of this new Cribbage: Tuesday group \nAlthough now at a different venue\, we follow a similar format.  organising into groups of 2\,3 or 4 to play rounds of cribbage over good food with friendly people.  Boards are provided.  All are welcome whether novice or veteran.
URL:https://www.u3aburystedmunds.co.uk/event/cribbage-tuesday-group/2026-09-08/
LOCATION:The Fox Inn\, 1\, Eastgate Street\, Bury St Edmunds\, Suffolk\, IP33 1XX\, United Kingdom
CATEGORIES:Leisure,Study Group
ATTACH;FMTTYPE=image/jpeg:https://www.u3aburystedmunds.co.uk/wp-content/uploads/2019/05/Cribbage-Tuesday.jpg
ORGANIZER;CN="Richard Sabatini":MAILTO:r2sabatini@icloud.com
GEO:52.2474277;0.7224278
X-APPLE-STRUCTURED-LOCATION;VALUE=URI;X-ADDRESS=The Fox Inn 1 Eastgate Street Bury St Edmunds Suffolk IP33 1XX United Kingdom;X-APPLE-RADIUS=500;X-TITLE=1\, Eastgate Street:geo:0.7224278,52.2474277
END:VEVENT
BEGIN:VEVENT
DTSTART;TZID=Europe/London:20261013T120000
DTEND;TZID=Europe/London:20261013T160000
DTSTAMP:20260423T112809
CREATED:20240228T143040Z
LAST-MODIFIED:20260110T113805Z
UID:10013086-1791892800-1791907200@www.u3aburystedmunds.co.uk
SUMMARY:Cribbage Tuesday Group
DESCRIPTION:An oversubscription of the popular Cribbage group triggered the creation of this new Cribbage: Tuesday group \nAlthough now at a different venue\, we follow a similar format.  organising into groups of 2\,3 or 4 to play rounds of cribbage over good food with friendly people.  Boards are provided.  All are welcome whether novice or veteran.
URL:https://www.u3aburystedmunds.co.uk/event/cribbage-tuesday-group/2026-10-13/
LOCATION:The Fox Inn\, 1\, Eastgate Street\, Bury St Edmunds\, Suffolk\, IP33 1XX\, United Kingdom
CATEGORIES:Leisure,Study Group
ATTACH;FMTTYPE=image/jpeg:https://www.u3aburystedmunds.co.uk/wp-content/uploads/2019/05/Cribbage-Tuesday.jpg
ORGANIZER;CN="Richard Sabatini":MAILTO:r2sabatini@icloud.com
GEO:52.2474277;0.7224278
X-APPLE-STRUCTURED-LOCATION;VALUE=URI;X-ADDRESS=The Fox Inn 1 Eastgate Street Bury St Edmunds Suffolk IP33 1XX United Kingdom;X-APPLE-RADIUS=500;X-TITLE=1\, Eastgate Street:geo:0.7224278,52.2474277
END:VEVENT
END:VCALENDAR