
BEGIN:VCALENDAR
VERSION:2.0
PRODID:-//u3a Bury St Edmunds - ECPv6.15.20//NONSGML v1.0//EN
CALSCALE:GREGORIAN
METHOD:PUBLISH
X-WR-CALNAME:u3a Bury St Edmunds
X-ORIGINAL-URL:https://www.u3aburystedmunds.co.uk
X-WR-CALDESC:Events for u3a Bury St Edmunds
REFRESH-INTERVAL;VALUE=DURATION:PT1H
X-Robots-Tag:noindex
X-PUBLISHED-TTL:PT1H
BEGIN:VTIMEZONE
TZID:Europe/London
BEGIN:DAYLIGHT
TZOFFSETFROM:+0000
TZOFFSETTO:+0100
TZNAME:BST
DTSTART:20250330T010000
END:DAYLIGHT
BEGIN:STANDARD
TZOFFSETFROM:+0100
TZOFFSETTO:+0000
TZNAME:GMT
DTSTART:20251026T010000
END:STANDARD
BEGIN:DAYLIGHT
TZOFFSETFROM:+0000
TZOFFSETTO:+0100
TZNAME:BST
DTSTART:20260329T010000
END:DAYLIGHT
BEGIN:STANDARD
TZOFFSETFROM:+0100
TZOFFSETTO:+0000
TZNAME:GMT
DTSTART:20261025T010000
END:STANDARD
BEGIN:DAYLIGHT
TZOFFSETFROM:+0000
TZOFFSETTO:+0100
TZNAME:BST
DTSTART:20270328T010000
END:DAYLIGHT
BEGIN:STANDARD
TZOFFSETFROM:+0100
TZOFFSETTO:+0000
TZNAME:GMT
DTSTART:20271031T010000
END:STANDARD
END:VTIMEZONE
BEGIN:VEVENT
DTSTART;TZID=Europe/London:20260427T140000
DTEND;TZID=Europe/London:20260427T160000
DTSTAMP:20260421T145535
CREATED:20240610T173433Z
LAST-MODIFIED:20251216T150944Z
UID:10007808-1777298400-1777305600@www.u3aburystedmunds.co.uk
SUMMARY:Cryptic Crosswords
DESCRIPTION:We are a group exploring and developing our skills in Cryptic Crosswords. Solving abilities in the group range from the novice to more experienced solvers. \nThe group is led by John Moody\, an experienced cryptic crossword solver\, blogger and compiler. John is a Times Crossword Championship semi-finalist\, leader of the crossword blogging site “Times for The Times” and founding compiler and editor of the Weekend Quick Cryptic Crossword series. \nPeople who are keen to learn are as welcome as those who have some existing knowledge.
URL:https://www.u3aburystedmunds.co.uk/event/cryptic-crosswords/2026-04-27/
LOCATION:The Apex\, Charter Square\, Bury St Edmunds\, Suffolk\, IP33 3FD\, United Kingdom
CATEGORIES:Leisure,Study Group
ATTACH;FMTTYPE=image/jpeg:https://www.u3aburystedmunds.co.uk/wp-content/uploads/2024/06/Crossword-Book.jpg
ORGANIZER;CN="John Moody":MAILTO:jrmoody159@btinternet.com
GEO:52.2458045;0.7099607
X-APPLE-STRUCTURED-LOCATION;VALUE=URI;X-ADDRESS=The Apex Charter Square Bury St Edmunds Suffolk IP33 3FD United Kingdom;X-APPLE-RADIUS=500;X-TITLE=Charter Square:geo:0.7099607,52.2458045
END:VEVENT
BEGIN:VEVENT
DTSTART;TZID=Europe/London:20260525T140000
DTEND;TZID=Europe/London:20260525T160000
DTSTAMP:20260421T145535
CREATED:20240610T173433Z
LAST-MODIFIED:20251216T150944Z
UID:10007809-1779717600-1779724800@www.u3aburystedmunds.co.uk
SUMMARY:Cryptic Crosswords
DESCRIPTION:We are a group exploring and developing our skills in Cryptic Crosswords. Solving abilities in the group range from the novice to more experienced solvers. \nThe group is led by John Moody\, an experienced cryptic crossword solver\, blogger and compiler. John is a Times Crossword Championship semi-finalist\, leader of the crossword blogging site “Times for The Times” and founding compiler and editor of the Weekend Quick Cryptic Crossword series. \nPeople who are keen to learn are as welcome as those who have some existing knowledge.
URL:https://www.u3aburystedmunds.co.uk/event/cryptic-crosswords/2026-05-25/
LOCATION:The Apex\, Charter Square\, Bury St Edmunds\, Suffolk\, IP33 3FD\, United Kingdom
CATEGORIES:Leisure,Study Group
ATTACH;FMTTYPE=image/jpeg:https://www.u3aburystedmunds.co.uk/wp-content/uploads/2024/06/Crossword-Book.jpg
ORGANIZER;CN="John Moody":MAILTO:jrmoody159@btinternet.com
GEO:52.2458045;0.7099607
X-APPLE-STRUCTURED-LOCATION;VALUE=URI;X-ADDRESS=The Apex Charter Square Bury St Edmunds Suffolk IP33 3FD United Kingdom;X-APPLE-RADIUS=500;X-TITLE=Charter Square:geo:0.7099607,52.2458045
END:VEVENT
END:VCALENDAR