
BEGIN:VCALENDAR
VERSION:2.0
PRODID:-//u3a Bury St Edmunds - ECPv6.15.20//NONSGML v1.0//EN
CALSCALE:GREGORIAN
METHOD:PUBLISH
X-WR-CALNAME:u3a Bury St Edmunds
X-ORIGINAL-URL:https://www.u3aburystedmunds.co.uk
X-WR-CALDESC:Events for u3a Bury St Edmunds
REFRESH-INTERVAL;VALUE=DURATION:PT1H
X-Robots-Tag:noindex
X-PUBLISHED-TTL:PT1H
BEGIN:VTIMEZONE
TZID:Europe/London
BEGIN:DAYLIGHT
TZOFFSETFROM:+0000
TZOFFSETTO:+0100
TZNAME:BST
DTSTART:20250330T010000
END:DAYLIGHT
BEGIN:STANDARD
TZOFFSETFROM:+0100
TZOFFSETTO:+0000
TZNAME:GMT
DTSTART:20251026T010000
END:STANDARD
BEGIN:DAYLIGHT
TZOFFSETFROM:+0000
TZOFFSETTO:+0100
TZNAME:BST
DTSTART:20260329T010000
END:DAYLIGHT
BEGIN:STANDARD
TZOFFSETFROM:+0100
TZOFFSETTO:+0000
TZNAME:GMT
DTSTART:20261025T010000
END:STANDARD
BEGIN:DAYLIGHT
TZOFFSETFROM:+0000
TZOFFSETTO:+0100
TZNAME:BST
DTSTART:20270328T010000
END:DAYLIGHT
BEGIN:STANDARD
TZOFFSETFROM:+0100
TZOFFSETTO:+0000
TZNAME:GMT
DTSTART:20271031T010000
END:STANDARD
END:VTIMEZONE
BEGIN:VEVENT
DTSTART;TZID=Europe/London:20260428T120000
DTEND;TZID=Europe/London:20260428T150000
DTSTAMP:20260421T170304
CREATED:20240826T104806Z
LAST-MODIFIED:20251216T221413Z
UID:10007951-1777377600-1777388400@www.u3aburystedmunds.co.uk
SUMMARY:Lunch Group 1
DESCRIPTION:We are a group of people who enjoy socialising and eating! \nWe meet on the 4th Tuesday of each month at 12.00 at a previously agreed venue for lunch. The venue for the following meeting is decided by those present giving everyone a chance to participate and introduce us to new places. It is planned that venues will be in Bury and surrounding areas not too far out of town.
URL:https://www.u3aburystedmunds.co.uk/event/lunch-group/2026-04-28/
CATEGORIES:Leisure,Study Group
ATTACH;FMTTYPE=image/jpeg:https://www.u3aburystedmunds.co.uk/wp-content/uploads/2024/08/Restaurant-BSE-scaled.jpg
ORGANIZER;CN="Mavis Winders":MAILTO:maviswinders4@btinternet.com
END:VEVENT
BEGIN:VEVENT
DTSTART;TZID=Europe/London:20260526T120000
DTEND;TZID=Europe/London:20260526T150000
DTSTAMP:20260421T170304
CREATED:20240826T104806Z
LAST-MODIFIED:20251216T221413Z
UID:10007952-1779796800-1779807600@www.u3aburystedmunds.co.uk
SUMMARY:Lunch Group 1
DESCRIPTION:We are a group of people who enjoy socialising and eating! \nWe meet on the 4th Tuesday of each month at 12.00 at a previously agreed venue for lunch. The venue for the following meeting is decided by those present giving everyone a chance to participate and introduce us to new places. It is planned that venues will be in Bury and surrounding areas not too far out of town.
URL:https://www.u3aburystedmunds.co.uk/event/lunch-group/2026-05-26/
CATEGORIES:Leisure,Study Group
ATTACH;FMTTYPE=image/jpeg:https://www.u3aburystedmunds.co.uk/wp-content/uploads/2024/08/Restaurant-BSE-scaled.jpg
ORGANIZER;CN="Mavis Winders":MAILTO:maviswinders4@btinternet.com
END:VEVENT
END:VCALENDAR