
BEGIN:VCALENDAR
VERSION:2.0
PRODID:-//u3a Bury St Edmunds - ECPv6.15.20//NONSGML v1.0//EN
CALSCALE:GREGORIAN
METHOD:PUBLISH
X-WR-CALNAME:u3a Bury St Edmunds
X-ORIGINAL-URL:https://www.u3aburystedmunds.co.uk
X-WR-CALDESC:Events for u3a Bury St Edmunds
REFRESH-INTERVAL;VALUE=DURATION:PT1H
X-Robots-Tag:noindex
X-PUBLISHED-TTL:PT1H
BEGIN:VTIMEZONE
TZID:Europe/London
BEGIN:DAYLIGHT
TZOFFSETFROM:+0000
TZOFFSETTO:+0100
TZNAME:BST
DTSTART:20250330T010000
END:DAYLIGHT
BEGIN:STANDARD
TZOFFSETFROM:+0100
TZOFFSETTO:+0000
TZNAME:GMT
DTSTART:20251026T010000
END:STANDARD
BEGIN:DAYLIGHT
TZOFFSETFROM:+0000
TZOFFSETTO:+0100
TZNAME:BST
DTSTART:20260329T010000
END:DAYLIGHT
BEGIN:STANDARD
TZOFFSETFROM:+0100
TZOFFSETTO:+0000
TZNAME:GMT
DTSTART:20261025T010000
END:STANDARD
BEGIN:DAYLIGHT
TZOFFSETFROM:+0000
TZOFFSETTO:+0100
TZNAME:BST
DTSTART:20270328T010000
END:DAYLIGHT
BEGIN:STANDARD
TZOFFSETFROM:+0100
TZOFFSETTO:+0000
TZNAME:GMT
DTSTART:20271031T010000
END:STANDARD
END:VTIMEZONE
BEGIN:VEVENT
DTSTART;TZID=Europe/London:20260423T140000
DTEND;TZID=Europe/London:20260423T160000
DTSTAMP:20260421T133020
CREATED:20241009T101230Z
LAST-MODIFIED:20251003T141454Z
UID:10008066-1776952800-1776960000@www.u3aburystedmunds.co.uk
SUMMARY:Theatre Group
DESCRIPTION:Meetings for members take place around 5 times a year at Horringer Community Centre at 14.00.
URL:https://www.u3aburystedmunds.co.uk/event/theatre-group-7/2026-04-23/
LOCATION:Horringer Community Centre\, The Street\, Horringer\, Bury St Edmunds\, IP29 5RU
CATEGORIES:Literature, Theatre and Film,Study Group
ATTACH;FMTTYPE=image/jpeg:https://www.u3aburystedmunds.co.uk/wp-content/uploads/2018/05/theatre-scaled.jpg
ORGANIZER;CN="Ann Seymour":MAILTO:chair.theatre.bse@gmail.com
GEO:52.2258546;0.6726321
X-APPLE-STRUCTURED-LOCATION;VALUE=URI;X-ADDRESS=Horringer Community Centre The Street Horringer Bury St Edmunds IP29 5RU;X-APPLE-RADIUS=500;X-TITLE=The Street\, Horringer:geo:0.6726321,52.2258546
END:VEVENT
BEGIN:VEVENT
DTSTART;TZID=Europe/London:20260611T140000
DTEND;TZID=Europe/London:20260611T160000
DTSTAMP:20260421T133020
CREATED:20241009T101230Z
LAST-MODIFIED:20251003T141454Z
UID:10008067-1781186400-1781193600@www.u3aburystedmunds.co.uk
SUMMARY:Theatre Group
DESCRIPTION:Meetings for members take place around 5 times a year at Horringer Community Centre at 14.00.
URL:https://www.u3aburystedmunds.co.uk/event/theatre-group-7/2026-06-11/
LOCATION:Horringer Community Centre\, The Street\, Horringer\, Bury St Edmunds\, IP29 5RU
CATEGORIES:Literature, Theatre and Film,Study Group
ATTACH;FMTTYPE=image/jpeg:https://www.u3aburystedmunds.co.uk/wp-content/uploads/2018/05/theatre-scaled.jpg
ORGANIZER;CN="Ann Seymour":MAILTO:chair.theatre.bse@gmail.com
GEO:52.2258546;0.6726321
X-APPLE-STRUCTURED-LOCATION;VALUE=URI;X-ADDRESS=Horringer Community Centre The Street Horringer Bury St Edmunds IP29 5RU;X-APPLE-RADIUS=500;X-TITLE=The Street\, Horringer:geo:0.6726321,52.2258546
END:VEVENT
BEGIN:VEVENT
DTSTART;TZID=Europe/London:20260903T140000
DTEND;TZID=Europe/London:20260903T160000
DTSTAMP:20260421T133020
CREATED:20241009T101230Z
LAST-MODIFIED:20251003T141454Z
UID:10008068-1788444000-1788451200@www.u3aburystedmunds.co.uk
SUMMARY:Theatre Group
DESCRIPTION:Meetings for members take place around 5 times a year at Horringer Community Centre at 14.00.
URL:https://www.u3aburystedmunds.co.uk/event/theatre-group-7/2026-09-03/
LOCATION:Horringer Community Centre\, The Street\, Horringer\, Bury St Edmunds\, IP29 5RU
CATEGORIES:Literature, Theatre and Film,Study Group
ATTACH;FMTTYPE=image/jpeg:https://www.u3aburystedmunds.co.uk/wp-content/uploads/2018/05/theatre-scaled.jpg
ORGANIZER;CN="Ann Seymour":MAILTO:chair.theatre.bse@gmail.com
GEO:52.2258546;0.6726321
X-APPLE-STRUCTURED-LOCATION;VALUE=URI;X-ADDRESS=Horringer Community Centre The Street Horringer Bury St Edmunds IP29 5RU;X-APPLE-RADIUS=500;X-TITLE=The Street\, Horringer:geo:0.6726321,52.2258546
END:VEVENT
BEGIN:VEVENT
DTSTART;TZID=Europe/London:20261126T140000
DTEND;TZID=Europe/London:20261126T160000
DTSTAMP:20260421T133020
CREATED:20241009T101230Z
LAST-MODIFIED:20251003T141454Z
UID:10008069-1795701600-1795708800@www.u3aburystedmunds.co.uk
SUMMARY:Theatre Group
DESCRIPTION:Meetings for members take place around 5 times a year at Horringer Community Centre at 14.00.
URL:https://www.u3aburystedmunds.co.uk/event/theatre-group-7/2026-11-26/
LOCATION:Horringer Community Centre\, The Street\, Horringer\, Bury St Edmunds\, IP29 5RU
CATEGORIES:Literature, Theatre and Film,Study Group
ATTACH;FMTTYPE=image/jpeg:https://www.u3aburystedmunds.co.uk/wp-content/uploads/2018/05/theatre-scaled.jpg
ORGANIZER;CN="Ann Seymour":MAILTO:chair.theatre.bse@gmail.com
GEO:52.2258546;0.6726321
X-APPLE-STRUCTURED-LOCATION;VALUE=URI;X-ADDRESS=Horringer Community Centre The Street Horringer Bury St Edmunds IP29 5RU;X-APPLE-RADIUS=500;X-TITLE=The Street\, Horringer:geo:0.6726321,52.2258546
END:VEVENT
END:VCALENDAR