
BEGIN:VCALENDAR
VERSION:2.0
PRODID:-//u3a Bury St Edmunds - ECPv6.15.20//NONSGML v1.0//EN
CALSCALE:GREGORIAN
METHOD:PUBLISH
X-WR-CALNAME:u3a Bury St Edmunds
X-ORIGINAL-URL:https://www.u3aburystedmunds.co.uk
X-WR-CALDESC:Events for u3a Bury St Edmunds
REFRESH-INTERVAL;VALUE=DURATION:PT1H
X-Robots-Tag:noindex
X-PUBLISHED-TTL:PT1H
BEGIN:VTIMEZONE
TZID:Europe/London
BEGIN:DAYLIGHT
TZOFFSETFROM:+0000
TZOFFSETTO:+0100
TZNAME:BST
DTSTART:20250330T010000
END:DAYLIGHT
BEGIN:STANDARD
TZOFFSETFROM:+0100
TZOFFSETTO:+0000
TZNAME:GMT
DTSTART:20251026T010000
END:STANDARD
BEGIN:DAYLIGHT
TZOFFSETFROM:+0000
TZOFFSETTO:+0100
TZNAME:BST
DTSTART:20260329T010000
END:DAYLIGHT
BEGIN:STANDARD
TZOFFSETFROM:+0100
TZOFFSETTO:+0000
TZNAME:GMT
DTSTART:20261025T010000
END:STANDARD
BEGIN:DAYLIGHT
TZOFFSETFROM:+0000
TZOFFSETTO:+0100
TZNAME:BST
DTSTART:20270328T010000
END:DAYLIGHT
BEGIN:STANDARD
TZOFFSETFROM:+0100
TZOFFSETTO:+0000
TZNAME:GMT
DTSTART:20271031T010000
END:STANDARD
END:VTIMEZONE
BEGIN:VEVENT
DTSTART;TZID=Europe/London:20260421T123000
DTEND;TZID=Europe/London:20260421T140000
DTSTAMP:20260421T133909
CREATED:20250326T100552Z
LAST-MODIFIED:20251216T221325Z
UID:10008178-1776774600-1776780000@www.u3aburystedmunds.co.uk
SUMMARY:Lunch Group 2
DESCRIPTION:A second Lunch Group has been set up for people who enjoy socialising and eating! \nWe plan to visit venues in Bury St Edmunds and its surrounding areas\, not too far out of town. We may car share to some venues. \nLocations of meetings will be notified to group members.
URL:https://www.u3aburystedmunds.co.uk/event/lunch-group-2/2026-04-21/
CATEGORIES:Leisure,Study Group
ATTACH;FMTTYPE=image/jpeg:https://www.u3aburystedmunds.co.uk/wp-content/uploads/2025/03/Restaurant-1-scaled.jpg
ORGANIZER;CN="Jill Pearce":MAILTO:jillpearce2000@gmail.com
END:VEVENT
BEGIN:VEVENT
DTSTART;TZID=Europe/London:20260519T123000
DTEND;TZID=Europe/London:20260519T140000
DTSTAMP:20260421T133909
CREATED:20250326T100552Z
LAST-MODIFIED:20251216T221325Z
UID:10008179-1779193800-1779199200@www.u3aburystedmunds.co.uk
SUMMARY:Lunch Group 2
DESCRIPTION:A second Lunch Group has been set up for people who enjoy socialising and eating! \nWe plan to visit venues in Bury St Edmunds and its surrounding areas\, not too far out of town. We may car share to some venues. \nLocations of meetings will be notified to group members.
URL:https://www.u3aburystedmunds.co.uk/event/lunch-group-2/2026-05-19/
CATEGORIES:Leisure,Study Group
ATTACH;FMTTYPE=image/jpeg:https://www.u3aburystedmunds.co.uk/wp-content/uploads/2025/03/Restaurant-1-scaled.jpg
ORGANIZER;CN="Jill Pearce":MAILTO:jillpearce2000@gmail.com
END:VEVENT
END:VCALENDAR