
BEGIN:VCALENDAR
VERSION:2.0
PRODID:-//u3a Bury St Edmunds - ECPv6.15.20//NONSGML v1.0//EN
CALSCALE:GREGORIAN
METHOD:PUBLISH
X-WR-CALNAME:u3a Bury St Edmunds
X-ORIGINAL-URL:https://www.u3aburystedmunds.co.uk
X-WR-CALDESC:Events for u3a Bury St Edmunds
REFRESH-INTERVAL;VALUE=DURATION:PT1H
X-Robots-Tag:noindex
X-PUBLISHED-TTL:PT1H
BEGIN:VTIMEZONE
TZID:Europe/London
BEGIN:DAYLIGHT
TZOFFSETFROM:+0000
TZOFFSETTO:+0100
TZNAME:BST
DTSTART:20250330T010000
END:DAYLIGHT
BEGIN:STANDARD
TZOFFSETFROM:+0100
TZOFFSETTO:+0000
TZNAME:GMT
DTSTART:20251026T010000
END:STANDARD
BEGIN:DAYLIGHT
TZOFFSETFROM:+0000
TZOFFSETTO:+0100
TZNAME:BST
DTSTART:20260329T010000
END:DAYLIGHT
BEGIN:STANDARD
TZOFFSETFROM:+0100
TZOFFSETTO:+0000
TZNAME:GMT
DTSTART:20261025T010000
END:STANDARD
BEGIN:DAYLIGHT
TZOFFSETFROM:+0000
TZOFFSETTO:+0100
TZNAME:BST
DTSTART:20270328T010000
END:DAYLIGHT
BEGIN:STANDARD
TZOFFSETFROM:+0100
TZOFFSETTO:+0000
TZNAME:GMT
DTSTART:20271031T010000
END:STANDARD
END:VTIMEZONE
BEGIN:VEVENT
DTSTART;TZID=Europe/London:20260427T110000
DTEND;TZID=Europe/London:20260427T120000
DTSTAMP:20260421T135255
CREATED:20251103T103207Z
LAST-MODIFIED:20251216T143615Z
UID:10008219-1777287600-1777291200@www.u3aburystedmunds.co.uk
SUMMARY:French for Beginners
DESCRIPTION:A group for absolute beginners or those with very rusty\, school-level French that started at the end of June 2025. \nWe use our own combination of resources (online apps such as Duolingo\, and books) to self learn\, along with group learning at our regular meetings.
URL:https://www.u3aburystedmunds.co.uk/event/french-for-beginners/2026-04-27/
LOCATION:Abbeygate Cinema\, Hatter Street\, IP33 1LZ
CATEGORIES:Languages,Study Group
ATTACH;FMTTYPE=image/jpeg:https://www.u3aburystedmunds.co.uk/wp-content/uploads/2025/06/Pocket-French-Dictionary.jpg
ORGANIZER;CN="Jen Baker":MAILTO:jen.baker2046@gmail.com
GEO:52.2440642;0.7142624
X-APPLE-STRUCTURED-LOCATION;VALUE=URI;X-ADDRESS=Abbeygate Cinema Hatter Street IP33 1LZ;X-APPLE-RADIUS=500;X-TITLE=Hatter Street:geo:0.7142624,52.2440642
END:VEVENT
BEGIN:VEVENT
DTSTART;TZID=Europe/London:20260511T110000
DTEND;TZID=Europe/London:20260511T120000
DTSTAMP:20260421T135255
CREATED:20251103T103207Z
LAST-MODIFIED:20251216T143615Z
UID:10008220-1778497200-1778500800@www.u3aburystedmunds.co.uk
SUMMARY:French for Beginners
DESCRIPTION:A group for absolute beginners or those with very rusty\, school-level French that started at the end of June 2025. \nWe use our own combination of resources (online apps such as Duolingo\, and books) to self learn\, along with group learning at our regular meetings.
URL:https://www.u3aburystedmunds.co.uk/event/french-for-beginners/2026-05-11/
LOCATION:Abbeygate Cinema\, Hatter Street\, IP33 1LZ
CATEGORIES:Languages,Study Group
ATTACH;FMTTYPE=image/jpeg:https://www.u3aburystedmunds.co.uk/wp-content/uploads/2025/06/Pocket-French-Dictionary.jpg
ORGANIZER;CN="Jen Baker":MAILTO:jen.baker2046@gmail.com
GEO:52.2440642;0.7142624
X-APPLE-STRUCTURED-LOCATION;VALUE=URI;X-ADDRESS=Abbeygate Cinema Hatter Street IP33 1LZ;X-APPLE-RADIUS=500;X-TITLE=Hatter Street:geo:0.7142624,52.2440642
END:VEVENT
BEGIN:VEVENT
DTSTART;TZID=Europe/London:20260518T110000
DTEND;TZID=Europe/London:20260518T120000
DTSTAMP:20260421T135255
CREATED:20251103T103207Z
LAST-MODIFIED:20251216T143615Z
UID:10008221-1779102000-1779105600@www.u3aburystedmunds.co.uk
SUMMARY:French for Beginners
DESCRIPTION:A group for absolute beginners or those with very rusty\, school-level French that started at the end of June 2025. \nWe use our own combination of resources (online apps such as Duolingo\, and books) to self learn\, along with group learning at our regular meetings.
URL:https://www.u3aburystedmunds.co.uk/event/french-for-beginners/2026-05-18/
LOCATION:Abbeygate Cinema\, Hatter Street\, IP33 1LZ
CATEGORIES:Languages,Study Group
ATTACH;FMTTYPE=image/jpeg:https://www.u3aburystedmunds.co.uk/wp-content/uploads/2025/06/Pocket-French-Dictionary.jpg
ORGANIZER;CN="Jen Baker":MAILTO:jen.baker2046@gmail.com
GEO:52.2440642;0.7142624
X-APPLE-STRUCTURED-LOCATION;VALUE=URI;X-ADDRESS=Abbeygate Cinema Hatter Street IP33 1LZ;X-APPLE-RADIUS=500;X-TITLE=Hatter Street:geo:0.7142624,52.2440642
END:VEVENT
BEGIN:VEVENT
DTSTART;TZID=Europe/London:20260525T110000
DTEND;TZID=Europe/London:20260525T120000
DTSTAMP:20260421T135255
CREATED:20251103T103207Z
LAST-MODIFIED:20251216T143615Z
UID:10008222-1779706800-1779710400@www.u3aburystedmunds.co.uk
SUMMARY:French for Beginners
DESCRIPTION:A group for absolute beginners or those with very rusty\, school-level French that started at the end of June 2025. \nWe use our own combination of resources (online apps such as Duolingo\, and books) to self learn\, along with group learning at our regular meetings.
URL:https://www.u3aburystedmunds.co.uk/event/french-for-beginners/2026-05-25/
LOCATION:Abbeygate Cinema\, Hatter Street\, IP33 1LZ
CATEGORIES:Languages,Study Group
ATTACH;FMTTYPE=image/jpeg:https://www.u3aburystedmunds.co.uk/wp-content/uploads/2025/06/Pocket-French-Dictionary.jpg
ORGANIZER;CN="Jen Baker":MAILTO:jen.baker2046@gmail.com
GEO:52.2440642;0.7142624
X-APPLE-STRUCTURED-LOCATION;VALUE=URI;X-ADDRESS=Abbeygate Cinema Hatter Street IP33 1LZ;X-APPLE-RADIUS=500;X-TITLE=Hatter Street:geo:0.7142624,52.2440642
END:VEVENT
END:VCALENDAR