
BEGIN:VCALENDAR
VERSION:2.0
PRODID:-//u3a Bury St Edmunds - ECPv6.15.20//NONSGML v1.0//EN
CALSCALE:GREGORIAN
METHOD:PUBLISH
X-WR-CALNAME:u3a Bury St Edmunds
X-ORIGINAL-URL:https://www.u3aburystedmunds.co.uk
X-WR-CALDESC:Events for u3a Bury St Edmunds
REFRESH-INTERVAL;VALUE=DURATION:PT1H
X-Robots-Tag:noindex
X-PUBLISHED-TTL:PT1H
BEGIN:VTIMEZONE
TZID:Europe/London
BEGIN:DAYLIGHT
TZOFFSETFROM:+0000
TZOFFSETTO:+0100
TZNAME:BST
DTSTART:20250330T010000
END:DAYLIGHT
BEGIN:STANDARD
TZOFFSETFROM:+0100
TZOFFSETTO:+0000
TZNAME:GMT
DTSTART:20251026T010000
END:STANDARD
BEGIN:DAYLIGHT
TZOFFSETFROM:+0000
TZOFFSETTO:+0100
TZNAME:BST
DTSTART:20260329T010000
END:DAYLIGHT
BEGIN:STANDARD
TZOFFSETFROM:+0100
TZOFFSETTO:+0000
TZNAME:GMT
DTSTART:20261025T010000
END:STANDARD
BEGIN:DAYLIGHT
TZOFFSETFROM:+0000
TZOFFSETTO:+0100
TZNAME:BST
DTSTART:20270328T010000
END:DAYLIGHT
BEGIN:STANDARD
TZOFFSETFROM:+0100
TZOFFSETTO:+0000
TZNAME:GMT
DTSTART:20271031T010000
END:STANDARD
END:VTIMEZONE
BEGIN:VEVENT
DTSTART;TZID=Europe/London:20260425T111500
DTEND;TZID=Europe/London:20260425T121500
DTSTAMP:20260421T151634
CREATED:20260107T142838Z
LAST-MODIFIED:20260107T143132Z
UID:10008241-1777115700-1777119300@www.u3aburystedmunds.co.uk
SUMMARY:Members On Their Own (MOTO 2)
DESCRIPTION:The MOTO groups are for all u3a in Bury St Edmunds members who don’t live with a partner\, single\, widowed or divorced\, to get together to make new friends and enjoy a variety of activities in company with others. \nHow the group will work: All group members will be encouraged to arrange activities for the group – these could be meeting for coffee and a chat\, walks\, lunches or other activities.
URL:https://www.u3aburystedmunds.co.uk/event/members-on-their-own-moto-2/2026-04-25/
LOCATION:Abbeygate Cinema\, Hatter Street\, IP33 1LZ
CATEGORIES:Other Interests,Study Group
ATTACH;FMTTYPE=image/jpeg:https://www.u3aburystedmunds.co.uk/wp-content/uploads/2023/04/two-women-laughing-scaled-e1682948308419.jpg
ORGANIZER;CN="Mary Kent":MAILTO:Johnkent223@btinternet.com
GEO:52.2440642;0.7142624
X-APPLE-STRUCTURED-LOCATION;VALUE=URI;X-ADDRESS=Abbeygate Cinema Hatter Street IP33 1LZ;X-APPLE-RADIUS=500;X-TITLE=Hatter Street:geo:0.7142624,52.2440642
END:VEVENT
BEGIN:VEVENT
DTSTART;TZID=Europe/London:20260523T111500
DTEND;TZID=Europe/London:20260523T121500
DTSTAMP:20260421T151634
CREATED:20260107T142838Z
LAST-MODIFIED:20260107T143132Z
UID:10008242-1779534900-1779538500@www.u3aburystedmunds.co.uk
SUMMARY:Members On Their Own (MOTO 2)
DESCRIPTION:The MOTO groups are for all u3a in Bury St Edmunds members who don’t live with a partner\, single\, widowed or divorced\, to get together to make new friends and enjoy a variety of activities in company with others. \nHow the group will work: All group members will be encouraged to arrange activities for the group – these could be meeting for coffee and a chat\, walks\, lunches or other activities.
URL:https://www.u3aburystedmunds.co.uk/event/members-on-their-own-moto-2/2026-05-23/
LOCATION:Abbeygate Cinema\, Hatter Street\, IP33 1LZ
CATEGORIES:Other Interests,Study Group
ATTACH;FMTTYPE=image/jpeg:https://www.u3aburystedmunds.co.uk/wp-content/uploads/2023/04/two-women-laughing-scaled-e1682948308419.jpg
ORGANIZER;CN="Mary Kent":MAILTO:Johnkent223@btinternet.com
GEO:52.2440642;0.7142624
X-APPLE-STRUCTURED-LOCATION;VALUE=URI;X-ADDRESS=Abbeygate Cinema Hatter Street IP33 1LZ;X-APPLE-RADIUS=500;X-TITLE=Hatter Street:geo:0.7142624,52.2440642
END:VEVENT
END:VCALENDAR