
BEGIN:VCALENDAR
VERSION:2.0
PRODID:-//u3a Bury St Edmunds - ECPv6.15.20//NONSGML v1.0//EN
CALSCALE:GREGORIAN
METHOD:PUBLISH
X-WR-CALNAME:u3a Bury St Edmunds
X-ORIGINAL-URL:https://www.u3aburystedmunds.co.uk
X-WR-CALDESC:Events for u3a Bury St Edmunds
REFRESH-INTERVAL;VALUE=DURATION:PT1H
X-Robots-Tag:noindex
X-PUBLISHED-TTL:PT1H
BEGIN:VTIMEZONE
TZID:Europe/London
BEGIN:DAYLIGHT
TZOFFSETFROM:+0000
TZOFFSETTO:+0100
TZNAME:BST
DTSTART:20250330T010000
END:DAYLIGHT
BEGIN:STANDARD
TZOFFSETFROM:+0100
TZOFFSETTO:+0000
TZNAME:GMT
DTSTART:20251026T010000
END:STANDARD
BEGIN:DAYLIGHT
TZOFFSETFROM:+0000
TZOFFSETTO:+0100
TZNAME:BST
DTSTART:20260329T010000
END:DAYLIGHT
BEGIN:STANDARD
TZOFFSETFROM:+0100
TZOFFSETTO:+0000
TZNAME:GMT
DTSTART:20261025T010000
END:STANDARD
BEGIN:DAYLIGHT
TZOFFSETFROM:+0000
TZOFFSETTO:+0100
TZNAME:BST
DTSTART:20270328T010000
END:DAYLIGHT
BEGIN:STANDARD
TZOFFSETFROM:+0100
TZOFFSETTO:+0000
TZNAME:GMT
DTSTART:20271031T010000
END:STANDARD
END:VTIMEZONE
BEGIN:VEVENT
DTSTART;TZID=Europe/London:20260427T140000
DTEND;TZID=Europe/London:20260427T160000
DTSTAMP:20260421T172255
CREATED:20260126T155537Z
LAST-MODIFIED:20260126T155537Z
UID:10008249-1777298400-1777305600@www.u3aburystedmunds.co.uk
SUMMARY:The Elderberries (The u3a Singers)
DESCRIPTION:The u3a Singers are a friendly\, informal group with over 50 members\, we sing a wide variety of music\, usually in four parts (soprano\, alto\, tenor\, bass). \nNo Audition is necessary\, and you don’t need to read music\, as we will help you.  \nNew members are very welcome\, why not join us and enjoy the health benefits of singing.  \nFor further information please email the group organiser (log in to get their details) \nConcerts are held twice each year at All Saints Church. \nLast rehearsal of term – Monday 22nd June. \nFees are £15 per term\, which covers the hire of the hall and music.
URL:https://www.u3aburystedmunds.co.uk/event/the-elderberries-the-u3a-singers-2/2026-04-27/
LOCATION:Thomas Clarkson Centre\, Hospital Road\, Bury St Edmunds\, IP33 3JT
CATEGORIES:Music,Study Group
ATTACH;FMTTYPE=image/jpeg:https://www.u3aburystedmunds.co.uk/wp-content/uploads/2025/05/choir2.jpg
ORGANIZER;CN="Karen Norris":MAILTO:karennorris907@btinternet.com
GEO:52.2409283;0.7106738
X-APPLE-STRUCTURED-LOCATION;VALUE=URI;X-ADDRESS=Thomas Clarkson Centre Hospital Road Bury St Edmunds IP33 3JT;X-APPLE-RADIUS=500;X-TITLE=Hospital Road:geo:0.7106738,52.2409283
END:VEVENT
BEGIN:VEVENT
DTSTART;TZID=Europe/London:20260511T140000
DTEND;TZID=Europe/London:20260511T160000
DTSTAMP:20260421T172255
CREATED:20260126T155537Z
LAST-MODIFIED:20260126T155537Z
UID:10008250-1778508000-1778515200@www.u3aburystedmunds.co.uk
SUMMARY:The Elderberries (The u3a Singers)
DESCRIPTION:The u3a Singers are a friendly\, informal group with over 50 members\, we sing a wide variety of music\, usually in four parts (soprano\, alto\, tenor\, bass). \nNo Audition is necessary\, and you don’t need to read music\, as we will help you.  \nNew members are very welcome\, why not join us and enjoy the health benefits of singing.  \nFor further information please email the group organiser (log in to get their details) \nConcerts are held twice each year at All Saints Church. \nLast rehearsal of term – Monday 22nd June. \nFees are £15 per term\, which covers the hire of the hall and music.
URL:https://www.u3aburystedmunds.co.uk/event/the-elderberries-the-u3a-singers-2/2026-05-11/
LOCATION:Thomas Clarkson Centre\, Hospital Road\, Bury St Edmunds\, IP33 3JT
CATEGORIES:Music,Study Group
ATTACH;FMTTYPE=image/jpeg:https://www.u3aburystedmunds.co.uk/wp-content/uploads/2025/05/choir2.jpg
ORGANIZER;CN="Karen Norris":MAILTO:karennorris907@btinternet.com
GEO:52.2409283;0.7106738
X-APPLE-STRUCTURED-LOCATION;VALUE=URI;X-ADDRESS=Thomas Clarkson Centre Hospital Road Bury St Edmunds IP33 3JT;X-APPLE-RADIUS=500;X-TITLE=Hospital Road:geo:0.7106738,52.2409283
END:VEVENT
BEGIN:VEVENT
DTSTART;TZID=Europe/London:20260518T140000
DTEND;TZID=Europe/London:20260518T160000
DTSTAMP:20260421T172255
CREATED:20260126T155537Z
LAST-MODIFIED:20260126T155537Z
UID:10008251-1779112800-1779120000@www.u3aburystedmunds.co.uk
SUMMARY:The Elderberries (The u3a Singers)
DESCRIPTION:The u3a Singers are a friendly\, informal group with over 50 members\, we sing a wide variety of music\, usually in four parts (soprano\, alto\, tenor\, bass). \nNo Audition is necessary\, and you don’t need to read music\, as we will help you.  \nNew members are very welcome\, why not join us and enjoy the health benefits of singing.  \nFor further information please email the group organiser (log in to get their details) \nConcerts are held twice each year at All Saints Church. \nLast rehearsal of term – Monday 22nd June. \nFees are £15 per term\, which covers the hire of the hall and music.
URL:https://www.u3aburystedmunds.co.uk/event/the-elderberries-the-u3a-singers-2/2026-05-18/
LOCATION:Thomas Clarkson Centre\, Hospital Road\, Bury St Edmunds\, IP33 3JT
CATEGORIES:Music,Study Group
ATTACH;FMTTYPE=image/jpeg:https://www.u3aburystedmunds.co.uk/wp-content/uploads/2025/05/choir2.jpg
ORGANIZER;CN="Karen Norris":MAILTO:karennorris907@btinternet.com
GEO:52.2409283;0.7106738
X-APPLE-STRUCTURED-LOCATION;VALUE=URI;X-ADDRESS=Thomas Clarkson Centre Hospital Road Bury St Edmunds IP33 3JT;X-APPLE-RADIUS=500;X-TITLE=Hospital Road:geo:0.7106738,52.2409283
END:VEVENT
BEGIN:VEVENT
DTSTART;TZID=Europe/London:20260525T140000
DTEND;TZID=Europe/London:20260525T160000
DTSTAMP:20260421T172255
CREATED:20260126T155537Z
LAST-MODIFIED:20260126T155537Z
UID:10008252-1779717600-1779724800@www.u3aburystedmunds.co.uk
SUMMARY:The Elderberries (The u3a Singers)
DESCRIPTION:The u3a Singers are a friendly\, informal group with over 50 members\, we sing a wide variety of music\, usually in four parts (soprano\, alto\, tenor\, bass). \nNo Audition is necessary\, and you don’t need to read music\, as we will help you.  \nNew members are very welcome\, why not join us and enjoy the health benefits of singing.  \nFor further information please email the group organiser (log in to get their details) \nConcerts are held twice each year at All Saints Church. \nLast rehearsal of term – Monday 22nd June. \nFees are £15 per term\, which covers the hire of the hall and music.
URL:https://www.u3aburystedmunds.co.uk/event/the-elderberries-the-u3a-singers-2/2026-05-25/
LOCATION:Thomas Clarkson Centre\, Hospital Road\, Bury St Edmunds\, IP33 3JT
CATEGORIES:Music,Study Group
ATTACH;FMTTYPE=image/jpeg:https://www.u3aburystedmunds.co.uk/wp-content/uploads/2025/05/choir2.jpg
ORGANIZER;CN="Karen Norris":MAILTO:karennorris907@btinternet.com
GEO:52.2409283;0.7106738
X-APPLE-STRUCTURED-LOCATION;VALUE=URI;X-ADDRESS=Thomas Clarkson Centre Hospital Road Bury St Edmunds IP33 3JT;X-APPLE-RADIUS=500;X-TITLE=Hospital Road:geo:0.7106738,52.2409283
END:VEVENT
BEGIN:VEVENT
DTSTART;TZID=Europe/London:20260601T140000
DTEND;TZID=Europe/London:20260601T160000
DTSTAMP:20260421T172255
CREATED:20260126T155537Z
LAST-MODIFIED:20260126T155537Z
UID:10008253-1780322400-1780329600@www.u3aburystedmunds.co.uk
SUMMARY:The Elderberries (The u3a Singers)
DESCRIPTION:The u3a Singers are a friendly\, informal group with over 50 members\, we sing a wide variety of music\, usually in four parts (soprano\, alto\, tenor\, bass). \nNo Audition is necessary\, and you don’t need to read music\, as we will help you.  \nNew members are very welcome\, why not join us and enjoy the health benefits of singing.  \nFor further information please email the group organiser (log in to get their details) \nConcerts are held twice each year at All Saints Church. \nLast rehearsal of term – Monday 22nd June. \nFees are £15 per term\, which covers the hire of the hall and music.
URL:https://www.u3aburystedmunds.co.uk/event/the-elderberries-the-u3a-singers-2/2026-06-01/
LOCATION:Thomas Clarkson Centre\, Hospital Road\, Bury St Edmunds\, IP33 3JT
CATEGORIES:Music,Study Group
ATTACH;FMTTYPE=image/jpeg:https://www.u3aburystedmunds.co.uk/wp-content/uploads/2025/05/choir2.jpg
ORGANIZER;CN="Karen Norris":MAILTO:karennorris907@btinternet.com
GEO:52.2409283;0.7106738
X-APPLE-STRUCTURED-LOCATION;VALUE=URI;X-ADDRESS=Thomas Clarkson Centre Hospital Road Bury St Edmunds IP33 3JT;X-APPLE-RADIUS=500;X-TITLE=Hospital Road:geo:0.7106738,52.2409283
END:VEVENT
BEGIN:VEVENT
DTSTART;TZID=Europe/London:20260608T140000
DTEND;TZID=Europe/London:20260608T160000
DTSTAMP:20260421T172255
CREATED:20260126T155537Z
LAST-MODIFIED:20260126T155537Z
UID:10008254-1780927200-1780934400@www.u3aburystedmunds.co.uk
SUMMARY:The Elderberries (The u3a Singers)
DESCRIPTION:The u3a Singers are a friendly\, informal group with over 50 members\, we sing a wide variety of music\, usually in four parts (soprano\, alto\, tenor\, bass). \nNo Audition is necessary\, and you don’t need to read music\, as we will help you.  \nNew members are very welcome\, why not join us and enjoy the health benefits of singing.  \nFor further information please email the group organiser (log in to get their details) \nConcerts are held twice each year at All Saints Church. \nLast rehearsal of term – Monday 22nd June. \nFees are £15 per term\, which covers the hire of the hall and music.
URL:https://www.u3aburystedmunds.co.uk/event/the-elderberries-the-u3a-singers-2/2026-06-08/
LOCATION:Thomas Clarkson Centre\, Hospital Road\, Bury St Edmunds\, IP33 3JT
CATEGORIES:Music,Study Group
ATTACH;FMTTYPE=image/jpeg:https://www.u3aburystedmunds.co.uk/wp-content/uploads/2025/05/choir2.jpg
ORGANIZER;CN="Karen Norris":MAILTO:karennorris907@btinternet.com
GEO:52.2409283;0.7106738
X-APPLE-STRUCTURED-LOCATION;VALUE=URI;X-ADDRESS=Thomas Clarkson Centre Hospital Road Bury St Edmunds IP33 3JT;X-APPLE-RADIUS=500;X-TITLE=Hospital Road:geo:0.7106738,52.2409283
END:VEVENT
BEGIN:VEVENT
DTSTART;TZID=Europe/London:20260615T140000
DTEND;TZID=Europe/London:20260615T160000
DTSTAMP:20260421T172255
CREATED:20260126T155537Z
LAST-MODIFIED:20260126T155537Z
UID:10008255-1781532000-1781539200@www.u3aburystedmunds.co.uk
SUMMARY:The Elderberries (The u3a Singers)
DESCRIPTION:The u3a Singers are a friendly\, informal group with over 50 members\, we sing a wide variety of music\, usually in four parts (soprano\, alto\, tenor\, bass). \nNo Audition is necessary\, and you don’t need to read music\, as we will help you.  \nNew members are very welcome\, why not join us and enjoy the health benefits of singing.  \nFor further information please email the group organiser (log in to get their details) \nConcerts are held twice each year at All Saints Church. \nLast rehearsal of term – Monday 22nd June. \nFees are £15 per term\, which covers the hire of the hall and music.
URL:https://www.u3aburystedmunds.co.uk/event/the-elderberries-the-u3a-singers-2/2026-06-15/
LOCATION:Thomas Clarkson Centre\, Hospital Road\, Bury St Edmunds\, IP33 3JT
CATEGORIES:Music,Study Group
ATTACH;FMTTYPE=image/jpeg:https://www.u3aburystedmunds.co.uk/wp-content/uploads/2025/05/choir2.jpg
ORGANIZER;CN="Karen Norris":MAILTO:karennorris907@btinternet.com
GEO:52.2409283;0.7106738
X-APPLE-STRUCTURED-LOCATION;VALUE=URI;X-ADDRESS=Thomas Clarkson Centre Hospital Road Bury St Edmunds IP33 3JT;X-APPLE-RADIUS=500;X-TITLE=Hospital Road:geo:0.7106738,52.2409283
END:VEVENT
BEGIN:VEVENT
DTSTART;TZID=Europe/London:20260622T140000
DTEND;TZID=Europe/London:20260622T160000
DTSTAMP:20260421T172255
CREATED:20260126T155537Z
LAST-MODIFIED:20260126T155537Z
UID:10008256-1782136800-1782144000@www.u3aburystedmunds.co.uk
SUMMARY:The Elderberries (The u3a Singers)
DESCRIPTION:The u3a Singers are a friendly\, informal group with over 50 members\, we sing a wide variety of music\, usually in four parts (soprano\, alto\, tenor\, bass). \nNo Audition is necessary\, and you don’t need to read music\, as we will help you.  \nNew members are very welcome\, why not join us and enjoy the health benefits of singing.  \nFor further information please email the group organiser (log in to get their details) \nConcerts are held twice each year at All Saints Church. \nLast rehearsal of term – Monday 22nd June. \nFees are £15 per term\, which covers the hire of the hall and music.
URL:https://www.u3aburystedmunds.co.uk/event/the-elderberries-the-u3a-singers-2/2026-06-22/
LOCATION:Thomas Clarkson Centre\, Hospital Road\, Bury St Edmunds\, IP33 3JT
CATEGORIES:Music,Study Group
ATTACH;FMTTYPE=image/jpeg:https://www.u3aburystedmunds.co.uk/wp-content/uploads/2025/05/choir2.jpg
ORGANIZER;CN="Karen Norris":MAILTO:karennorris907@btinternet.com
GEO:52.2409283;0.7106738
X-APPLE-STRUCTURED-LOCATION;VALUE=URI;X-ADDRESS=Thomas Clarkson Centre Hospital Road Bury St Edmunds IP33 3JT;X-APPLE-RADIUS=500;X-TITLE=Hospital Road:geo:0.7106738,52.2409283
END:VEVENT
END:VCALENDAR