
BEGIN:VCALENDAR
VERSION:2.0
PRODID:-//u3a Bury St Edmunds - ECPv6.15.20//NONSGML v1.0//EN
CALSCALE:GREGORIAN
METHOD:PUBLISH
X-WR-CALNAME:u3a Bury St Edmunds
X-ORIGINAL-URL:https://www.u3aburystedmunds.co.uk
X-WR-CALDESC:Events for u3a Bury St Edmunds
REFRESH-INTERVAL;VALUE=DURATION:PT1H
X-Robots-Tag:noindex
X-PUBLISHED-TTL:PT1H
BEGIN:VTIMEZONE
TZID:Europe/London
BEGIN:DAYLIGHT
TZOFFSETFROM:+0000
TZOFFSETTO:+0100
TZNAME:BST
DTSTART:20250330T010000
END:DAYLIGHT
BEGIN:STANDARD
TZOFFSETFROM:+0100
TZOFFSETTO:+0000
TZNAME:GMT
DTSTART:20251026T010000
END:STANDARD
BEGIN:DAYLIGHT
TZOFFSETFROM:+0000
TZOFFSETTO:+0100
TZNAME:BST
DTSTART:20260329T010000
END:DAYLIGHT
BEGIN:STANDARD
TZOFFSETFROM:+0100
TZOFFSETTO:+0000
TZNAME:GMT
DTSTART:20261025T010000
END:STANDARD
BEGIN:DAYLIGHT
TZOFFSETFROM:+0000
TZOFFSETTO:+0100
TZNAME:BST
DTSTART:20270328T010000
END:DAYLIGHT
BEGIN:STANDARD
TZOFFSETFROM:+0100
TZOFFSETTO:+0000
TZNAME:GMT
DTSTART:20271031T010000
END:STANDARD
END:VTIMEZONE
BEGIN:VEVENT
DTSTART;TZID=Europe/London:20260907T140000
DTEND;TZID=Europe/London:20260907T160000
DTSTAMP:20260421T190818
CREATED:20260126T160208Z
LAST-MODIFIED:20260126T160208Z
UID:10008263-1788789600-1788796800@www.u3aburystedmunds.co.uk
SUMMARY:The Elderberries (The u3a Singers)
DESCRIPTION:The u3a Singers are a friendly\, informal group with over 50 members\, we sing a wide variety of music\, usually in four parts (soprano\, alto\, tenor\, bass). \nNo Audition is necessary\, and you don’t need to read music\, as we will help you.  \nNew members are very welcome\, why not join us and enjoy the health benefits of singing.  \nFor further information please email the group organiser (log in to get their details) \nConcerts are held twice each year at All Saints Church. \nLast rehearsal of term – Monday 23rd November. \nFees are £15 per term\, which covers the hire of the hall and music.
URL:https://www.u3aburystedmunds.co.uk/event/the-elderberries-the-u3a-singers/2026-09-07/
LOCATION:Thomas Clarkson Centre\, Hospital Road\, Bury St Edmunds\, IP33 3JT
CATEGORIES:Music,Study Group
ATTACH;FMTTYPE=image/jpeg:https://www.u3aburystedmunds.co.uk/wp-content/uploads/2025/05/choir2.jpg
ORGANIZER;CN="Karen Norris":MAILTO:karennorris907@btinternet.com
GEO:52.2409283;0.7106738
X-APPLE-STRUCTURED-LOCATION;VALUE=URI;X-ADDRESS=Thomas Clarkson Centre Hospital Road Bury St Edmunds IP33 3JT;X-APPLE-RADIUS=500;X-TITLE=Hospital Road:geo:0.7106738,52.2409283
END:VEVENT
BEGIN:VEVENT
DTSTART;TZID=Europe/London:20260914T140000
DTEND;TZID=Europe/London:20260914T160000
DTSTAMP:20260421T190818
CREATED:20260126T160208Z
LAST-MODIFIED:20260126T160208Z
UID:10008264-1789394400-1789401600@www.u3aburystedmunds.co.uk
SUMMARY:The Elderberries (The u3a Singers)
DESCRIPTION:The u3a Singers are a friendly\, informal group with over 50 members\, we sing a wide variety of music\, usually in four parts (soprano\, alto\, tenor\, bass). \nNo Audition is necessary\, and you don’t need to read music\, as we will help you.  \nNew members are very welcome\, why not join us and enjoy the health benefits of singing.  \nFor further information please email the group organiser (log in to get their details) \nConcerts are held twice each year at All Saints Church. \nLast rehearsal of term – Monday 23rd November. \nFees are £15 per term\, which covers the hire of the hall and music.
URL:https://www.u3aburystedmunds.co.uk/event/the-elderberries-the-u3a-singers/2026-09-14/
LOCATION:Thomas Clarkson Centre\, Hospital Road\, Bury St Edmunds\, IP33 3JT
CATEGORIES:Music,Study Group
ATTACH;FMTTYPE=image/jpeg:https://www.u3aburystedmunds.co.uk/wp-content/uploads/2025/05/choir2.jpg
ORGANIZER;CN="Karen Norris":MAILTO:karennorris907@btinternet.com
GEO:52.2409283;0.7106738
X-APPLE-STRUCTURED-LOCATION;VALUE=URI;X-ADDRESS=Thomas Clarkson Centre Hospital Road Bury St Edmunds IP33 3JT;X-APPLE-RADIUS=500;X-TITLE=Hospital Road:geo:0.7106738,52.2409283
END:VEVENT
BEGIN:VEVENT
DTSTART;TZID=Europe/London:20260921T140000
DTEND;TZID=Europe/London:20260921T160000
DTSTAMP:20260421T190818
CREATED:20260126T160208Z
LAST-MODIFIED:20260126T160208Z
UID:10008265-1789999200-1790006400@www.u3aburystedmunds.co.uk
SUMMARY:The Elderberries (The u3a Singers)
DESCRIPTION:The u3a Singers are a friendly\, informal group with over 50 members\, we sing a wide variety of music\, usually in four parts (soprano\, alto\, tenor\, bass). \nNo Audition is necessary\, and you don’t need to read music\, as we will help you.  \nNew members are very welcome\, why not join us and enjoy the health benefits of singing.  \nFor further information please email the group organiser (log in to get their details) \nConcerts are held twice each year at All Saints Church. \nLast rehearsal of term – Monday 23rd November. \nFees are £15 per term\, which covers the hire of the hall and music.
URL:https://www.u3aburystedmunds.co.uk/event/the-elderberries-the-u3a-singers/2026-09-21/
LOCATION:Thomas Clarkson Centre\, Hospital Road\, Bury St Edmunds\, IP33 3JT
CATEGORIES:Music,Study Group
ATTACH;FMTTYPE=image/jpeg:https://www.u3aburystedmunds.co.uk/wp-content/uploads/2025/05/choir2.jpg
ORGANIZER;CN="Karen Norris":MAILTO:karennorris907@btinternet.com
GEO:52.2409283;0.7106738
X-APPLE-STRUCTURED-LOCATION;VALUE=URI;X-ADDRESS=Thomas Clarkson Centre Hospital Road Bury St Edmunds IP33 3JT;X-APPLE-RADIUS=500;X-TITLE=Hospital Road:geo:0.7106738,52.2409283
END:VEVENT
BEGIN:VEVENT
DTSTART;TZID=Europe/London:20260928T140000
DTEND;TZID=Europe/London:20260928T160000
DTSTAMP:20260421T190818
CREATED:20260126T160208Z
LAST-MODIFIED:20260126T160208Z
UID:10008266-1790604000-1790611200@www.u3aburystedmunds.co.uk
SUMMARY:The Elderberries (The u3a Singers)
DESCRIPTION:The u3a Singers are a friendly\, informal group with over 50 members\, we sing a wide variety of music\, usually in four parts (soprano\, alto\, tenor\, bass). \nNo Audition is necessary\, and you don’t need to read music\, as we will help you.  \nNew members are very welcome\, why not join us and enjoy the health benefits of singing.  \nFor further information please email the group organiser (log in to get their details) \nConcerts are held twice each year at All Saints Church. \nLast rehearsal of term – Monday 23rd November. \nFees are £15 per term\, which covers the hire of the hall and music.
URL:https://www.u3aburystedmunds.co.uk/event/the-elderberries-the-u3a-singers/2026-09-28/
LOCATION:Thomas Clarkson Centre\, Hospital Road\, Bury St Edmunds\, IP33 3JT
CATEGORIES:Music,Study Group
ATTACH;FMTTYPE=image/jpeg:https://www.u3aburystedmunds.co.uk/wp-content/uploads/2025/05/choir2.jpg
ORGANIZER;CN="Karen Norris":MAILTO:karennorris907@btinternet.com
GEO:52.2409283;0.7106738
X-APPLE-STRUCTURED-LOCATION;VALUE=URI;X-ADDRESS=Thomas Clarkson Centre Hospital Road Bury St Edmunds IP33 3JT;X-APPLE-RADIUS=500;X-TITLE=Hospital Road:geo:0.7106738,52.2409283
END:VEVENT
BEGIN:VEVENT
DTSTART;TZID=Europe/London:20261005T140000
DTEND;TZID=Europe/London:20261005T160000
DTSTAMP:20260421T190818
CREATED:20260126T160208Z
LAST-MODIFIED:20260126T160208Z
UID:10008267-1791208800-1791216000@www.u3aburystedmunds.co.uk
SUMMARY:The Elderberries (The u3a Singers)
DESCRIPTION:The u3a Singers are a friendly\, informal group with over 50 members\, we sing a wide variety of music\, usually in four parts (soprano\, alto\, tenor\, bass). \nNo Audition is necessary\, and you don’t need to read music\, as we will help you.  \nNew members are very welcome\, why not join us and enjoy the health benefits of singing.  \nFor further information please email the group organiser (log in to get their details) \nConcerts are held twice each year at All Saints Church. \nLast rehearsal of term – Monday 23rd November. \nFees are £15 per term\, which covers the hire of the hall and music.
URL:https://www.u3aburystedmunds.co.uk/event/the-elderberries-the-u3a-singers/2026-10-05/
LOCATION:Thomas Clarkson Centre\, Hospital Road\, Bury St Edmunds\, IP33 3JT
CATEGORIES:Music,Study Group
ATTACH;FMTTYPE=image/jpeg:https://www.u3aburystedmunds.co.uk/wp-content/uploads/2025/05/choir2.jpg
ORGANIZER;CN="Karen Norris":MAILTO:karennorris907@btinternet.com
GEO:52.2409283;0.7106738
X-APPLE-STRUCTURED-LOCATION;VALUE=URI;X-ADDRESS=Thomas Clarkson Centre Hospital Road Bury St Edmunds IP33 3JT;X-APPLE-RADIUS=500;X-TITLE=Hospital Road:geo:0.7106738,52.2409283
END:VEVENT
BEGIN:VEVENT
DTSTART;TZID=Europe/London:20261012T140000
DTEND;TZID=Europe/London:20261012T160000
DTSTAMP:20260421T190818
CREATED:20260126T160208Z
LAST-MODIFIED:20260126T160208Z
UID:10008268-1791813600-1791820800@www.u3aburystedmunds.co.uk
SUMMARY:The Elderberries (The u3a Singers)
DESCRIPTION:The u3a Singers are a friendly\, informal group with over 50 members\, we sing a wide variety of music\, usually in four parts (soprano\, alto\, tenor\, bass). \nNo Audition is necessary\, and you don’t need to read music\, as we will help you.  \nNew members are very welcome\, why not join us and enjoy the health benefits of singing.  \nFor further information please email the group organiser (log in to get their details) \nConcerts are held twice each year at All Saints Church. \nLast rehearsal of term – Monday 23rd November. \nFees are £15 per term\, which covers the hire of the hall and music.
URL:https://www.u3aburystedmunds.co.uk/event/the-elderberries-the-u3a-singers/2026-10-12/
LOCATION:Thomas Clarkson Centre\, Hospital Road\, Bury St Edmunds\, IP33 3JT
CATEGORIES:Music,Study Group
ATTACH;FMTTYPE=image/jpeg:https://www.u3aburystedmunds.co.uk/wp-content/uploads/2025/05/choir2.jpg
ORGANIZER;CN="Karen Norris":MAILTO:karennorris907@btinternet.com
GEO:52.2409283;0.7106738
X-APPLE-STRUCTURED-LOCATION;VALUE=URI;X-ADDRESS=Thomas Clarkson Centre Hospital Road Bury St Edmunds IP33 3JT;X-APPLE-RADIUS=500;X-TITLE=Hospital Road:geo:0.7106738,52.2409283
END:VEVENT
BEGIN:VEVENT
DTSTART;TZID=Europe/London:20261019T140000
DTEND;TZID=Europe/London:20261019T160000
DTSTAMP:20260421T190818
CREATED:20260126T160208Z
LAST-MODIFIED:20260126T160208Z
UID:10008269-1792418400-1792425600@www.u3aburystedmunds.co.uk
SUMMARY:The Elderberries (The u3a Singers)
DESCRIPTION:The u3a Singers are a friendly\, informal group with over 50 members\, we sing a wide variety of music\, usually in four parts (soprano\, alto\, tenor\, bass). \nNo Audition is necessary\, and you don’t need to read music\, as we will help you.  \nNew members are very welcome\, why not join us and enjoy the health benefits of singing.  \nFor further information please email the group organiser (log in to get their details) \nConcerts are held twice each year at All Saints Church. \nLast rehearsal of term – Monday 23rd November. \nFees are £15 per term\, which covers the hire of the hall and music.
URL:https://www.u3aburystedmunds.co.uk/event/the-elderberries-the-u3a-singers/2026-10-19/
LOCATION:Thomas Clarkson Centre\, Hospital Road\, Bury St Edmunds\, IP33 3JT
CATEGORIES:Music,Study Group
ATTACH;FMTTYPE=image/jpeg:https://www.u3aburystedmunds.co.uk/wp-content/uploads/2025/05/choir2.jpg
ORGANIZER;CN="Karen Norris":MAILTO:karennorris907@btinternet.com
GEO:52.2409283;0.7106738
X-APPLE-STRUCTURED-LOCATION;VALUE=URI;X-ADDRESS=Thomas Clarkson Centre Hospital Road Bury St Edmunds IP33 3JT;X-APPLE-RADIUS=500;X-TITLE=Hospital Road:geo:0.7106738,52.2409283
END:VEVENT
BEGIN:VEVENT
DTSTART;TZID=Europe/London:20261026T140000
DTEND;TZID=Europe/London:20261026T160000
DTSTAMP:20260421T190818
CREATED:20260126T160208Z
LAST-MODIFIED:20260126T160208Z
UID:10008270-1793023200-1793030400@www.u3aburystedmunds.co.uk
SUMMARY:The Elderberries (The u3a Singers)
DESCRIPTION:The u3a Singers are a friendly\, informal group with over 50 members\, we sing a wide variety of music\, usually in four parts (soprano\, alto\, tenor\, bass). \nNo Audition is necessary\, and you don’t need to read music\, as we will help you.  \nNew members are very welcome\, why not join us and enjoy the health benefits of singing.  \nFor further information please email the group organiser (log in to get their details) \nConcerts are held twice each year at All Saints Church. \nLast rehearsal of term – Monday 23rd November. \nFees are £15 per term\, which covers the hire of the hall and music.
URL:https://www.u3aburystedmunds.co.uk/event/the-elderberries-the-u3a-singers/2026-10-26/
LOCATION:Thomas Clarkson Centre\, Hospital Road\, Bury St Edmunds\, IP33 3JT
CATEGORIES:Music,Study Group
ATTACH;FMTTYPE=image/jpeg:https://www.u3aburystedmunds.co.uk/wp-content/uploads/2025/05/choir2.jpg
ORGANIZER;CN="Karen Norris":MAILTO:karennorris907@btinternet.com
GEO:52.2409283;0.7106738
X-APPLE-STRUCTURED-LOCATION;VALUE=URI;X-ADDRESS=Thomas Clarkson Centre Hospital Road Bury St Edmunds IP33 3JT;X-APPLE-RADIUS=500;X-TITLE=Hospital Road:geo:0.7106738,52.2409283
END:VEVENT
BEGIN:VEVENT
DTSTART;TZID=Europe/London:20261102T140000
DTEND;TZID=Europe/London:20261102T160000
DTSTAMP:20260421T190818
CREATED:20260126T160208Z
LAST-MODIFIED:20260126T160208Z
UID:10008271-1793628000-1793635200@www.u3aburystedmunds.co.uk
SUMMARY:The Elderberries (The u3a Singers)
DESCRIPTION:The u3a Singers are a friendly\, informal group with over 50 members\, we sing a wide variety of music\, usually in four parts (soprano\, alto\, tenor\, bass). \nNo Audition is necessary\, and you don’t need to read music\, as we will help you.  \nNew members are very welcome\, why not join us and enjoy the health benefits of singing.  \nFor further information please email the group organiser (log in to get their details) \nConcerts are held twice each year at All Saints Church. \nLast rehearsal of term – Monday 23rd November. \nFees are £15 per term\, which covers the hire of the hall and music.
URL:https://www.u3aburystedmunds.co.uk/event/the-elderberries-the-u3a-singers/2026-11-02/
LOCATION:Thomas Clarkson Centre\, Hospital Road\, Bury St Edmunds\, IP33 3JT
CATEGORIES:Music,Study Group
ATTACH;FMTTYPE=image/jpeg:https://www.u3aburystedmunds.co.uk/wp-content/uploads/2025/05/choir2.jpg
ORGANIZER;CN="Karen Norris":MAILTO:karennorris907@btinternet.com
GEO:52.2409283;0.7106738
X-APPLE-STRUCTURED-LOCATION;VALUE=URI;X-ADDRESS=Thomas Clarkson Centre Hospital Road Bury St Edmunds IP33 3JT;X-APPLE-RADIUS=500;X-TITLE=Hospital Road:geo:0.7106738,52.2409283
END:VEVENT
BEGIN:VEVENT
DTSTART;TZID=Europe/London:20261109T140000
DTEND;TZID=Europe/London:20261109T160000
DTSTAMP:20260421T190818
CREATED:20260126T160208Z
LAST-MODIFIED:20260126T160208Z
UID:10008272-1794232800-1794240000@www.u3aburystedmunds.co.uk
SUMMARY:The Elderberries (The u3a Singers)
DESCRIPTION:The u3a Singers are a friendly\, informal group with over 50 members\, we sing a wide variety of music\, usually in four parts (soprano\, alto\, tenor\, bass). \nNo Audition is necessary\, and you don’t need to read music\, as we will help you.  \nNew members are very welcome\, why not join us and enjoy the health benefits of singing.  \nFor further information please email the group organiser (log in to get their details) \nConcerts are held twice each year at All Saints Church. \nLast rehearsal of term – Monday 23rd November. \nFees are £15 per term\, which covers the hire of the hall and music.
URL:https://www.u3aburystedmunds.co.uk/event/the-elderberries-the-u3a-singers/2026-11-09/
LOCATION:Thomas Clarkson Centre\, Hospital Road\, Bury St Edmunds\, IP33 3JT
CATEGORIES:Music,Study Group
ATTACH;FMTTYPE=image/jpeg:https://www.u3aburystedmunds.co.uk/wp-content/uploads/2025/05/choir2.jpg
ORGANIZER;CN="Karen Norris":MAILTO:karennorris907@btinternet.com
GEO:52.2409283;0.7106738
X-APPLE-STRUCTURED-LOCATION;VALUE=URI;X-ADDRESS=Thomas Clarkson Centre Hospital Road Bury St Edmunds IP33 3JT;X-APPLE-RADIUS=500;X-TITLE=Hospital Road:geo:0.7106738,52.2409283
END:VEVENT
BEGIN:VEVENT
DTSTART;TZID=Europe/London:20261116T140000
DTEND;TZID=Europe/London:20261116T160000
DTSTAMP:20260421T190818
CREATED:20260126T160208Z
LAST-MODIFIED:20260126T160208Z
UID:10008273-1794837600-1794844800@www.u3aburystedmunds.co.uk
SUMMARY:The Elderberries (The u3a Singers)
DESCRIPTION:The u3a Singers are a friendly\, informal group with over 50 members\, we sing a wide variety of music\, usually in four parts (soprano\, alto\, tenor\, bass). \nNo Audition is necessary\, and you don’t need to read music\, as we will help you.  \nNew members are very welcome\, why not join us and enjoy the health benefits of singing.  \nFor further information please email the group organiser (log in to get their details) \nConcerts are held twice each year at All Saints Church. \nLast rehearsal of term – Monday 23rd November. \nFees are £15 per term\, which covers the hire of the hall and music.
URL:https://www.u3aburystedmunds.co.uk/event/the-elderberries-the-u3a-singers/2026-11-16/
LOCATION:Thomas Clarkson Centre\, Hospital Road\, Bury St Edmunds\, IP33 3JT
CATEGORIES:Music,Study Group
ATTACH;FMTTYPE=image/jpeg:https://www.u3aburystedmunds.co.uk/wp-content/uploads/2025/05/choir2.jpg
ORGANIZER;CN="Karen Norris":MAILTO:karennorris907@btinternet.com
GEO:52.2409283;0.7106738
X-APPLE-STRUCTURED-LOCATION;VALUE=URI;X-ADDRESS=Thomas Clarkson Centre Hospital Road Bury St Edmunds IP33 3JT;X-APPLE-RADIUS=500;X-TITLE=Hospital Road:geo:0.7106738,52.2409283
END:VEVENT
BEGIN:VEVENT
DTSTART;TZID=Europe/London:20261123T140000
DTEND;TZID=Europe/London:20261123T160000
DTSTAMP:20260421T190818
CREATED:20260126T160208Z
LAST-MODIFIED:20260126T160208Z
UID:10008274-1795442400-1795449600@www.u3aburystedmunds.co.uk
SUMMARY:The Elderberries (The u3a Singers)
DESCRIPTION:The u3a Singers are a friendly\, informal group with over 50 members\, we sing a wide variety of music\, usually in four parts (soprano\, alto\, tenor\, bass). \nNo Audition is necessary\, and you don’t need to read music\, as we will help you.  \nNew members are very welcome\, why not join us and enjoy the health benefits of singing.  \nFor further information please email the group organiser (log in to get their details) \nConcerts are held twice each year at All Saints Church. \nLast rehearsal of term – Monday 23rd November. \nFees are £15 per term\, which covers the hire of the hall and music.
URL:https://www.u3aburystedmunds.co.uk/event/the-elderberries-the-u3a-singers/2026-11-23/
LOCATION:Thomas Clarkson Centre\, Hospital Road\, Bury St Edmunds\, IP33 3JT
CATEGORIES:Music,Study Group
ATTACH;FMTTYPE=image/jpeg:https://www.u3aburystedmunds.co.uk/wp-content/uploads/2025/05/choir2.jpg
ORGANIZER;CN="Karen Norris":MAILTO:karennorris907@btinternet.com
GEO:52.2409283;0.7106738
X-APPLE-STRUCTURED-LOCATION;VALUE=URI;X-ADDRESS=Thomas Clarkson Centre Hospital Road Bury St Edmunds IP33 3JT;X-APPLE-RADIUS=500;X-TITLE=Hospital Road:geo:0.7106738,52.2409283
END:VEVENT
END:VCALENDAR