
BEGIN:VCALENDAR
VERSION:2.0
PRODID:-//u3a Bury St Edmunds - ECPv6.15.20//NONSGML v1.0//EN
CALSCALE:GREGORIAN
METHOD:PUBLISH
X-WR-CALNAME:u3a Bury St Edmunds
X-ORIGINAL-URL:https://www.u3aburystedmunds.co.uk
X-WR-CALDESC:Events for u3a Bury St Edmunds
REFRESH-INTERVAL;VALUE=DURATION:PT1H
X-Robots-Tag:noindex
X-PUBLISHED-TTL:PT1H
BEGIN:VTIMEZONE
TZID:Europe/London
BEGIN:DAYLIGHT
TZOFFSETFROM:+0000
TZOFFSETTO:+0100
TZNAME:BST
DTSTART:20230326T010000
END:DAYLIGHT
BEGIN:STANDARD
TZOFFSETFROM:+0100
TZOFFSETTO:+0000
TZNAME:GMT
DTSTART:20231029T010000
END:STANDARD
BEGIN:DAYLIGHT
TZOFFSETFROM:+0000
TZOFFSETTO:+0100
TZNAME:BST
DTSTART:20240331T010000
END:DAYLIGHT
BEGIN:STANDARD
TZOFFSETFROM:+0100
TZOFFSETTO:+0000
TZNAME:GMT
DTSTART:20241027T010000
END:STANDARD
BEGIN:DAYLIGHT
TZOFFSETFROM:+0000
TZOFFSETTO:+0100
TZNAME:BST
DTSTART:20250330T010000
END:DAYLIGHT
BEGIN:STANDARD
TZOFFSETFROM:+0100
TZOFFSETTO:+0000
TZNAME:GMT
DTSTART:20251026T010000
END:STANDARD
END:VTIMEZONE
BEGIN:VEVENT
DTSTART;TZID=Europe/London:20240411T100000
DTEND;TZID=Europe/London:20240411T123000
DTSTAMP:20260421T131427
CREATED:20221110T064341Z
LAST-MODIFIED:20251216T145042Z
UID:10007214-1712829600-1712838600@www.u3aburystedmunds.co.uk
SUMMARY:Music for All Ages
DESCRIPTION:A group for music enthusiasts! \nThe aim of the group(s) is to provide a relaxed environment for music enthusiasts to share their passion and knowledge with other group members in a sociable way. Inevitably members are introduced to music/artists they will not have heard before and expands their musical horizons. \nMembers meet monthly at the group leader’s house to listen to music for a couple of hours or so with a break for tea/coffee and discussion. The music is selected by the group members based on a theme which members choose in turn. The scope is almost limitless but examples might be: \n·        Favourite female singers \n·        Songs released in the ’70s \n·        Colours \n·        Film & TV \n·        Cover versions \n·        Towns & Cities \nI then create a playlist of the music selections in advance of meetings in order to play them on the day. The music selected is generally modern but has included classical\, jazz etc.
URL:https://www.u3aburystedmunds.co.uk/event/music-for-all-ages/2024-04-11/
CATEGORIES:Music,Study Group
ATTACH;FMTTYPE=image/jpeg:https://www.u3aburystedmunds.co.uk/wp-content/uploads/2018/05/Just-Music-Shutterstock-Screenshot-2022-11-10-063553.jpg
ORGANIZER;CN="John Hawthorn":MAILTO:johnandsuehawthorn@gmail.com
END:VEVENT
BEGIN:VEVENT
DTSTART;TZID=Europe/London:20240314T100000
DTEND;TZID=Europe/London:20240314T123000
DTSTAMP:20260421T131427
CREATED:20221110T064341Z
LAST-MODIFIED:20251216T145042Z
UID:10007213-1710410400-1710419400@www.u3aburystedmunds.co.uk
SUMMARY:Music for All Ages
DESCRIPTION:A group for music enthusiasts! \nThe aim of the group(s) is to provide a relaxed environment for music enthusiasts to share their passion and knowledge with other group members in a sociable way. Inevitably members are introduced to music/artists they will not have heard before and expands their musical horizons. \nMembers meet monthly at the group leader’s house to listen to music for a couple of hours or so with a break for tea/coffee and discussion. The music is selected by the group members based on a theme which members choose in turn. The scope is almost limitless but examples might be: \n·        Favourite female singers \n·        Songs released in the ’70s \n·        Colours \n·        Film & TV \n·        Cover versions \n·        Towns & Cities \nI then create a playlist of the music selections in advance of meetings in order to play them on the day. The music selected is generally modern but has included classical\, jazz etc.
URL:https://www.u3aburystedmunds.co.uk/event/music-for-all-ages/2024-03-14/
CATEGORIES:Music,Study Group
ATTACH;FMTTYPE=image/jpeg:https://www.u3aburystedmunds.co.uk/wp-content/uploads/2018/05/Just-Music-Shutterstock-Screenshot-2022-11-10-063553.jpg
ORGANIZER;CN="John Hawthorn":MAILTO:johnandsuehawthorn@gmail.com
END:VEVENT
END:VCALENDAR