
BEGIN:VCALENDAR
VERSION:2.0
PRODID:-//u3a Bury St Edmunds - ECPv6.15.20//NONSGML v1.0//EN
CALSCALE:GREGORIAN
METHOD:PUBLISH
X-WR-CALNAME:u3a Bury St Edmunds
X-ORIGINAL-URL:https://www.u3aburystedmunds.co.uk
X-WR-CALDESC:Events for u3a Bury St Edmunds
REFRESH-INTERVAL;VALUE=DURATION:PT1H
X-Robots-Tag:noindex
X-PUBLISHED-TTL:PT1H
BEGIN:VTIMEZONE
TZID:Europe/London
BEGIN:DAYLIGHT
TZOFFSETFROM:+0000
TZOFFSETTO:+0100
TZNAME:BST
DTSTART:20290325T010000
END:DAYLIGHT
BEGIN:STANDARD
TZOFFSETFROM:+0100
TZOFFSETTO:+0000
TZNAME:GMT
DTSTART:20291028T010000
END:STANDARD
BEGIN:DAYLIGHT
TZOFFSETFROM:+0000
TZOFFSETTO:+0100
TZNAME:BST
DTSTART:20300331T010000
END:DAYLIGHT
BEGIN:STANDARD
TZOFFSETFROM:+0100
TZOFFSETTO:+0000
TZNAME:GMT
DTSTART:20301027T010000
END:STANDARD
BEGIN:DAYLIGHT
TZOFFSETFROM:+0000
TZOFFSETTO:+0100
TZNAME:BST
DTSTART:20310330T010000
END:DAYLIGHT
BEGIN:STANDARD
TZOFFSETFROM:+0100
TZOFFSETTO:+0000
TZNAME:GMT
DTSTART:20311026T010000
END:STANDARD
BEGIN:DAYLIGHT
TZOFFSETFROM:+0000
TZOFFSETTO:+0100
TZNAME:BST
DTSTART:20320328T010000
END:DAYLIGHT
BEGIN:STANDARD
TZOFFSETFROM:+0100
TZOFFSETTO:+0000
TZNAME:GMT
DTSTART:20321031T010000
END:STANDARD
END:VTIMEZONE
BEGIN:VEVENT
DTSTART;TZID=Europe/London:20300509T100000
DTEND;TZID=Europe/London:20300509T123000
DTSTAMP:20260419T152607
CREATED:20221110T064341Z
LAST-MODIFIED:20251216T145042Z
UID:10011006-1904551200-1904560200@www.u3aburystedmunds.co.uk
SUMMARY:Music for All Ages
DESCRIPTION:A group for music enthusiasts! \nThe aim of the group(s) is to provide a relaxed environment for music enthusiasts to share their passion and knowledge with other group members in a sociable way. Inevitably members are introduced to music/artists they will not have heard before and expands their musical horizons. \nMembers meet monthly at the group leader’s house to listen to music for a couple of hours or so with a break for tea/coffee and discussion. The music is selected by the group members based on a theme which members choose in turn. The scope is almost limitless but examples might be: \n·        Favourite female singers \n·        Songs released in the ’70s \n·        Colours \n·        Film & TV \n·        Cover versions \n·        Towns & Cities \nI then create a playlist of the music selections in advance of meetings in order to play them on the day. The music selected is generally modern but has included classical\, jazz etc.
URL:https://www.u3aburystedmunds.co.uk/event/music-for-all-ages/2030-05-09/
CATEGORIES:Music,Study Group
ATTACH;FMTTYPE=image/jpeg:https://www.u3aburystedmunds.co.uk/wp-content/uploads/2018/05/Just-Music-Shutterstock-Screenshot-2022-11-10-063553.jpg
ORGANIZER;CN="John Hawthorn":MAILTO:johnandsuehawthorn@gmail.com
END:VEVENT
BEGIN:VEVENT
DTSTART;TZID=Europe/London:20300613T100000
DTEND;TZID=Europe/London:20300613T123000
DTSTAMP:20260419T152607
CREATED:20221110T064341Z
LAST-MODIFIED:20251216T145042Z
UID:10011007-1907575200-1907584200@www.u3aburystedmunds.co.uk
SUMMARY:Music for All Ages
DESCRIPTION:A group for music enthusiasts! \nThe aim of the group(s) is to provide a relaxed environment for music enthusiasts to share their passion and knowledge with other group members in a sociable way. Inevitably members are introduced to music/artists they will not have heard before and expands their musical horizons. \nMembers meet monthly at the group leader’s house to listen to music for a couple of hours or so with a break for tea/coffee and discussion. The music is selected by the group members based on a theme which members choose in turn. The scope is almost limitless but examples might be: \n·        Favourite female singers \n·        Songs released in the ’70s \n·        Colours \n·        Film & TV \n·        Cover versions \n·        Towns & Cities \nI then create a playlist of the music selections in advance of meetings in order to play them on the day. The music selected is generally modern but has included classical\, jazz etc.
URL:https://www.u3aburystedmunds.co.uk/event/music-for-all-ages/2030-06-13/
CATEGORIES:Music,Study Group
ATTACH;FMTTYPE=image/jpeg:https://www.u3aburystedmunds.co.uk/wp-content/uploads/2018/05/Just-Music-Shutterstock-Screenshot-2022-11-10-063553.jpg
ORGANIZER;CN="John Hawthorn":MAILTO:johnandsuehawthorn@gmail.com
END:VEVENT
BEGIN:VEVENT
DTSTART;TZID=Europe/London:20300711T100000
DTEND;TZID=Europe/London:20300711T123000
DTSTAMP:20260419T152607
CREATED:20221110T064341Z
LAST-MODIFIED:20251216T145042Z
UID:10011008-1909994400-1910003400@www.u3aburystedmunds.co.uk
SUMMARY:Music for All Ages
DESCRIPTION:A group for music enthusiasts! \nThe aim of the group(s) is to provide a relaxed environment for music enthusiasts to share their passion and knowledge with other group members in a sociable way. Inevitably members are introduced to music/artists they will not have heard before and expands their musical horizons. \nMembers meet monthly at the group leader’s house to listen to music for a couple of hours or so with a break for tea/coffee and discussion. The music is selected by the group members based on a theme which members choose in turn. The scope is almost limitless but examples might be: \n·        Favourite female singers \n·        Songs released in the ’70s \n·        Colours \n·        Film & TV \n·        Cover versions \n·        Towns & Cities \nI then create a playlist of the music selections in advance of meetings in order to play them on the day. The music selected is generally modern but has included classical\, jazz etc.
URL:https://www.u3aburystedmunds.co.uk/event/music-for-all-ages/2030-07-11/
CATEGORIES:Music,Study Group
ATTACH;FMTTYPE=image/jpeg:https://www.u3aburystedmunds.co.uk/wp-content/uploads/2018/05/Just-Music-Shutterstock-Screenshot-2022-11-10-063553.jpg
ORGANIZER;CN="John Hawthorn":MAILTO:johnandsuehawthorn@gmail.com
END:VEVENT
BEGIN:VEVENT
DTSTART;TZID=Europe/London:20300808T100000
DTEND;TZID=Europe/London:20300808T123000
DTSTAMP:20260419T152607
CREATED:20221110T064341Z
LAST-MODIFIED:20251216T145042Z
UID:10011009-1912413600-1912422600@www.u3aburystedmunds.co.uk
SUMMARY:Music for All Ages
DESCRIPTION:A group for music enthusiasts! \nThe aim of the group(s) is to provide a relaxed environment for music enthusiasts to share their passion and knowledge with other group members in a sociable way. Inevitably members are introduced to music/artists they will not have heard before and expands their musical horizons. \nMembers meet monthly at the group leader’s house to listen to music for a couple of hours or so with a break for tea/coffee and discussion. The music is selected by the group members based on a theme which members choose in turn. The scope is almost limitless but examples might be: \n·        Favourite female singers \n·        Songs released in the ’70s \n·        Colours \n·        Film & TV \n·        Cover versions \n·        Towns & Cities \nI then create a playlist of the music selections in advance of meetings in order to play them on the day. The music selected is generally modern but has included classical\, jazz etc.
URL:https://www.u3aburystedmunds.co.uk/event/music-for-all-ages/2030-08-08/
CATEGORIES:Music,Study Group
ATTACH;FMTTYPE=image/jpeg:https://www.u3aburystedmunds.co.uk/wp-content/uploads/2018/05/Just-Music-Shutterstock-Screenshot-2022-11-10-063553.jpg
ORGANIZER;CN="John Hawthorn":MAILTO:johnandsuehawthorn@gmail.com
END:VEVENT
BEGIN:VEVENT
DTSTART;TZID=Europe/London:20300912T100000
DTEND;TZID=Europe/London:20300912T123000
DTSTAMP:20260419T152607
CREATED:20221110T064341Z
LAST-MODIFIED:20251216T145042Z
UID:10011010-1915437600-1915446600@www.u3aburystedmunds.co.uk
SUMMARY:Music for All Ages
DESCRIPTION:A group for music enthusiasts! \nThe aim of the group(s) is to provide a relaxed environment for music enthusiasts to share their passion and knowledge with other group members in a sociable way. Inevitably members are introduced to music/artists they will not have heard before and expands their musical horizons. \nMembers meet monthly at the group leader’s house to listen to music for a couple of hours or so with a break for tea/coffee and discussion. The music is selected by the group members based on a theme which members choose in turn. The scope is almost limitless but examples might be: \n·        Favourite female singers \n·        Songs released in the ’70s \n·        Colours \n·        Film & TV \n·        Cover versions \n·        Towns & Cities \nI then create a playlist of the music selections in advance of meetings in order to play them on the day. The music selected is generally modern but has included classical\, jazz etc.
URL:https://www.u3aburystedmunds.co.uk/event/music-for-all-ages/2030-09-12/
CATEGORIES:Music,Study Group
ATTACH;FMTTYPE=image/jpeg:https://www.u3aburystedmunds.co.uk/wp-content/uploads/2018/05/Just-Music-Shutterstock-Screenshot-2022-11-10-063553.jpg
ORGANIZER;CN="John Hawthorn":MAILTO:johnandsuehawthorn@gmail.com
END:VEVENT
BEGIN:VEVENT
DTSTART;TZID=Europe/London:20301010T100000
DTEND;TZID=Europe/London:20301010T123000
DTSTAMP:20260419T152607
CREATED:20221110T064341Z
LAST-MODIFIED:20251216T145042Z
UID:10011011-1917856800-1917865800@www.u3aburystedmunds.co.uk
SUMMARY:Music for All Ages
DESCRIPTION:A group for music enthusiasts! \nThe aim of the group(s) is to provide a relaxed environment for music enthusiasts to share their passion and knowledge with other group members in a sociable way. Inevitably members are introduced to music/artists they will not have heard before and expands their musical horizons. \nMembers meet monthly at the group leader’s house to listen to music for a couple of hours or so with a break for tea/coffee and discussion. The music is selected by the group members based on a theme which members choose in turn. The scope is almost limitless but examples might be: \n·        Favourite female singers \n·        Songs released in the ’70s \n·        Colours \n·        Film & TV \n·        Cover versions \n·        Towns & Cities \nI then create a playlist of the music selections in advance of meetings in order to play them on the day. The music selected is generally modern but has included classical\, jazz etc.
URL:https://www.u3aburystedmunds.co.uk/event/music-for-all-ages/2030-10-10/
CATEGORIES:Music,Study Group
ATTACH;FMTTYPE=image/jpeg:https://www.u3aburystedmunds.co.uk/wp-content/uploads/2018/05/Just-Music-Shutterstock-Screenshot-2022-11-10-063553.jpg
ORGANIZER;CN="John Hawthorn":MAILTO:johnandsuehawthorn@gmail.com
END:VEVENT
BEGIN:VEVENT
DTSTART;TZID=Europe/London:20301114T100000
DTEND;TZID=Europe/London:20301114T123000
DTSTAMP:20260419T152607
CREATED:20221110T064341Z
LAST-MODIFIED:20251216T145042Z
UID:10011012-1920880800-1920889800@www.u3aburystedmunds.co.uk
SUMMARY:Music for All Ages
DESCRIPTION:A group for music enthusiasts! \nThe aim of the group(s) is to provide a relaxed environment for music enthusiasts to share their passion and knowledge with other group members in a sociable way. Inevitably members are introduced to music/artists they will not have heard before and expands their musical horizons. \nMembers meet monthly at the group leader’s house to listen to music for a couple of hours or so with a break for tea/coffee and discussion. The music is selected by the group members based on a theme which members choose in turn. The scope is almost limitless but examples might be: \n·        Favourite female singers \n·        Songs released in the ’70s \n·        Colours \n·        Film & TV \n·        Cover versions \n·        Towns & Cities \nI then create a playlist of the music selections in advance of meetings in order to play them on the day. The music selected is generally modern but has included classical\, jazz etc.
URL:https://www.u3aburystedmunds.co.uk/event/music-for-all-ages/2030-11-14/
CATEGORIES:Music,Study Group
ATTACH;FMTTYPE=image/jpeg:https://www.u3aburystedmunds.co.uk/wp-content/uploads/2018/05/Just-Music-Shutterstock-Screenshot-2022-11-10-063553.jpg
ORGANIZER;CN="John Hawthorn":MAILTO:johnandsuehawthorn@gmail.com
END:VEVENT
BEGIN:VEVENT
DTSTART;TZID=Europe/London:20301212T100000
DTEND;TZID=Europe/London:20301212T123000
DTSTAMP:20260419T152607
CREATED:20221110T064341Z
LAST-MODIFIED:20251216T145042Z
UID:10011013-1923300000-1923309000@www.u3aburystedmunds.co.uk
SUMMARY:Music for All Ages
DESCRIPTION:A group for music enthusiasts! \nThe aim of the group(s) is to provide a relaxed environment for music enthusiasts to share their passion and knowledge with other group members in a sociable way. Inevitably members are introduced to music/artists they will not have heard before and expands their musical horizons. \nMembers meet monthly at the group leader’s house to listen to music for a couple of hours or so with a break for tea/coffee and discussion. The music is selected by the group members based on a theme which members choose in turn. The scope is almost limitless but examples might be: \n·        Favourite female singers \n·        Songs released in the ’70s \n·        Colours \n·        Film & TV \n·        Cover versions \n·        Towns & Cities \nI then create a playlist of the music selections in advance of meetings in order to play them on the day. The music selected is generally modern but has included classical\, jazz etc.
URL:https://www.u3aburystedmunds.co.uk/event/music-for-all-ages/2030-12-12/
CATEGORIES:Music,Study Group
ATTACH;FMTTYPE=image/jpeg:https://www.u3aburystedmunds.co.uk/wp-content/uploads/2018/05/Just-Music-Shutterstock-Screenshot-2022-11-10-063553.jpg
ORGANIZER;CN="John Hawthorn":MAILTO:johnandsuehawthorn@gmail.com
END:VEVENT
BEGIN:VEVENT
DTSTART;TZID=Europe/London:20310109T100000
DTEND;TZID=Europe/London:20310109T123000
DTSTAMP:20260419T152607
CREATED:20221110T064341Z
LAST-MODIFIED:20251216T145042Z
UID:10011014-1925719200-1925728200@www.u3aburystedmunds.co.uk
SUMMARY:Music for All Ages
DESCRIPTION:A group for music enthusiasts! \nThe aim of the group(s) is to provide a relaxed environment for music enthusiasts to share their passion and knowledge with other group members in a sociable way. Inevitably members are introduced to music/artists they will not have heard before and expands their musical horizons. \nMembers meet monthly at the group leader’s house to listen to music for a couple of hours or so with a break for tea/coffee and discussion. The music is selected by the group members based on a theme which members choose in turn. The scope is almost limitless but examples might be: \n·        Favourite female singers \n·        Songs released in the ’70s \n·        Colours \n·        Film & TV \n·        Cover versions \n·        Towns & Cities \nI then create a playlist of the music selections in advance of meetings in order to play them on the day. The music selected is generally modern but has included classical\, jazz etc.
URL:https://www.u3aburystedmunds.co.uk/event/music-for-all-ages/2031-01-09/
CATEGORIES:Music,Study Group
ATTACH;FMTTYPE=image/jpeg:https://www.u3aburystedmunds.co.uk/wp-content/uploads/2018/05/Just-Music-Shutterstock-Screenshot-2022-11-10-063553.jpg
ORGANIZER;CN="John Hawthorn":MAILTO:johnandsuehawthorn@gmail.com
END:VEVENT
BEGIN:VEVENT
DTSTART;TZID=Europe/London:20310213T100000
DTEND;TZID=Europe/London:20310213T123000
DTSTAMP:20260419T152607
CREATED:20221110T064341Z
LAST-MODIFIED:20251216T145042Z
UID:10011015-1928743200-1928752200@www.u3aburystedmunds.co.uk
SUMMARY:Music for All Ages
DESCRIPTION:A group for music enthusiasts! \nThe aim of the group(s) is to provide a relaxed environment for music enthusiasts to share their passion and knowledge with other group members in a sociable way. Inevitably members are introduced to music/artists they will not have heard before and expands their musical horizons. \nMembers meet monthly at the group leader’s house to listen to music for a couple of hours or so with a break for tea/coffee and discussion. The music is selected by the group members based on a theme which members choose in turn. The scope is almost limitless but examples might be: \n·        Favourite female singers \n·        Songs released in the ’70s \n·        Colours \n·        Film & TV \n·        Cover versions \n·        Towns & Cities \nI then create a playlist of the music selections in advance of meetings in order to play them on the day. The music selected is generally modern but has included classical\, jazz etc.
URL:https://www.u3aburystedmunds.co.uk/event/music-for-all-ages/2031-02-13/
CATEGORIES:Music,Study Group
ATTACH;FMTTYPE=image/jpeg:https://www.u3aburystedmunds.co.uk/wp-content/uploads/2018/05/Just-Music-Shutterstock-Screenshot-2022-11-10-063553.jpg
ORGANIZER;CN="John Hawthorn":MAILTO:johnandsuehawthorn@gmail.com
END:VEVENT
BEGIN:VEVENT
DTSTART;TZID=Europe/London:20310313T100000
DTEND;TZID=Europe/London:20310313T123000
DTSTAMP:20260419T152607
CREATED:20221110T064341Z
LAST-MODIFIED:20251216T145042Z
UID:10011016-1931162400-1931171400@www.u3aburystedmunds.co.uk
SUMMARY:Music for All Ages
DESCRIPTION:A group for music enthusiasts! \nThe aim of the group(s) is to provide a relaxed environment for music enthusiasts to share their passion and knowledge with other group members in a sociable way. Inevitably members are introduced to music/artists they will not have heard before and expands their musical horizons. \nMembers meet monthly at the group leader’s house to listen to music for a couple of hours or so with a break for tea/coffee and discussion. The music is selected by the group members based on a theme which members choose in turn. The scope is almost limitless but examples might be: \n·        Favourite female singers \n·        Songs released in the ’70s \n·        Colours \n·        Film & TV \n·        Cover versions \n·        Towns & Cities \nI then create a playlist of the music selections in advance of meetings in order to play them on the day. The music selected is generally modern but has included classical\, jazz etc.
URL:https://www.u3aburystedmunds.co.uk/event/music-for-all-ages/2031-03-13/
CATEGORIES:Music,Study Group
ATTACH;FMTTYPE=image/jpeg:https://www.u3aburystedmunds.co.uk/wp-content/uploads/2018/05/Just-Music-Shutterstock-Screenshot-2022-11-10-063553.jpg
ORGANIZER;CN="John Hawthorn":MAILTO:johnandsuehawthorn@gmail.com
END:VEVENT
BEGIN:VEVENT
DTSTART;TZID=Europe/London:20310410T100000
DTEND;TZID=Europe/London:20310410T123000
DTSTAMP:20260419T152607
CREATED:20221110T064341Z
LAST-MODIFIED:20251216T145042Z
UID:10012632-1933581600-1933590600@www.u3aburystedmunds.co.uk
SUMMARY:Music for All Ages
DESCRIPTION:A group for music enthusiasts! \nThe aim of the group(s) is to provide a relaxed environment for music enthusiasts to share their passion and knowledge with other group members in a sociable way. Inevitably members are introduced to music/artists they will not have heard before and expands their musical horizons. \nMembers meet monthly at the group leader’s house to listen to music for a couple of hours or so with a break for tea/coffee and discussion. The music is selected by the group members based on a theme which members choose in turn. The scope is almost limitless but examples might be: \n·        Favourite female singers \n·        Songs released in the ’70s \n·        Colours \n·        Film & TV \n·        Cover versions \n·        Towns & Cities \nI then create a playlist of the music selections in advance of meetings in order to play them on the day. The music selected is generally modern but has included classical\, jazz etc.
URL:https://www.u3aburystedmunds.co.uk/event/music-for-all-ages/2031-04-10/
CATEGORIES:Music,Study Group
ATTACH;FMTTYPE=image/jpeg:https://www.u3aburystedmunds.co.uk/wp-content/uploads/2018/05/Just-Music-Shutterstock-Screenshot-2022-11-10-063553.jpg
ORGANIZER;CN="John Hawthorn":MAILTO:johnandsuehawthorn@gmail.com
END:VEVENT
END:VCALENDAR