
BEGIN:VCALENDAR
VERSION:2.0
PRODID:-//u3a Bury St Edmunds - ECPv6.15.20//NONSGML v1.0//EN
CALSCALE:GREGORIAN
METHOD:PUBLISH
X-ORIGINAL-URL:https://www.u3aburystedmunds.co.uk
X-WR-CALDESC:Events for u3a Bury St Edmunds
REFRESH-INTERVAL;VALUE=DURATION:PT1H
X-Robots-Tag:noindex
X-PUBLISHED-TTL:PT1H
BEGIN:VTIMEZONE
TZID:Europe/London
BEGIN:DAYLIGHT
TZOFFSETFROM:+0000
TZOFFSETTO:+0100
TZNAME:BST
DTSTART:20290325T010000
END:DAYLIGHT
BEGIN:STANDARD
TZOFFSETFROM:+0100
TZOFFSETTO:+0000
TZNAME:GMT
DTSTART:20291028T010000
END:STANDARD
BEGIN:DAYLIGHT
TZOFFSETFROM:+0000
TZOFFSETTO:+0100
TZNAME:BST
DTSTART:20300331T010000
END:DAYLIGHT
BEGIN:STANDARD
TZOFFSETFROM:+0100
TZOFFSETTO:+0000
TZNAME:GMT
DTSTART:20301027T010000
END:STANDARD
BEGIN:DAYLIGHT
TZOFFSETFROM:+0000
TZOFFSETTO:+0100
TZNAME:BST
DTSTART:20310330T010000
END:DAYLIGHT
BEGIN:STANDARD
TZOFFSETFROM:+0100
TZOFFSETTO:+0000
TZNAME:GMT
DTSTART:20311026T010000
END:STANDARD
BEGIN:DAYLIGHT
TZOFFSETFROM:+0000
TZOFFSETTO:+0100
TZNAME:BST
DTSTART:20320328T010000
END:DAYLIGHT
BEGIN:STANDARD
TZOFFSETFROM:+0100
TZOFFSETTO:+0000
TZNAME:GMT
DTSTART:20321031T010000
END:STANDARD
END:VTIMEZONE
BEGIN:VEVENT
DTSTART;TZID=Europe/London:20301202T100000
DTEND;TZID=Europe/London:20301202T120000
DTSTAMP:20260423T210129
CREATED:20180731T132624Z
LAST-MODIFIED:20251216T151513Z
UID:10008332-1922436000-1922443200@www.u3aburystedmunds.co.uk
SUMMARY:Writing Your Memoirs
DESCRIPTION:This self-help group aims to give support to its members by sharing memories thus prompting recollections of our own past. Each month everyone reads something they have written and the Group discusses each piece and makes (helpful) comments. Some hope to publish\, others just want to compile their life story for family and friends.\nThere is the occasional lunch or visit.
URL:https://www.u3aburystedmunds.co.uk/event/writing-your-memoirs/2030-12-02/
LOCATION:Group Organiser’s Home\, United Kingdom
CATEGORIES:History,Study Group
ATTACH;FMTTYPE=image/jpeg:https://www.u3aburystedmunds.co.uk/wp-content/uploads/2018/07/memoirs.jpg
ORGANIZER;CN="Jayne Gilbert":MAILTO:babyjudge1@btinternet.com
GEO:52.2228408;0.673249
END:VEVENT
BEGIN:VEVENT
DTSTART;TZID=Europe/London:20310106T100000
DTEND;TZID=Europe/London:20310106T120000
DTSTAMP:20260423T210129
CREATED:20180731T132624Z
LAST-MODIFIED:20251216T151513Z
UID:10008333-1925460000-1925467200@www.u3aburystedmunds.co.uk
SUMMARY:Writing Your Memoirs
DESCRIPTION:This self-help group aims to give support to its members by sharing memories thus prompting recollections of our own past. Each month everyone reads something they have written and the Group discusses each piece and makes (helpful) comments. Some hope to publish\, others just want to compile their life story for family and friends.\nThere is the occasional lunch or visit.
URL:https://www.u3aburystedmunds.co.uk/event/writing-your-memoirs/2031-01-06/
LOCATION:Group Organiser’s Home\, United Kingdom
CATEGORIES:History,Study Group
ATTACH;FMTTYPE=image/jpeg:https://www.u3aburystedmunds.co.uk/wp-content/uploads/2018/07/memoirs.jpg
ORGANIZER;CN="Jayne Gilbert":MAILTO:babyjudge1@btinternet.com
GEO:52.2228408;0.673249
END:VEVENT
BEGIN:VEVENT
DTSTART;TZID=Europe/London:20310203T100000
DTEND;TZID=Europe/London:20310203T120000
DTSTAMP:20260423T210129
CREATED:20180731T132624Z
LAST-MODIFIED:20251216T151513Z
UID:10008334-1927879200-1927886400@www.u3aburystedmunds.co.uk
SUMMARY:Writing Your Memoirs
DESCRIPTION:This self-help group aims to give support to its members by sharing memories thus prompting recollections of our own past. Each month everyone reads something they have written and the Group discusses each piece and makes (helpful) comments. Some hope to publish\, others just want to compile their life story for family and friends.\nThere is the occasional lunch or visit.
URL:https://www.u3aburystedmunds.co.uk/event/writing-your-memoirs/2031-02-03/
LOCATION:Group Organiser’s Home\, United Kingdom
CATEGORIES:History,Study Group
ATTACH;FMTTYPE=image/jpeg:https://www.u3aburystedmunds.co.uk/wp-content/uploads/2018/07/memoirs.jpg
ORGANIZER;CN="Jayne Gilbert":MAILTO:babyjudge1@btinternet.com
GEO:52.2228408;0.673249
END:VEVENT
BEGIN:VEVENT
DTSTART;TZID=Europe/London:20310303T100000
DTEND;TZID=Europe/London:20310303T120000
DTSTAMP:20260423T210129
CREATED:20180731T132624Z
LAST-MODIFIED:20251216T151513Z
UID:10008335-1930298400-1930305600@www.u3aburystedmunds.co.uk
SUMMARY:Writing Your Memoirs
DESCRIPTION:This self-help group aims to give support to its members by sharing memories thus prompting recollections of our own past. Each month everyone reads something they have written and the Group discusses each piece and makes (helpful) comments. Some hope to publish\, others just want to compile their life story for family and friends.\nThere is the occasional lunch or visit.
URL:https://www.u3aburystedmunds.co.uk/event/writing-your-memoirs/2031-03-03/
LOCATION:Group Organiser’s Home\, United Kingdom
CATEGORIES:History,Study Group
ATTACH;FMTTYPE=image/jpeg:https://www.u3aburystedmunds.co.uk/wp-content/uploads/2018/07/memoirs.jpg
ORGANIZER;CN="Jayne Gilbert":MAILTO:babyjudge1@btinternet.com
GEO:52.2228408;0.673249
END:VEVENT
BEGIN:VEVENT
DTSTART;TZID=Europe/London:20310407T100000
DTEND;TZID=Europe/London:20310407T120000
DTSTAMP:20260423T210129
CREATED:20180731T132624Z
LAST-MODIFIED:20251216T151513Z
UID:10012249-1933322400-1933329600@www.u3aburystedmunds.co.uk
SUMMARY:Writing Your Memoirs
DESCRIPTION:This self-help group aims to give support to its members by sharing memories thus prompting recollections of our own past. Each month everyone reads something they have written and the Group discusses each piece and makes (helpful) comments. Some hope to publish\, others just want to compile their life story for family and friends.\nThere is the occasional lunch or visit.
URL:https://www.u3aburystedmunds.co.uk/event/writing-your-memoirs/2031-04-07/
LOCATION:Group Organiser’s Home\, United Kingdom
CATEGORIES:History,Study Group
ATTACH;FMTTYPE=image/jpeg:https://www.u3aburystedmunds.co.uk/wp-content/uploads/2018/07/memoirs.jpg
ORGANIZER;CN="Jayne Gilbert":MAILTO:babyjudge1@btinternet.com
GEO:52.2228408;0.673249
END:VEVENT
END:VCALENDAR