
BEGIN:VCALENDAR
VERSION:2.0
PRODID:-//u3a Bury St Edmunds - ECPv6.15.20//NONSGML v1.0//EN
CALSCALE:GREGORIAN
METHOD:PUBLISH
X-WR-CALNAME:u3a Bury St Edmunds
X-ORIGINAL-URL:https://www.u3aburystedmunds.co.uk
X-WR-CALDESC:Events for u3a Bury St Edmunds
REFRESH-INTERVAL;VALUE=DURATION:PT1H
X-Robots-Tag:noindex
X-PUBLISHED-TTL:PT1H
BEGIN:VTIMEZONE
TZID:Europe/London
BEGIN:DAYLIGHT
TZOFFSETFROM:+0000
TZOFFSETTO:+0100
TZNAME:BST
DTSTART:20250330T010000
END:DAYLIGHT
BEGIN:STANDARD
TZOFFSETFROM:+0100
TZOFFSETTO:+0000
TZNAME:GMT
DTSTART:20251026T010000
END:STANDARD
BEGIN:DAYLIGHT
TZOFFSETFROM:+0000
TZOFFSETTO:+0100
TZNAME:BST
DTSTART:20260329T010000
END:DAYLIGHT
BEGIN:STANDARD
TZOFFSETFROM:+0100
TZOFFSETTO:+0000
TZNAME:GMT
DTSTART:20261025T010000
END:STANDARD
BEGIN:DAYLIGHT
TZOFFSETFROM:+0000
TZOFFSETTO:+0100
TZNAME:BST
DTSTART:20270328T010000
END:DAYLIGHT
BEGIN:STANDARD
TZOFFSETFROM:+0100
TZOFFSETTO:+0000
TZNAME:GMT
DTSTART:20271031T010000
END:STANDARD
END:VTIMEZONE
BEGIN:VEVENT
DTSTART;TZID=Europe/London:20260506T100000
DTEND;TZID=Europe/London:20260506T120000
DTSTAMP:20260424T124626
CREATED:20220330T072617Z
LAST-MODIFIED:20251216T151827Z
UID:10006263-1778061600-1778068800@www.u3aburystedmunds.co.uk
SUMMARY:Music Matters
DESCRIPTION:Our group takes a light hearted look at music appreciation. We have started to look at basic musical structures with the intent of seeing how music has developed and diverged over the centuries.\nIndividuals take a lead\, if they wish\, on presenting a composer or musical topic.\nExamples are played of either the ‘form’ or of the composer on a Bluetooth enabled CD player.\nEnjoying music and each other’s company is a priority!
URL:https://www.u3aburystedmunds.co.uk/event/music-matters/2026-05-06/
LOCATION:Thomas Clarkson Centre\, Spaul Room\, Hospital Road\, Bury St Edmunds\, IP33 3JT
CATEGORIES:Music
ATTACH;FMTTYPE=image/jpeg:https://www.u3aburystedmunds.co.uk/wp-content/uploads/fold-treble-clef.jpg
ORGANIZER;CN="Graham Fitchett":MAILTO:grahamfitchett@hotmail.com
GEO:52.2409283;0.7106738
X-APPLE-STRUCTURED-LOCATION;VALUE=URI;X-ADDRESS=Thomas Clarkson Centre Spaul Room Hospital Road Bury St Edmunds IP33 3JT;X-APPLE-RADIUS=500;X-TITLE=Hospital Road:geo:0.7106738,52.2409283
END:VEVENT
BEGIN:VEVENT
DTSTART;TZID=Europe/London:20260527T140000
DTEND;TZID=Europe/London:20260527T160000
DTSTAMP:20260424T124626
CREATED:20250825T112459Z
LAST-MODIFIED:20251216T221853Z
UID:10005638-1779890400-1779897600@www.u3aburystedmunds.co.uk
SUMMARY:English History
DESCRIPTION:We are looking at the era of English History 1714 – 1914 covering the Georgian\, Victorian and Edwardian periods. Exploring subjects such as Arts and Culture\, Notable People\, Government\, Law and Order and Science and Industry.\nTopics are chosen by those group members who wish to present a topic\, with group discussion encouraged.
URL:https://www.u3aburystedmunds.co.uk/event/english-history/2026-05-27/
LOCATION:Thomas Clarkson Centre\, Spaul Room\, Hospital Road\, Bury St Edmunds\, IP33 3JT
ATTACH;FMTTYPE=image/jpeg:https://www.u3aburystedmunds.co.uk/wp-content/uploads/2018/05/english-history-2.jpg
ORGANIZER;CN="Maggie Pearson":MAILTO:pearsonalan@btinternet.com
GEO:52.2409283;0.7106738
X-APPLE-STRUCTURED-LOCATION;VALUE=URI;X-ADDRESS=Thomas Clarkson Centre Spaul Room Hospital Road Bury St Edmunds IP33 3JT;X-APPLE-RADIUS=500;X-TITLE=Hospital Road:geo:0.7106738,52.2409283
END:VEVENT
BEGIN:VEVENT
DTSTART;TZID=Europe/London:20260603T100000
DTEND;TZID=Europe/London:20260603T120000
DTSTAMP:20260424T124626
CREATED:20220330T072617Z
LAST-MODIFIED:20251216T151827Z
UID:10006264-1780480800-1780488000@www.u3aburystedmunds.co.uk
SUMMARY:Music Matters
DESCRIPTION:Our group takes a light hearted look at music appreciation. We have started to look at basic musical structures with the intent of seeing how music has developed and diverged over the centuries.\nIndividuals take a lead\, if they wish\, on presenting a composer or musical topic.\nExamples are played of either the ‘form’ or of the composer on a Bluetooth enabled CD player.\nEnjoying music and each other’s company is a priority!
URL:https://www.u3aburystedmunds.co.uk/event/music-matters/2026-06-03/
LOCATION:Thomas Clarkson Centre\, Spaul Room\, Hospital Road\, Bury St Edmunds\, IP33 3JT
CATEGORIES:Music
ATTACH;FMTTYPE=image/jpeg:https://www.u3aburystedmunds.co.uk/wp-content/uploads/fold-treble-clef.jpg
ORGANIZER;CN="Graham Fitchett":MAILTO:grahamfitchett@hotmail.com
GEO:52.2409283;0.7106738
X-APPLE-STRUCTURED-LOCATION;VALUE=URI;X-ADDRESS=Thomas Clarkson Centre Spaul Room Hospital Road Bury St Edmunds IP33 3JT;X-APPLE-RADIUS=500;X-TITLE=Hospital Road:geo:0.7106738,52.2409283
END:VEVENT
BEGIN:VEVENT
DTSTART;TZID=Europe/London:20260701T100000
DTEND;TZID=Europe/London:20260701T120000
DTSTAMP:20260424T124626
CREATED:20220330T072617Z
LAST-MODIFIED:20251216T151827Z
UID:10009619-1782900000-1782907200@www.u3aburystedmunds.co.uk
SUMMARY:Music Matters
DESCRIPTION:Our group takes a light hearted look at music appreciation. We have started to look at basic musical structures with the intent of seeing how music has developed and diverged over the centuries.\nIndividuals take a lead\, if they wish\, on presenting a composer or musical topic.\nExamples are played of either the ‘form’ or of the composer on a Bluetooth enabled CD player.\nEnjoying music and each other’s company is a priority!
URL:https://www.u3aburystedmunds.co.uk/event/music-matters/2026-07-01/
LOCATION:Thomas Clarkson Centre\, Spaul Room\, Hospital Road\, Bury St Edmunds\, IP33 3JT
CATEGORIES:Music
ATTACH;FMTTYPE=image/jpeg:https://www.u3aburystedmunds.co.uk/wp-content/uploads/fold-treble-clef.jpg
ORGANIZER;CN="Graham Fitchett":MAILTO:grahamfitchett@hotmail.com
GEO:52.2409283;0.7106738
X-APPLE-STRUCTURED-LOCATION;VALUE=URI;X-ADDRESS=Thomas Clarkson Centre Spaul Room Hospital Road Bury St Edmunds IP33 3JT;X-APPLE-RADIUS=500;X-TITLE=Hospital Road:geo:0.7106738,52.2409283
END:VEVENT
BEGIN:VEVENT
DTSTART;TZID=Europe/London:20260805T100000
DTEND;TZID=Europe/London:20260805T120000
DTSTAMP:20260424T124626
CREATED:20220330T072617Z
LAST-MODIFIED:20251216T151827Z
UID:10009620-1785924000-1785931200@www.u3aburystedmunds.co.uk
SUMMARY:Music Matters
DESCRIPTION:Our group takes a light hearted look at music appreciation. We have started to look at basic musical structures with the intent of seeing how music has developed and diverged over the centuries.\nIndividuals take a lead\, if they wish\, on presenting a composer or musical topic.\nExamples are played of either the ‘form’ or of the composer on a Bluetooth enabled CD player.\nEnjoying music and each other’s company is a priority!
URL:https://www.u3aburystedmunds.co.uk/event/music-matters/2026-08-05/
LOCATION:Thomas Clarkson Centre\, Spaul Room\, Hospital Road\, Bury St Edmunds\, IP33 3JT
CATEGORIES:Music
ATTACH;FMTTYPE=image/jpeg:https://www.u3aburystedmunds.co.uk/wp-content/uploads/fold-treble-clef.jpg
ORGANIZER;CN="Graham Fitchett":MAILTO:grahamfitchett@hotmail.com
GEO:52.2409283;0.7106738
X-APPLE-STRUCTURED-LOCATION;VALUE=URI;X-ADDRESS=Thomas Clarkson Centre Spaul Room Hospital Road Bury St Edmunds IP33 3JT;X-APPLE-RADIUS=500;X-TITLE=Hospital Road:geo:0.7106738,52.2409283
END:VEVENT
BEGIN:VEVENT
DTSTART;TZID=Europe/London:20260902T100000
DTEND;TZID=Europe/London:20260902T120000
DTSTAMP:20260424T124626
CREATED:20220330T072617Z
LAST-MODIFIED:20251216T151827Z
UID:10009621-1788343200-1788350400@www.u3aburystedmunds.co.uk
SUMMARY:Music Matters
DESCRIPTION:Our group takes a light hearted look at music appreciation. We have started to look at basic musical structures with the intent of seeing how music has developed and diverged over the centuries.\nIndividuals take a lead\, if they wish\, on presenting a composer or musical topic.\nExamples are played of either the ‘form’ or of the composer on a Bluetooth enabled CD player.\nEnjoying music and each other’s company is a priority!
URL:https://www.u3aburystedmunds.co.uk/event/music-matters/2026-09-02/
LOCATION:Thomas Clarkson Centre\, Spaul Room\, Hospital Road\, Bury St Edmunds\, IP33 3JT
CATEGORIES:Music
ATTACH;FMTTYPE=image/jpeg:https://www.u3aburystedmunds.co.uk/wp-content/uploads/fold-treble-clef.jpg
ORGANIZER;CN="Graham Fitchett":MAILTO:grahamfitchett@hotmail.com
GEO:52.2409283;0.7106738
X-APPLE-STRUCTURED-LOCATION;VALUE=URI;X-ADDRESS=Thomas Clarkson Centre Spaul Room Hospital Road Bury St Edmunds IP33 3JT;X-APPLE-RADIUS=500;X-TITLE=Hospital Road:geo:0.7106738,52.2409283
END:VEVENT
BEGIN:VEVENT
DTSTART;TZID=Europe/London:20261007T100000
DTEND;TZID=Europe/London:20261007T120000
DTSTAMP:20260424T124626
CREATED:20220330T072617Z
LAST-MODIFIED:20251216T151827Z
UID:10009622-1791367200-1791374400@www.u3aburystedmunds.co.uk
SUMMARY:Music Matters
DESCRIPTION:Our group takes a light hearted look at music appreciation. We have started to look at basic musical structures with the intent of seeing how music has developed and diverged over the centuries.\nIndividuals take a lead\, if they wish\, on presenting a composer or musical topic.\nExamples are played of either the ‘form’ or of the composer on a Bluetooth enabled CD player.\nEnjoying music and each other’s company is a priority!
URL:https://www.u3aburystedmunds.co.uk/event/music-matters/2026-10-07/
LOCATION:Thomas Clarkson Centre\, Spaul Room\, Hospital Road\, Bury St Edmunds\, IP33 3JT
CATEGORIES:Music
ATTACH;FMTTYPE=image/jpeg:https://www.u3aburystedmunds.co.uk/wp-content/uploads/fold-treble-clef.jpg
ORGANIZER;CN="Graham Fitchett":MAILTO:grahamfitchett@hotmail.com
GEO:52.2409283;0.7106738
X-APPLE-STRUCTURED-LOCATION;VALUE=URI;X-ADDRESS=Thomas Clarkson Centre Spaul Room Hospital Road Bury St Edmunds IP33 3JT;X-APPLE-RADIUS=500;X-TITLE=Hospital Road:geo:0.7106738,52.2409283
END:VEVENT
END:VCALENDAR