
BEGIN:VCALENDAR
VERSION:2.0
PRODID:-//u3a Bury St Edmunds - ECPv6.15.20//NONSGML v1.0//EN
CALSCALE:GREGORIAN
METHOD:PUBLISH
X-WR-CALNAME:u3a Bury St Edmunds
X-ORIGINAL-URL:https://www.u3aburystedmunds.co.uk
X-WR-CALDESC:Events for u3a Bury St Edmunds
REFRESH-INTERVAL;VALUE=DURATION:PT1H
X-Robots-Tag:noindex
X-PUBLISHED-TTL:PT1H
BEGIN:VTIMEZONE
TZID:Europe/London
BEGIN:DAYLIGHT
TZOFFSETFROM:+0000
TZOFFSETTO:+0100
TZNAME:BST
DTSTART:20230326T010000
END:DAYLIGHT
BEGIN:STANDARD
TZOFFSETFROM:+0100
TZOFFSETTO:+0000
TZNAME:GMT
DTSTART:20231029T010000
END:STANDARD
BEGIN:DAYLIGHT
TZOFFSETFROM:+0000
TZOFFSETTO:+0100
TZNAME:BST
DTSTART:20240331T010000
END:DAYLIGHT
BEGIN:STANDARD
TZOFFSETFROM:+0100
TZOFFSETTO:+0000
TZNAME:GMT
DTSTART:20241027T010000
END:STANDARD
BEGIN:DAYLIGHT
TZOFFSETFROM:+0000
TZOFFSETTO:+0100
TZNAME:BST
DTSTART:20250330T010000
END:DAYLIGHT
BEGIN:STANDARD
TZOFFSETFROM:+0100
TZOFFSETTO:+0000
TZNAME:GMT
DTSTART:20251026T010000
END:STANDARD
END:VTIMEZONE
BEGIN:VEVENT
DTSTART;TZID=Europe/London:20241204T100000
DTEND;TZID=Europe/London:20241204T120000
DTSTAMP:20260424T190243
CREATED:20220330T072617Z
LAST-MODIFIED:20251216T151827Z
UID:10006246-1733306400-1733313600@www.u3aburystedmunds.co.uk
SUMMARY:Music Matters
DESCRIPTION:Our group takes a light hearted look at music appreciation. We have started to look at basic musical structures with the intent of seeing how music has developed and diverged over the centuries.\nIndividuals take a lead\, if they wish\, on presenting a composer or musical topic.\nExamples are played of either the ‘form’ or of the composer on a Bluetooth enabled CD player.\nEnjoying music and each other’s company is a priority!
URL:https://www.u3aburystedmunds.co.uk/event/music-matters/2024-12-04/
LOCATION:Thomas Clarkson Centre\, Spaul Room\, Hospital Road\, Bury St Edmunds\, IP33 3JT
CATEGORIES:Music
ATTACH;FMTTYPE=image/jpeg:https://www.u3aburystedmunds.co.uk/wp-content/uploads/fold-treble-clef.jpg
ORGANIZER;CN="Graham Fitchett":MAILTO:grahamfitchett@hotmail.com
GEO:52.2409283;0.7106738
X-APPLE-STRUCTURED-LOCATION;VALUE=URI;X-ADDRESS=Thomas Clarkson Centre Spaul Room Hospital Road Bury St Edmunds IP33 3JT;X-APPLE-RADIUS=500;X-TITLE=Hospital Road:geo:0.7106738,52.2409283
END:VEVENT
BEGIN:VEVENT
DTSTART;TZID=Europe/London:20241106T100000
DTEND;TZID=Europe/London:20241106T120000
DTSTAMP:20260424T190243
CREATED:20220330T072617Z
LAST-MODIFIED:20251216T151827Z
UID:10006245-1730887200-1730894400@www.u3aburystedmunds.co.uk
SUMMARY:Music Matters
DESCRIPTION:Our group takes a light hearted look at music appreciation. We have started to look at basic musical structures with the intent of seeing how music has developed and diverged over the centuries.\nIndividuals take a lead\, if they wish\, on presenting a composer or musical topic.\nExamples are played of either the ‘form’ or of the composer on a Bluetooth enabled CD player.\nEnjoying music and each other’s company is a priority!
URL:https://www.u3aburystedmunds.co.uk/event/music-matters/2024-11-06/
LOCATION:Thomas Clarkson Centre\, Spaul Room\, Hospital Road\, Bury St Edmunds\, IP33 3JT
CATEGORIES:Music
ATTACH;FMTTYPE=image/jpeg:https://www.u3aburystedmunds.co.uk/wp-content/uploads/fold-treble-clef.jpg
ORGANIZER;CN="Graham Fitchett":MAILTO:grahamfitchett@hotmail.com
GEO:52.2409283;0.7106738
X-APPLE-STRUCTURED-LOCATION;VALUE=URI;X-ADDRESS=Thomas Clarkson Centre Spaul Room Hospital Road Bury St Edmunds IP33 3JT;X-APPLE-RADIUS=500;X-TITLE=Hospital Road:geo:0.7106738,52.2409283
END:VEVENT
BEGIN:VEVENT
DTSTART;TZID=Europe/London:20241002T100000
DTEND;TZID=Europe/London:20241002T120000
DTSTAMP:20260424T190243
CREATED:20220330T072617Z
LAST-MODIFIED:20251216T151827Z
UID:10006244-1727863200-1727870400@www.u3aburystedmunds.co.uk
SUMMARY:Music Matters
DESCRIPTION:Our group takes a light hearted look at music appreciation. We have started to look at basic musical structures with the intent of seeing how music has developed and diverged over the centuries.\nIndividuals take a lead\, if they wish\, on presenting a composer or musical topic.\nExamples are played of either the ‘form’ or of the composer on a Bluetooth enabled CD player.\nEnjoying music and each other’s company is a priority!
URL:https://www.u3aburystedmunds.co.uk/event/music-matters/2024-10-02/
LOCATION:Thomas Clarkson Centre\, Spaul Room\, Hospital Road\, Bury St Edmunds\, IP33 3JT
CATEGORIES:Music
ATTACH;FMTTYPE=image/jpeg:https://www.u3aburystedmunds.co.uk/wp-content/uploads/fold-treble-clef.jpg
ORGANIZER;CN="Graham Fitchett":MAILTO:grahamfitchett@hotmail.com
GEO:52.2409283;0.7106738
X-APPLE-STRUCTURED-LOCATION;VALUE=URI;X-ADDRESS=Thomas Clarkson Centre Spaul Room Hospital Road Bury St Edmunds IP33 3JT;X-APPLE-RADIUS=500;X-TITLE=Hospital Road:geo:0.7106738,52.2409283
END:VEVENT
BEGIN:VEVENT
DTSTART;TZID=Europe/London:20240904T100000
DTEND;TZID=Europe/London:20240904T120000
DTSTAMP:20260424T190243
CREATED:20220330T072617Z
LAST-MODIFIED:20251216T151827Z
UID:10006243-1725444000-1725451200@www.u3aburystedmunds.co.uk
SUMMARY:Music Matters
DESCRIPTION:Our group takes a light hearted look at music appreciation. We have started to look at basic musical structures with the intent of seeing how music has developed and diverged over the centuries.\nIndividuals take a lead\, if they wish\, on presenting a composer or musical topic.\nExamples are played of either the ‘form’ or of the composer on a Bluetooth enabled CD player.\nEnjoying music and each other’s company is a priority!
URL:https://www.u3aburystedmunds.co.uk/event/music-matters/2024-09-04/
LOCATION:Thomas Clarkson Centre\, Spaul Room\, Hospital Road\, Bury St Edmunds\, IP33 3JT
CATEGORIES:Music
ATTACH;FMTTYPE=image/jpeg:https://www.u3aburystedmunds.co.uk/wp-content/uploads/fold-treble-clef.jpg
ORGANIZER;CN="Graham Fitchett":MAILTO:grahamfitchett@hotmail.com
GEO:52.2409283;0.7106738
X-APPLE-STRUCTURED-LOCATION;VALUE=URI;X-ADDRESS=Thomas Clarkson Centre Spaul Room Hospital Road Bury St Edmunds IP33 3JT;X-APPLE-RADIUS=500;X-TITLE=Hospital Road:geo:0.7106738,52.2409283
END:VEVENT
BEGIN:VEVENT
DTSTART;TZID=Europe/London:20240807T100000
DTEND;TZID=Europe/London:20240807T120000
DTSTAMP:20260424T190243
CREATED:20220330T072617Z
LAST-MODIFIED:20251216T151827Z
UID:10006242-1723024800-1723032000@www.u3aburystedmunds.co.uk
SUMMARY:Music Matters
DESCRIPTION:Our group takes a light hearted look at music appreciation. We have started to look at basic musical structures with the intent of seeing how music has developed and diverged over the centuries.\nIndividuals take a lead\, if they wish\, on presenting a composer or musical topic.\nExamples are played of either the ‘form’ or of the composer on a Bluetooth enabled CD player.\nEnjoying music and each other’s company is a priority!
URL:https://www.u3aburystedmunds.co.uk/event/music-matters/2024-08-07/
LOCATION:Thomas Clarkson Centre\, Spaul Room\, Hospital Road\, Bury St Edmunds\, IP33 3JT
CATEGORIES:Music
ATTACH;FMTTYPE=image/jpeg:https://www.u3aburystedmunds.co.uk/wp-content/uploads/fold-treble-clef.jpg
ORGANIZER;CN="Graham Fitchett":MAILTO:grahamfitchett@hotmail.com
GEO:52.2409283;0.7106738
X-APPLE-STRUCTURED-LOCATION;VALUE=URI;X-ADDRESS=Thomas Clarkson Centre Spaul Room Hospital Road Bury St Edmunds IP33 3JT;X-APPLE-RADIUS=500;X-TITLE=Hospital Road:geo:0.7106738,52.2409283
END:VEVENT
BEGIN:VEVENT
DTSTART;TZID=Europe/London:20240703T100000
DTEND;TZID=Europe/London:20240703T120000
DTSTAMP:20260424T190243
CREATED:20220330T072617Z
LAST-MODIFIED:20251216T151827Z
UID:10006241-1720000800-1720008000@www.u3aburystedmunds.co.uk
SUMMARY:Music Matters
DESCRIPTION:Our group takes a light hearted look at music appreciation. We have started to look at basic musical structures with the intent of seeing how music has developed and diverged over the centuries.\nIndividuals take a lead\, if they wish\, on presenting a composer or musical topic.\nExamples are played of either the ‘form’ or of the composer on a Bluetooth enabled CD player.\nEnjoying music and each other’s company is a priority!
URL:https://www.u3aburystedmunds.co.uk/event/music-matters/2024-07-03/
LOCATION:Thomas Clarkson Centre\, Spaul Room\, Hospital Road\, Bury St Edmunds\, IP33 3JT
CATEGORIES:Music
ATTACH;FMTTYPE=image/jpeg:https://www.u3aburystedmunds.co.uk/wp-content/uploads/fold-treble-clef.jpg
ORGANIZER;CN="Graham Fitchett":MAILTO:grahamfitchett@hotmail.com
GEO:52.2409283;0.7106738
X-APPLE-STRUCTURED-LOCATION;VALUE=URI;X-ADDRESS=Thomas Clarkson Centre Spaul Room Hospital Road Bury St Edmunds IP33 3JT;X-APPLE-RADIUS=500;X-TITLE=Hospital Road:geo:0.7106738,52.2409283
END:VEVENT
BEGIN:VEVENT
DTSTART;TZID=Europe/London:20240605T100000
DTEND;TZID=Europe/London:20240605T120000
DTSTAMP:20260424T190243
CREATED:20220330T072617Z
LAST-MODIFIED:20251216T151827Z
UID:10006240-1717581600-1717588800@www.u3aburystedmunds.co.uk
SUMMARY:Music Matters
DESCRIPTION:Our group takes a light hearted look at music appreciation. We have started to look at basic musical structures with the intent of seeing how music has developed and diverged over the centuries.\nIndividuals take a lead\, if they wish\, on presenting a composer or musical topic.\nExamples are played of either the ‘form’ or of the composer on a Bluetooth enabled CD player.\nEnjoying music and each other’s company is a priority!
URL:https://www.u3aburystedmunds.co.uk/event/music-matters/2024-06-05/
LOCATION:Thomas Clarkson Centre\, Spaul Room\, Hospital Road\, Bury St Edmunds\, IP33 3JT
CATEGORIES:Music
ATTACH;FMTTYPE=image/jpeg:https://www.u3aburystedmunds.co.uk/wp-content/uploads/fold-treble-clef.jpg
ORGANIZER;CN="Graham Fitchett":MAILTO:grahamfitchett@hotmail.com
GEO:52.2409283;0.7106738
X-APPLE-STRUCTURED-LOCATION;VALUE=URI;X-ADDRESS=Thomas Clarkson Centre Spaul Room Hospital Road Bury St Edmunds IP33 3JT;X-APPLE-RADIUS=500;X-TITLE=Hospital Road:geo:0.7106738,52.2409283
END:VEVENT
BEGIN:VEVENT
DTSTART;TZID=Europe/London:20240501T100000
DTEND;TZID=Europe/London:20240501T120000
DTSTAMP:20260424T190243
CREATED:20220330T072617Z
LAST-MODIFIED:20251216T151827Z
UID:10006239-1714557600-1714564800@www.u3aburystedmunds.co.uk
SUMMARY:Music Matters
DESCRIPTION:Our group takes a light hearted look at music appreciation. We have started to look at basic musical structures with the intent of seeing how music has developed and diverged over the centuries.\nIndividuals take a lead\, if they wish\, on presenting a composer or musical topic.\nExamples are played of either the ‘form’ or of the composer on a Bluetooth enabled CD player.\nEnjoying music and each other’s company is a priority!
URL:https://www.u3aburystedmunds.co.uk/event/music-matters/2024-05-01/
LOCATION:Thomas Clarkson Centre\, Spaul Room\, Hospital Road\, Bury St Edmunds\, IP33 3JT
CATEGORIES:Music
ATTACH;FMTTYPE=image/jpeg:https://www.u3aburystedmunds.co.uk/wp-content/uploads/fold-treble-clef.jpg
ORGANIZER;CN="Graham Fitchett":MAILTO:grahamfitchett@hotmail.com
GEO:52.2409283;0.7106738
X-APPLE-STRUCTURED-LOCATION;VALUE=URI;X-ADDRESS=Thomas Clarkson Centre Spaul Room Hospital Road Bury St Edmunds IP33 3JT;X-APPLE-RADIUS=500;X-TITLE=Hospital Road:geo:0.7106738,52.2409283
END:VEVENT
END:VCALENDAR