
BEGIN:VCALENDAR
VERSION:2.0
PRODID:-//u3a Bury St Edmunds - ECPv6.15.20//NONSGML v1.0//EN
CALSCALE:GREGORIAN
METHOD:PUBLISH
X-WR-CALNAME:u3a Bury St Edmunds
X-ORIGINAL-URL:https://www.u3aburystedmunds.co.uk
X-WR-CALDESC:Events for u3a Bury St Edmunds
REFRESH-INTERVAL;VALUE=DURATION:PT1H
X-Robots-Tag:noindex
X-PUBLISHED-TTL:PT1H
BEGIN:VTIMEZONE
TZID:Europe/London
BEGIN:DAYLIGHT
TZOFFSETFROM:+0000
TZOFFSETTO:+0100
TZNAME:BST
DTSTART:20240331T010000
END:DAYLIGHT
BEGIN:STANDARD
TZOFFSETFROM:+0100
TZOFFSETTO:+0000
TZNAME:GMT
DTSTART:20241027T010000
END:STANDARD
BEGIN:DAYLIGHT
TZOFFSETFROM:+0000
TZOFFSETTO:+0100
TZNAME:BST
DTSTART:20250330T010000
END:DAYLIGHT
BEGIN:STANDARD
TZOFFSETFROM:+0100
TZOFFSETTO:+0000
TZNAME:GMT
DTSTART:20251026T010000
END:STANDARD
BEGIN:DAYLIGHT
TZOFFSETFROM:+0000
TZOFFSETTO:+0100
TZNAME:BST
DTSTART:20260329T010000
END:DAYLIGHT
BEGIN:STANDARD
TZOFFSETFROM:+0100
TZOFFSETTO:+0000
TZNAME:GMT
DTSTART:20261025T010000
END:STANDARD
BEGIN:DAYLIGHT
TZOFFSETFROM:+0000
TZOFFSETTO:+0100
TZNAME:BST
DTSTART:20270328T010000
END:DAYLIGHT
BEGIN:STANDARD
TZOFFSETFROM:+0100
TZOFFSETTO:+0000
TZNAME:GMT
DTSTART:20271031T010000
END:STANDARD
END:VTIMEZONE
BEGIN:VEVENT
DTSTART;TZID=Europe/London:20260324T140000
DTEND;TZID=Europe/London:20260324T160000
DTSTAMP:20260421T212159
CREATED:20250122T173831Z
LAST-MODIFIED:20250122T180548Z
UID:10008148-1774360800-1774368000@www.u3aburystedmunds.co.uk
SUMMARY:Dementia Carers - Monthly Walk
DESCRIPTION:We are a recently formed mutual support group for family carers who are looking after someone living with dementia. \nIn addition to our regular meetings we hold a monthly walk for family carers and those they care for on the fourth Tuesday of every month at Nowton Park. No charge is made for the walks but anyone attending\, both carers and cared for\, needs to be u3a members to ensure that full public liability cover is in place for all attendees. \nWe meet at 2pm outside the Nowton Park café\, which is also a good place to get coffee or tea afterwards.
URL:https://www.u3aburystedmunds.co.uk/event/dementia-carers/2026-03-24/
LOCATION:Nowton Park Cafe\, Bury Road\, Bury St. Edmunds\, Suffolk\, IP29 5LU
CATEGORIES:Other Interests,Study Group
ATTACH;FMTTYPE=image/jpeg:https://www.u3aburystedmunds.co.uk/wp-content/uploads/WildlifeinSuffolk.jpg
ORGANIZER;CN="Andrew Hinchley":MAILTO:ahinchley@yahoo.co.uk
GEO:52.2056979;0.7266982
X-APPLE-STRUCTURED-LOCATION;VALUE=URI;X-ADDRESS=Nowton Park Cafe Bury Road Bury St. Edmunds Suffolk IP29 5LU;X-APPLE-RADIUS=500;X-TITLE=Bury Road:geo:0.7266982,52.2056979
END:VEVENT
BEGIN:VEVENT
DTSTART;TZID=Europe/London:20260224T140000
DTEND;TZID=Europe/London:20260224T160000
DTSTAMP:20260421T212200
CREATED:20250122T173831Z
LAST-MODIFIED:20250122T180548Z
UID:10008147-1771941600-1771948800@www.u3aburystedmunds.co.uk
SUMMARY:Dementia Carers - Monthly Walk
DESCRIPTION:We are a recently formed mutual support group for family carers who are looking after someone living with dementia. \nIn addition to our regular meetings we hold a monthly walk for family carers and those they care for on the fourth Tuesday of every month at Nowton Park. No charge is made for the walks but anyone attending\, both carers and cared for\, needs to be u3a members to ensure that full public liability cover is in place for all attendees. \nWe meet at 2pm outside the Nowton Park café\, which is also a good place to get coffee or tea afterwards.
URL:https://www.u3aburystedmunds.co.uk/event/dementia-carers/2026-02-24/
LOCATION:Nowton Park Cafe\, Bury Road\, Bury St. Edmunds\, Suffolk\, IP29 5LU
CATEGORIES:Other Interests,Study Group
ATTACH;FMTTYPE=image/jpeg:https://www.u3aburystedmunds.co.uk/wp-content/uploads/WildlifeinSuffolk.jpg
ORGANIZER;CN="Andrew Hinchley":MAILTO:ahinchley@yahoo.co.uk
GEO:52.2056979;0.7266982
X-APPLE-STRUCTURED-LOCATION;VALUE=URI;X-ADDRESS=Nowton Park Cafe Bury Road Bury St. Edmunds Suffolk IP29 5LU;X-APPLE-RADIUS=500;X-TITLE=Bury Road:geo:0.7266982,52.2056979
END:VEVENT
BEGIN:VEVENT
DTSTART;TZID=Europe/London:20260127T140000
DTEND;TZID=Europe/London:20260127T160000
DTSTAMP:20260421T212200
CREATED:20250122T173831Z
LAST-MODIFIED:20250122T180548Z
UID:10008146-1769522400-1769529600@www.u3aburystedmunds.co.uk
SUMMARY:Dementia Carers - Monthly Walk
DESCRIPTION:We are a recently formed mutual support group for family carers who are looking after someone living with dementia. \nIn addition to our regular meetings we hold a monthly walk for family carers and those they care for on the fourth Tuesday of every month at Nowton Park. No charge is made for the walks but anyone attending\, both carers and cared for\, needs to be u3a members to ensure that full public liability cover is in place for all attendees. \nWe meet at 2pm outside the Nowton Park café\, which is also a good place to get coffee or tea afterwards.
URL:https://www.u3aburystedmunds.co.uk/event/dementia-carers/2026-01-27/
LOCATION:Nowton Park Cafe\, Bury Road\, Bury St. Edmunds\, Suffolk\, IP29 5LU
CATEGORIES:Other Interests,Study Group
ATTACH;FMTTYPE=image/jpeg:https://www.u3aburystedmunds.co.uk/wp-content/uploads/WildlifeinSuffolk.jpg
ORGANIZER;CN="Andrew Hinchley":MAILTO:ahinchley@yahoo.co.uk
GEO:52.2056979;0.7266982
X-APPLE-STRUCTURED-LOCATION;VALUE=URI;X-ADDRESS=Nowton Park Cafe Bury Road Bury St. Edmunds Suffolk IP29 5LU;X-APPLE-RADIUS=500;X-TITLE=Bury Road:geo:0.7266982,52.2056979
END:VEVENT
BEGIN:VEVENT
DTSTART;TZID=Europe/London:20251223T140000
DTEND;TZID=Europe/London:20251223T160000
DTSTAMP:20260421T212200
CREATED:20250122T173831Z
LAST-MODIFIED:20250122T180548Z
UID:10008145-1766498400-1766505600@www.u3aburystedmunds.co.uk
SUMMARY:Dementia Carers - Monthly Walk
DESCRIPTION:We are a recently formed mutual support group for family carers who are looking after someone living with dementia. \nIn addition to our regular meetings we hold a monthly walk for family carers and those they care for on the fourth Tuesday of every month at Nowton Park. No charge is made for the walks but anyone attending\, both carers and cared for\, needs to be u3a members to ensure that full public liability cover is in place for all attendees. \nWe meet at 2pm outside the Nowton Park café\, which is also a good place to get coffee or tea afterwards.
URL:https://www.u3aburystedmunds.co.uk/event/dementia-carers/2025-12-23/
LOCATION:Nowton Park Cafe\, Bury Road\, Bury St. Edmunds\, Suffolk\, IP29 5LU
CATEGORIES:Other Interests,Study Group
ATTACH;FMTTYPE=image/jpeg:https://www.u3aburystedmunds.co.uk/wp-content/uploads/WildlifeinSuffolk.jpg
ORGANIZER;CN="Andrew Hinchley":MAILTO:ahinchley@yahoo.co.uk
GEO:52.2056979;0.7266982
X-APPLE-STRUCTURED-LOCATION;VALUE=URI;X-ADDRESS=Nowton Park Cafe Bury Road Bury St. Edmunds Suffolk IP29 5LU;X-APPLE-RADIUS=500;X-TITLE=Bury Road:geo:0.7266982,52.2056979
END:VEVENT
BEGIN:VEVENT
DTSTART;TZID=Europe/London:20251125T140000
DTEND;TZID=Europe/London:20251125T160000
DTSTAMP:20260421T212200
CREATED:20250122T173831Z
LAST-MODIFIED:20250122T180548Z
UID:10008144-1764079200-1764086400@www.u3aburystedmunds.co.uk
SUMMARY:Dementia Carers - Monthly Walk
DESCRIPTION:We are a recently formed mutual support group for family carers who are looking after someone living with dementia. \nIn addition to our regular meetings we hold a monthly walk for family carers and those they care for on the fourth Tuesday of every month at Nowton Park. No charge is made for the walks but anyone attending\, both carers and cared for\, needs to be u3a members to ensure that full public liability cover is in place for all attendees. \nWe meet at 2pm outside the Nowton Park café\, which is also a good place to get coffee or tea afterwards.
URL:https://www.u3aburystedmunds.co.uk/event/dementia-carers/2025-11-25/
LOCATION:Nowton Park Cafe\, Bury Road\, Bury St. Edmunds\, Suffolk\, IP29 5LU
CATEGORIES:Other Interests,Study Group
ATTACH;FMTTYPE=image/jpeg:https://www.u3aburystedmunds.co.uk/wp-content/uploads/WildlifeinSuffolk.jpg
ORGANIZER;CN="Andrew Hinchley":MAILTO:ahinchley@yahoo.co.uk
GEO:52.2056979;0.7266982
X-APPLE-STRUCTURED-LOCATION;VALUE=URI;X-ADDRESS=Nowton Park Cafe Bury Road Bury St. Edmunds Suffolk IP29 5LU;X-APPLE-RADIUS=500;X-TITLE=Bury Road:geo:0.7266982,52.2056979
END:VEVENT
BEGIN:VEVENT
DTSTART;TZID=Europe/London:20251028T140000
DTEND;TZID=Europe/London:20251028T160000
DTSTAMP:20260421T212200
CREATED:20250122T173831Z
LAST-MODIFIED:20250122T180548Z
UID:10008143-1761660000-1761667200@www.u3aburystedmunds.co.uk
SUMMARY:Dementia Carers - Monthly Walk
DESCRIPTION:We are a recently formed mutual support group for family carers who are looking after someone living with dementia. \nIn addition to our regular meetings we hold a monthly walk for family carers and those they care for on the fourth Tuesday of every month at Nowton Park. No charge is made for the walks but anyone attending\, both carers and cared for\, needs to be u3a members to ensure that full public liability cover is in place for all attendees. \nWe meet at 2pm outside the Nowton Park café\, which is also a good place to get coffee or tea afterwards.
URL:https://www.u3aburystedmunds.co.uk/event/dementia-carers/2025-10-28/
LOCATION:Nowton Park Cafe\, Bury Road\, Bury St. Edmunds\, Suffolk\, IP29 5LU
CATEGORIES:Other Interests,Study Group
ATTACH;FMTTYPE=image/jpeg:https://www.u3aburystedmunds.co.uk/wp-content/uploads/WildlifeinSuffolk.jpg
ORGANIZER;CN="Andrew Hinchley":MAILTO:ahinchley@yahoo.co.uk
GEO:52.2056979;0.7266982
X-APPLE-STRUCTURED-LOCATION;VALUE=URI;X-ADDRESS=Nowton Park Cafe Bury Road Bury St. Edmunds Suffolk IP29 5LU;X-APPLE-RADIUS=500;X-TITLE=Bury Road:geo:0.7266982,52.2056979
END:VEVENT
BEGIN:VEVENT
DTSTART;TZID=Europe/London:20250923T140000
DTEND;TZID=Europe/London:20250923T160000
DTSTAMP:20260421T212200
CREATED:20250122T173831Z
LAST-MODIFIED:20250122T180548Z
UID:10008142-1758636000-1758643200@www.u3aburystedmunds.co.uk
SUMMARY:Dementia Carers - Monthly Walk
DESCRIPTION:We are a recently formed mutual support group for family carers who are looking after someone living with dementia. \nIn addition to our regular meetings we hold a monthly walk for family carers and those they care for on the fourth Tuesday of every month at Nowton Park. No charge is made for the walks but anyone attending\, both carers and cared for\, needs to be u3a members to ensure that full public liability cover is in place for all attendees. \nWe meet at 2pm outside the Nowton Park café\, which is also a good place to get coffee or tea afterwards.
URL:https://www.u3aburystedmunds.co.uk/event/dementia-carers/2025-09-23/
LOCATION:Nowton Park Cafe\, Bury Road\, Bury St. Edmunds\, Suffolk\, IP29 5LU
CATEGORIES:Other Interests,Study Group
ATTACH;FMTTYPE=image/jpeg:https://www.u3aburystedmunds.co.uk/wp-content/uploads/WildlifeinSuffolk.jpg
ORGANIZER;CN="Andrew Hinchley":MAILTO:ahinchley@yahoo.co.uk
GEO:52.2056979;0.7266982
X-APPLE-STRUCTURED-LOCATION;VALUE=URI;X-ADDRESS=Nowton Park Cafe Bury Road Bury St. Edmunds Suffolk IP29 5LU;X-APPLE-RADIUS=500;X-TITLE=Bury Road:geo:0.7266982,52.2056979
END:VEVENT
BEGIN:VEVENT
DTSTART;TZID=Europe/London:20250826T140000
DTEND;TZID=Europe/London:20250826T160000
DTSTAMP:20260421T212200
CREATED:20250122T173831Z
LAST-MODIFIED:20250122T180548Z
UID:10008141-1756216800-1756224000@www.u3aburystedmunds.co.uk
SUMMARY:Dementia Carers - Monthly Walk
DESCRIPTION:We are a recently formed mutual support group for family carers who are looking after someone living with dementia. \nIn addition to our regular meetings we hold a monthly walk for family carers and those they care for on the fourth Tuesday of every month at Nowton Park. No charge is made for the walks but anyone attending\, both carers and cared for\, needs to be u3a members to ensure that full public liability cover is in place for all attendees. \nWe meet at 2pm outside the Nowton Park café\, which is also a good place to get coffee or tea afterwards.
URL:https://www.u3aburystedmunds.co.uk/event/dementia-carers/2025-08-26/
LOCATION:Nowton Park Cafe\, Bury Road\, Bury St. Edmunds\, Suffolk\, IP29 5LU
CATEGORIES:Other Interests,Study Group
ATTACH;FMTTYPE=image/jpeg:https://www.u3aburystedmunds.co.uk/wp-content/uploads/WildlifeinSuffolk.jpg
ORGANIZER;CN="Andrew Hinchley":MAILTO:ahinchley@yahoo.co.uk
GEO:52.2056979;0.7266982
X-APPLE-STRUCTURED-LOCATION;VALUE=URI;X-ADDRESS=Nowton Park Cafe Bury Road Bury St. Edmunds Suffolk IP29 5LU;X-APPLE-RADIUS=500;X-TITLE=Bury Road:geo:0.7266982,52.2056979
END:VEVENT
BEGIN:VEVENT
DTSTART;TZID=Europe/London:20250722T140000
DTEND;TZID=Europe/London:20250722T160000
DTSTAMP:20260421T212200
CREATED:20250122T173831Z
LAST-MODIFIED:20250122T180548Z
UID:10008140-1753192800-1753200000@www.u3aburystedmunds.co.uk
SUMMARY:Dementia Carers - Monthly Walk
DESCRIPTION:We are a recently formed mutual support group for family carers who are looking after someone living with dementia. \nIn addition to our regular meetings we hold a monthly walk for family carers and those they care for on the fourth Tuesday of every month at Nowton Park. No charge is made for the walks but anyone attending\, both carers and cared for\, needs to be u3a members to ensure that full public liability cover is in place for all attendees. \nWe meet at 2pm outside the Nowton Park café\, which is also a good place to get coffee or tea afterwards.
URL:https://www.u3aburystedmunds.co.uk/event/dementia-carers/2025-07-22/
LOCATION:Nowton Park Cafe\, Bury Road\, Bury St. Edmunds\, Suffolk\, IP29 5LU
CATEGORIES:Other Interests,Study Group
ATTACH;FMTTYPE=image/jpeg:https://www.u3aburystedmunds.co.uk/wp-content/uploads/WildlifeinSuffolk.jpg
ORGANIZER;CN="Andrew Hinchley":MAILTO:ahinchley@yahoo.co.uk
GEO:52.2056979;0.7266982
X-APPLE-STRUCTURED-LOCATION;VALUE=URI;X-ADDRESS=Nowton Park Cafe Bury Road Bury St. Edmunds Suffolk IP29 5LU;X-APPLE-RADIUS=500;X-TITLE=Bury Road:geo:0.7266982,52.2056979
END:VEVENT
BEGIN:VEVENT
DTSTART;TZID=Europe/London:20250624T140000
DTEND;TZID=Europe/London:20250624T160000
DTSTAMP:20260421T212200
CREATED:20250122T173831Z
LAST-MODIFIED:20250122T180548Z
UID:10008139-1750773600-1750780800@www.u3aburystedmunds.co.uk
SUMMARY:Dementia Carers - Monthly Walk
DESCRIPTION:We are a recently formed mutual support group for family carers who are looking after someone living with dementia. \nIn addition to our regular meetings we hold a monthly walk for family carers and those they care for on the fourth Tuesday of every month at Nowton Park. No charge is made for the walks but anyone attending\, both carers and cared for\, needs to be u3a members to ensure that full public liability cover is in place for all attendees. \nWe meet at 2pm outside the Nowton Park café\, which is also a good place to get coffee or tea afterwards.
URL:https://www.u3aburystedmunds.co.uk/event/dementia-carers/2025-06-24/
LOCATION:Nowton Park Cafe\, Bury Road\, Bury St. Edmunds\, Suffolk\, IP29 5LU
CATEGORIES:Other Interests,Study Group
ATTACH;FMTTYPE=image/jpeg:https://www.u3aburystedmunds.co.uk/wp-content/uploads/WildlifeinSuffolk.jpg
ORGANIZER;CN="Andrew Hinchley":MAILTO:ahinchley@yahoo.co.uk
GEO:52.2056979;0.7266982
X-APPLE-STRUCTURED-LOCATION;VALUE=URI;X-ADDRESS=Nowton Park Cafe Bury Road Bury St. Edmunds Suffolk IP29 5LU;X-APPLE-RADIUS=500;X-TITLE=Bury Road:geo:0.7266982,52.2056979
END:VEVENT
BEGIN:VEVENT
DTSTART;TZID=Europe/London:20250527T140000
DTEND;TZID=Europe/London:20250527T160000
DTSTAMP:20260421T212200
CREATED:20250122T173831Z
LAST-MODIFIED:20250122T180548Z
UID:10008138-1748354400-1748361600@www.u3aburystedmunds.co.uk
SUMMARY:Dementia Carers - Monthly Walk
DESCRIPTION:We are a recently formed mutual support group for family carers who are looking after someone living with dementia. \nIn addition to our regular meetings we hold a monthly walk for family carers and those they care for on the fourth Tuesday of every month at Nowton Park. No charge is made for the walks but anyone attending\, both carers and cared for\, needs to be u3a members to ensure that full public liability cover is in place for all attendees. \nWe meet at 2pm outside the Nowton Park café\, which is also a good place to get coffee or tea afterwards.
URL:https://www.u3aburystedmunds.co.uk/event/dementia-carers/2025-05-27/
LOCATION:Nowton Park Cafe\, Bury Road\, Bury St. Edmunds\, Suffolk\, IP29 5LU
CATEGORIES:Other Interests,Study Group
ATTACH;FMTTYPE=image/jpeg:https://www.u3aburystedmunds.co.uk/wp-content/uploads/WildlifeinSuffolk.jpg
ORGANIZER;CN="Andrew Hinchley":MAILTO:ahinchley@yahoo.co.uk
GEO:52.2056979;0.7266982
X-APPLE-STRUCTURED-LOCATION;VALUE=URI;X-ADDRESS=Nowton Park Cafe Bury Road Bury St. Edmunds Suffolk IP29 5LU;X-APPLE-RADIUS=500;X-TITLE=Bury Road:geo:0.7266982,52.2056979
END:VEVENT
BEGIN:VEVENT
DTSTART;TZID=Europe/London:20250422T140000
DTEND;TZID=Europe/London:20250422T160000
DTSTAMP:20260421T212200
CREATED:20250122T173831Z
LAST-MODIFIED:20250122T180548Z
UID:10008137-1745330400-1745337600@www.u3aburystedmunds.co.uk
SUMMARY:Dementia Carers - Monthly Walk
DESCRIPTION:We are a recently formed mutual support group for family carers who are looking after someone living with dementia. \nIn addition to our regular meetings we hold a monthly walk for family carers and those they care for on the fourth Tuesday of every month at Nowton Park. No charge is made for the walks but anyone attending\, both carers and cared for\, needs to be u3a members to ensure that full public liability cover is in place for all attendees. \nWe meet at 2pm outside the Nowton Park café\, which is also a good place to get coffee or tea afterwards.
URL:https://www.u3aburystedmunds.co.uk/event/dementia-carers/2025-04-22/
LOCATION:Nowton Park Cafe\, Bury Road\, Bury St. Edmunds\, Suffolk\, IP29 5LU
CATEGORIES:Other Interests,Study Group
ATTACH;FMTTYPE=image/jpeg:https://www.u3aburystedmunds.co.uk/wp-content/uploads/WildlifeinSuffolk.jpg
ORGANIZER;CN="Andrew Hinchley":MAILTO:ahinchley@yahoo.co.uk
GEO:52.2056979;0.7266982
X-APPLE-STRUCTURED-LOCATION;VALUE=URI;X-ADDRESS=Nowton Park Cafe Bury Road Bury St. Edmunds Suffolk IP29 5LU;X-APPLE-RADIUS=500;X-TITLE=Bury Road:geo:0.7266982,52.2056979
END:VEVENT
BEGIN:VEVENT
DTSTART;TZID=Europe/London:20250325T140000
DTEND;TZID=Europe/London:20250325T160000
DTSTAMP:20260421T212200
CREATED:20250122T173831Z
LAST-MODIFIED:20250122T180548Z
UID:10008136-1742911200-1742918400@www.u3aburystedmunds.co.uk
SUMMARY:Dementia Carers - Monthly Walk
DESCRIPTION:We are a recently formed mutual support group for family carers who are looking after someone living with dementia. \nIn addition to our regular meetings we hold a monthly walk for family carers and those they care for on the fourth Tuesday of every month at Nowton Park. No charge is made for the walks but anyone attending\, both carers and cared for\, needs to be u3a members to ensure that full public liability cover is in place for all attendees. \nWe meet at 2pm outside the Nowton Park café\, which is also a good place to get coffee or tea afterwards.
URL:https://www.u3aburystedmunds.co.uk/event/dementia-carers/2025-03-25/
LOCATION:Nowton Park Cafe\, Bury Road\, Bury St. Edmunds\, Suffolk\, IP29 5LU
CATEGORIES:Other Interests,Study Group
ATTACH;FMTTYPE=image/jpeg:https://www.u3aburystedmunds.co.uk/wp-content/uploads/WildlifeinSuffolk.jpg
ORGANIZER;CN="Andrew Hinchley":MAILTO:ahinchley@yahoo.co.uk
GEO:52.2056979;0.7266982
X-APPLE-STRUCTURED-LOCATION;VALUE=URI;X-ADDRESS=Nowton Park Cafe Bury Road Bury St. Edmunds Suffolk IP29 5LU;X-APPLE-RADIUS=500;X-TITLE=Bury Road:geo:0.7266982,52.2056979
END:VEVENT
BEGIN:VEVENT
DTSTART;TZID=Europe/London:20250225T140000
DTEND;TZID=Europe/London:20250225T160000
DTSTAMP:20260421T212200
CREATED:20250122T173831Z
LAST-MODIFIED:20250122T180548Z
UID:10008135-1740492000-1740499200@www.u3aburystedmunds.co.uk
SUMMARY:Dementia Carers - Monthly Walk
DESCRIPTION:We are a recently formed mutual support group for family carers who are looking after someone living with dementia. \nIn addition to our regular meetings we hold a monthly walk for family carers and those they care for on the fourth Tuesday of every month at Nowton Park. No charge is made for the walks but anyone attending\, both carers and cared for\, needs to be u3a members to ensure that full public liability cover is in place for all attendees. \nWe meet at 2pm outside the Nowton Park café\, which is also a good place to get coffee or tea afterwards.
URL:https://www.u3aburystedmunds.co.uk/event/dementia-carers/2025-02-25/
LOCATION:Nowton Park Cafe\, Bury Road\, Bury St. Edmunds\, Suffolk\, IP29 5LU
CATEGORIES:Other Interests,Study Group
ATTACH;FMTTYPE=image/jpeg:https://www.u3aburystedmunds.co.uk/wp-content/uploads/WildlifeinSuffolk.jpg
ORGANIZER;CN="Andrew Hinchley":MAILTO:ahinchley@yahoo.co.uk
GEO:52.2056979;0.7266982
X-APPLE-STRUCTURED-LOCATION;VALUE=URI;X-ADDRESS=Nowton Park Cafe Bury Road Bury St. Edmunds Suffolk IP29 5LU;X-APPLE-RADIUS=500;X-TITLE=Bury Road:geo:0.7266982,52.2056979
END:VEVENT
BEGIN:VEVENT
DTSTART;TZID=Europe/London:20250128T140000
DTEND;TZID=Europe/London:20250128T160000
DTSTAMP:20260421T212200
CREATED:20250122T173831Z
LAST-MODIFIED:20250122T180548Z
UID:10008134-1738072800-1738080000@www.u3aburystedmunds.co.uk
SUMMARY:Dementia Carers - Monthly Walk
DESCRIPTION:We are a recently formed mutual support group for family carers who are looking after someone living with dementia. \nIn addition to our regular meetings we hold a monthly walk for family carers and those they care for on the fourth Tuesday of every month at Nowton Park. No charge is made for the walks but anyone attending\, both carers and cared for\, needs to be u3a members to ensure that full public liability cover is in place for all attendees. \nWe meet at 2pm outside the Nowton Park café\, which is also a good place to get coffee or tea afterwards.
URL:https://www.u3aburystedmunds.co.uk/event/dementia-carers/2025-01-28/
LOCATION:Nowton Park Cafe\, Bury Road\, Bury St. Edmunds\, Suffolk\, IP29 5LU
CATEGORIES:Other Interests,Study Group
ATTACH;FMTTYPE=image/jpeg:https://www.u3aburystedmunds.co.uk/wp-content/uploads/WildlifeinSuffolk.jpg
ORGANIZER;CN="Andrew Hinchley":MAILTO:ahinchley@yahoo.co.uk
GEO:52.2056979;0.7266982
X-APPLE-STRUCTURED-LOCATION;VALUE=URI;X-ADDRESS=Nowton Park Cafe Bury Road Bury St. Edmunds Suffolk IP29 5LU;X-APPLE-RADIUS=500;X-TITLE=Bury Road:geo:0.7266982,52.2056979
END:VEVENT
END:VCALENDAR