
BEGIN:VCALENDAR
VERSION:2.0
PRODID:-//u3a Bury St Edmunds - ECPv6.15.20//NONSGML v1.0//EN
CALSCALE:GREGORIAN
METHOD:PUBLISH
X-ORIGINAL-URL:https://www.u3aburystedmunds.co.uk
X-WR-CALDESC:Events for u3a Bury St Edmunds
REFRESH-INTERVAL;VALUE=DURATION:PT1H
X-Robots-Tag:noindex
X-PUBLISHED-TTL:PT1H
BEGIN:VTIMEZONE
TZID:Europe/London
BEGIN:DAYLIGHT
TZOFFSETFROM:+0000
TZOFFSETTO:+0100
TZNAME:BST
DTSTART:20300331T010000
END:DAYLIGHT
BEGIN:STANDARD
TZOFFSETFROM:+0100
TZOFFSETTO:+0000
TZNAME:GMT
DTSTART:20301027T010000
END:STANDARD
BEGIN:DAYLIGHT
TZOFFSETFROM:+0000
TZOFFSETTO:+0100
TZNAME:BST
DTSTART:20310330T010000
END:DAYLIGHT
BEGIN:STANDARD
TZOFFSETFROM:+0100
TZOFFSETTO:+0000
TZNAME:GMT
DTSTART:20311026T010000
END:STANDARD
BEGIN:DAYLIGHT
TZOFFSETFROM:+0000
TZOFFSETTO:+0100
TZNAME:BST
DTSTART:20320328T010000
END:DAYLIGHT
BEGIN:STANDARD
TZOFFSETFROM:+0100
TZOFFSETTO:+0000
TZNAME:GMT
DTSTART:20321031T010000
END:STANDARD
END:VTIMEZONE
BEGIN:VEVENT
DTSTART;TZID=Europe/London:20310327T110000
DTEND;TZID=Europe/London:20310327T123000
DTSTAMP:20260422T163119
CREATED:20260411T140747Z
LAST-MODIFIED:20260411T141550Z
UID:10012910-1932375600-1932381000@www.u3aburystedmunds.co.uk
SUMMARY:Walking with Dogs
DESCRIPTION:The walk and talk around Nowton Park with canine friends should last about 60 to 90mins\, along flat even paths\, no stiles\, possibly muddy bits. Small dogs under 10 kilos welcome. One well behaved small dog per person\, to be kept on a lead at all times. Non dog owners are are also welcome! \nThe café is also dog friendly\, so there is the option of a coffee afterwards. Car parking costs £2 (up to 2 hours) £3 (over 2 hours)
URL:https://www.u3aburystedmunds.co.uk/event/walking-with-dogs/2031-03-27/
LOCATION:Nowton Park Cafe\, Bury Road\, Bury St. Edmunds\, Suffolk\, IP29 5LU
CATEGORIES:Outdoors,Study Group
ATTACH;FMTTYPE=image/jpeg:https://www.u3aburystedmunds.co.uk/wp-content/uploads/2026/02/dog-2.jpg
ORGANIZER;CN="Kim Godfrey":MAILTO:emeraldcity7@googlemail.com
GEO:52.2056979;0.7266982
X-APPLE-STRUCTURED-LOCATION;VALUE=URI;X-ADDRESS=Nowton Park Cafe Bury Road Bury St. Edmunds Suffolk IP29 5LU;X-APPLE-RADIUS=500;X-TITLE=Bury Road:geo:0.7266982,52.2056979
END:VEVENT
BEGIN:VEVENT
DTSTART;TZID=Europe/London:20310410T110000
DTEND;TZID=Europe/London:20310410T123000
DTSTAMP:20260422T163119
CREATED:20260411T141436Z
LAST-MODIFIED:20260411T141436Z
UID:10012970-1933585200-1933590600@www.u3aburystedmunds.co.uk
SUMMARY:Walking with Dogs
DESCRIPTION:The walk and talk around Nowton Park with canine friends should last about 60 to 90mins\, along flat even paths\, no stiles\, possibly muddy bits. Small dogs under 10 kilos welcome. One well behaved small dog per person\, to be kept on a lead at all times. Non dog owners are are also welcome! \nThe café is also dog friendly\, so there is the option of a coffee afterwards. Car parking costs £2 (up to 2 hours) £3 (over 2 hours)
URL:https://www.u3aburystedmunds.co.uk/event/walking-with-dogs-2/2031-04-10/
LOCATION:Nowton Park Cafe\, Bury Road\, Bury St. Edmunds\, Suffolk\, IP29 5LU
CATEGORIES:Outdoors,Study Group
ATTACH;FMTTYPE=image/jpeg:https://www.u3aburystedmunds.co.uk/wp-content/uploads/2026/02/dog-2.jpg
ORGANIZER;CN="Kim Godfrey":MAILTO:emeraldcity7@googlemail.com
GEO:52.2056979;0.7266982
X-APPLE-STRUCTURED-LOCATION;VALUE=URI;X-ADDRESS=Nowton Park Cafe Bury Road Bury St. Edmunds Suffolk IP29 5LU;X-APPLE-RADIUS=500;X-TITLE=Bury Road:geo:0.7266982,52.2056979
END:VEVENT
END:VCALENDAR