
BEGIN:VCALENDAR
VERSION:2.0
PRODID:-//u3a Bury St Edmunds - ECPv6.15.20//NONSGML v1.0//EN
CALSCALE:GREGORIAN
METHOD:PUBLISH
X-ORIGINAL-URL:https://www.u3aburystedmunds.co.uk
X-WR-CALDESC:Events for u3a Bury St Edmunds
REFRESH-INTERVAL;VALUE=DURATION:PT1H
X-Robots-Tag:noindex
X-PUBLISHED-TTL:PT1H
BEGIN:VTIMEZONE
TZID:Europe/London
BEGIN:DAYLIGHT
TZOFFSETFROM:+0000
TZOFFSETTO:+0100
TZNAME:BST
DTSTART:20250330T010000
END:DAYLIGHT
BEGIN:STANDARD
TZOFFSETFROM:+0100
TZOFFSETTO:+0000
TZNAME:GMT
DTSTART:20251026T010000
END:STANDARD
BEGIN:DAYLIGHT
TZOFFSETFROM:+0000
TZOFFSETTO:+0100
TZNAME:BST
DTSTART:20260329T010000
END:DAYLIGHT
BEGIN:STANDARD
TZOFFSETFROM:+0100
TZOFFSETTO:+0000
TZNAME:GMT
DTSTART:20261025T010000
END:STANDARD
BEGIN:DAYLIGHT
TZOFFSETFROM:+0000
TZOFFSETTO:+0100
TZNAME:BST
DTSTART:20270328T010000
END:DAYLIGHT
BEGIN:STANDARD
TZOFFSETFROM:+0100
TZOFFSETTO:+0000
TZNAME:GMT
DTSTART:20271031T010000
END:STANDARD
END:VTIMEZONE
BEGIN:VEVENT
DTSTART;TZID=Europe/London:20260715T120000
DTEND;TZID=Europe/London:20260715T150000
DTSTAMP:20260421T230911
CREATED:20220324T083757Z
LAST-MODIFIED:20251216T142747Z
UID:10009071-1784116800-1784127600@www.u3aburystedmunds.co.uk
SUMMARY:Cribbage
DESCRIPTION:Meet up\, have a coffee\, play several hands of crib (cards and boards provided)\, have lunch and then go home.\nGames can comprise of 2\, 3 or 4 players. \nWe are a convivial group of people who enjoy playing Crib\, with life stories to tell/ exchange.\nThe morning starts with coffee before playing groups sort themselves out\, arranging in tables of 3 or 4 players.\nPlay is much fun and very lively\, interrupted only by ample lunch served in quality and quantity.\nNever had a dull session yet. \nWhen we meet: 12 noon on Wednesdays\, fortnightly. (Please contact me for actual dates)
URL:https://www.u3aburystedmunds.co.uk/event/cribbage/2026-07-15/
LOCATION:The Manger\, The Street\, Bradfield Combust\, IP30 0LW
CATEGORIES:Leisure,Study Group
ATTACH;FMTTYPE=image/jpeg:https://www.u3aburystedmunds.co.uk/wp-content/uploads/2021/06/group-scaled-1.jpg
ORGANIZER;CN="Peter Keen":MAILTO:pjkeen1@btinternet.com
GEO:52.1809024;0.7666245
X-APPLE-STRUCTURED-LOCATION;VALUE=URI;X-ADDRESS=The Manger The Street Bradfield Combust IP30 0LW;X-APPLE-RADIUS=500;X-TITLE=The Street:geo:0.7666245,52.1809024
END:VEVENT
BEGIN:VEVENT
DTSTART;TZID=Europe/London:20260722T120000
DTEND;TZID=Europe/London:20260722T150000
DTSTAMP:20260421T230911
CREATED:20220324T083757Z
LAST-MODIFIED:20251216T142747Z
UID:10009072-1784721600-1784732400@www.u3aburystedmunds.co.uk
SUMMARY:Cribbage
DESCRIPTION:Meet up\, have a coffee\, play several hands of crib (cards and boards provided)\, have lunch and then go home.\nGames can comprise of 2\, 3 or 4 players. \nWe are a convivial group of people who enjoy playing Crib\, with life stories to tell/ exchange.\nThe morning starts with coffee before playing groups sort themselves out\, arranging in tables of 3 or 4 players.\nPlay is much fun and very lively\, interrupted only by ample lunch served in quality and quantity.\nNever had a dull session yet. \nWhen we meet: 12 noon on Wednesdays\, fortnightly. (Please contact me for actual dates)
URL:https://www.u3aburystedmunds.co.uk/event/cribbage/2026-07-22/
LOCATION:The Manger\, The Street\, Bradfield Combust\, IP30 0LW
CATEGORIES:Leisure,Study Group
ATTACH;FMTTYPE=image/jpeg:https://www.u3aburystedmunds.co.uk/wp-content/uploads/2021/06/group-scaled-1.jpg
ORGANIZER;CN="Peter Keen":MAILTO:pjkeen1@btinternet.com
GEO:52.1809024;0.7666245
X-APPLE-STRUCTURED-LOCATION;VALUE=URI;X-ADDRESS=The Manger The Street Bradfield Combust IP30 0LW;X-APPLE-RADIUS=500;X-TITLE=The Street:geo:0.7666245,52.1809024
END:VEVENT
BEGIN:VEVENT
DTSTART;TZID=Europe/London:20260729T120000
DTEND;TZID=Europe/London:20260729T150000
DTSTAMP:20260421T230911
CREATED:20220324T083757Z
LAST-MODIFIED:20251216T142747Z
UID:10009073-1785326400-1785337200@www.u3aburystedmunds.co.uk
SUMMARY:Cribbage
DESCRIPTION:Meet up\, have a coffee\, play several hands of crib (cards and boards provided)\, have lunch and then go home.\nGames can comprise of 2\, 3 or 4 players. \nWe are a convivial group of people who enjoy playing Crib\, with life stories to tell/ exchange.\nThe morning starts with coffee before playing groups sort themselves out\, arranging in tables of 3 or 4 players.\nPlay is much fun and very lively\, interrupted only by ample lunch served in quality and quantity.\nNever had a dull session yet. \nWhen we meet: 12 noon on Wednesdays\, fortnightly. (Please contact me for actual dates)
URL:https://www.u3aburystedmunds.co.uk/event/cribbage/2026-07-29/
LOCATION:The Manger\, The Street\, Bradfield Combust\, IP30 0LW
CATEGORIES:Leisure,Study Group
ATTACH;FMTTYPE=image/jpeg:https://www.u3aburystedmunds.co.uk/wp-content/uploads/2021/06/group-scaled-1.jpg
ORGANIZER;CN="Peter Keen":MAILTO:pjkeen1@btinternet.com
GEO:52.1809024;0.7666245
X-APPLE-STRUCTURED-LOCATION;VALUE=URI;X-ADDRESS=The Manger The Street Bradfield Combust IP30 0LW;X-APPLE-RADIUS=500;X-TITLE=The Street:geo:0.7666245,52.1809024
END:VEVENT
BEGIN:VEVENT
DTSTART;TZID=Europe/London:20260805T120000
DTEND;TZID=Europe/London:20260805T150000
DTSTAMP:20260421T230911
CREATED:20220324T083757Z
LAST-MODIFIED:20251216T142747Z
UID:10009074-1785931200-1785942000@www.u3aburystedmunds.co.uk
SUMMARY:Cribbage
DESCRIPTION:Meet up\, have a coffee\, play several hands of crib (cards and boards provided)\, have lunch and then go home.\nGames can comprise of 2\, 3 or 4 players. \nWe are a convivial group of people who enjoy playing Crib\, with life stories to tell/ exchange.\nThe morning starts with coffee before playing groups sort themselves out\, arranging in tables of 3 or 4 players.\nPlay is much fun and very lively\, interrupted only by ample lunch served in quality and quantity.\nNever had a dull session yet. \nWhen we meet: 12 noon on Wednesdays\, fortnightly. (Please contact me for actual dates)
URL:https://www.u3aburystedmunds.co.uk/event/cribbage/2026-08-05/
LOCATION:The Manger\, The Street\, Bradfield Combust\, IP30 0LW
CATEGORIES:Leisure,Study Group
ATTACH;FMTTYPE=image/jpeg:https://www.u3aburystedmunds.co.uk/wp-content/uploads/2021/06/group-scaled-1.jpg
ORGANIZER;CN="Peter Keen":MAILTO:pjkeen1@btinternet.com
GEO:52.1809024;0.7666245
X-APPLE-STRUCTURED-LOCATION;VALUE=URI;X-ADDRESS=The Manger The Street Bradfield Combust IP30 0LW;X-APPLE-RADIUS=500;X-TITLE=The Street:geo:0.7666245,52.1809024
END:VEVENT
BEGIN:VEVENT
DTSTART;TZID=Europe/London:20260812T120000
DTEND;TZID=Europe/London:20260812T150000
DTSTAMP:20260421T230911
CREATED:20220324T083757Z
LAST-MODIFIED:20251216T142747Z
UID:10009075-1786536000-1786546800@www.u3aburystedmunds.co.uk
SUMMARY:Cribbage
DESCRIPTION:Meet up\, have a coffee\, play several hands of crib (cards and boards provided)\, have lunch and then go home.\nGames can comprise of 2\, 3 or 4 players. \nWe are a convivial group of people who enjoy playing Crib\, with life stories to tell/ exchange.\nThe morning starts with coffee before playing groups sort themselves out\, arranging in tables of 3 or 4 players.\nPlay is much fun and very lively\, interrupted only by ample lunch served in quality and quantity.\nNever had a dull session yet. \nWhen we meet: 12 noon on Wednesdays\, fortnightly. (Please contact me for actual dates)
URL:https://www.u3aburystedmunds.co.uk/event/cribbage/2026-08-12/
LOCATION:The Manger\, The Street\, Bradfield Combust\, IP30 0LW
CATEGORIES:Leisure,Study Group
ATTACH;FMTTYPE=image/jpeg:https://www.u3aburystedmunds.co.uk/wp-content/uploads/2021/06/group-scaled-1.jpg
ORGANIZER;CN="Peter Keen":MAILTO:pjkeen1@btinternet.com
GEO:52.1809024;0.7666245
X-APPLE-STRUCTURED-LOCATION;VALUE=URI;X-ADDRESS=The Manger The Street Bradfield Combust IP30 0LW;X-APPLE-RADIUS=500;X-TITLE=The Street:geo:0.7666245,52.1809024
END:VEVENT
BEGIN:VEVENT
DTSTART;TZID=Europe/London:20260819T120000
DTEND;TZID=Europe/London:20260819T150000
DTSTAMP:20260421T230911
CREATED:20220324T083757Z
LAST-MODIFIED:20251216T142747Z
UID:10009076-1787140800-1787151600@www.u3aburystedmunds.co.uk
SUMMARY:Cribbage
DESCRIPTION:Meet up\, have a coffee\, play several hands of crib (cards and boards provided)\, have lunch and then go home.\nGames can comprise of 2\, 3 or 4 players. \nWe are a convivial group of people who enjoy playing Crib\, with life stories to tell/ exchange.\nThe morning starts with coffee before playing groups sort themselves out\, arranging in tables of 3 or 4 players.\nPlay is much fun and very lively\, interrupted only by ample lunch served in quality and quantity.\nNever had a dull session yet. \nWhen we meet: 12 noon on Wednesdays\, fortnightly. (Please contact me for actual dates)
URL:https://www.u3aburystedmunds.co.uk/event/cribbage/2026-08-19/
LOCATION:The Manger\, The Street\, Bradfield Combust\, IP30 0LW
CATEGORIES:Leisure,Study Group
ATTACH;FMTTYPE=image/jpeg:https://www.u3aburystedmunds.co.uk/wp-content/uploads/2021/06/group-scaled-1.jpg
ORGANIZER;CN="Peter Keen":MAILTO:pjkeen1@btinternet.com
GEO:52.1809024;0.7666245
X-APPLE-STRUCTURED-LOCATION;VALUE=URI;X-ADDRESS=The Manger The Street Bradfield Combust IP30 0LW;X-APPLE-RADIUS=500;X-TITLE=The Street:geo:0.7666245,52.1809024
END:VEVENT
BEGIN:VEVENT
DTSTART;TZID=Europe/London:20260826T120000
DTEND;TZID=Europe/London:20260826T150000
DTSTAMP:20260421T230911
CREATED:20220324T083757Z
LAST-MODIFIED:20251216T142747Z
UID:10009077-1787745600-1787756400@www.u3aburystedmunds.co.uk
SUMMARY:Cribbage
DESCRIPTION:Meet up\, have a coffee\, play several hands of crib (cards and boards provided)\, have lunch and then go home.\nGames can comprise of 2\, 3 or 4 players. \nWe are a convivial group of people who enjoy playing Crib\, with life stories to tell/ exchange.\nThe morning starts with coffee before playing groups sort themselves out\, arranging in tables of 3 or 4 players.\nPlay is much fun and very lively\, interrupted only by ample lunch served in quality and quantity.\nNever had a dull session yet. \nWhen we meet: 12 noon on Wednesdays\, fortnightly. (Please contact me for actual dates)
URL:https://www.u3aburystedmunds.co.uk/event/cribbage/2026-08-26/
LOCATION:The Manger\, The Street\, Bradfield Combust\, IP30 0LW
CATEGORIES:Leisure,Study Group
ATTACH;FMTTYPE=image/jpeg:https://www.u3aburystedmunds.co.uk/wp-content/uploads/2021/06/group-scaled-1.jpg
ORGANIZER;CN="Peter Keen":MAILTO:pjkeen1@btinternet.com
GEO:52.1809024;0.7666245
X-APPLE-STRUCTURED-LOCATION;VALUE=URI;X-ADDRESS=The Manger The Street Bradfield Combust IP30 0LW;X-APPLE-RADIUS=500;X-TITLE=The Street:geo:0.7666245,52.1809024
END:VEVENT
BEGIN:VEVENT
DTSTART;TZID=Europe/London:20260902T120000
DTEND;TZID=Europe/London:20260902T150000
DTSTAMP:20260421T230911
CREATED:20220324T083757Z
LAST-MODIFIED:20251216T142747Z
UID:10009078-1788350400-1788361200@www.u3aburystedmunds.co.uk
SUMMARY:Cribbage
DESCRIPTION:Meet up\, have a coffee\, play several hands of crib (cards and boards provided)\, have lunch and then go home.\nGames can comprise of 2\, 3 or 4 players. \nWe are a convivial group of people who enjoy playing Crib\, with life stories to tell/ exchange.\nThe morning starts with coffee before playing groups sort themselves out\, arranging in tables of 3 or 4 players.\nPlay is much fun and very lively\, interrupted only by ample lunch served in quality and quantity.\nNever had a dull session yet. \nWhen we meet: 12 noon on Wednesdays\, fortnightly. (Please contact me for actual dates)
URL:https://www.u3aburystedmunds.co.uk/event/cribbage/2026-09-02/
LOCATION:The Manger\, The Street\, Bradfield Combust\, IP30 0LW
CATEGORIES:Leisure,Study Group
ATTACH;FMTTYPE=image/jpeg:https://www.u3aburystedmunds.co.uk/wp-content/uploads/2021/06/group-scaled-1.jpg
ORGANIZER;CN="Peter Keen":MAILTO:pjkeen1@btinternet.com
GEO:52.1809024;0.7666245
X-APPLE-STRUCTURED-LOCATION;VALUE=URI;X-ADDRESS=The Manger The Street Bradfield Combust IP30 0LW;X-APPLE-RADIUS=500;X-TITLE=The Street:geo:0.7666245,52.1809024
END:VEVENT
BEGIN:VEVENT
DTSTART;TZID=Europe/London:20260909T120000
DTEND;TZID=Europe/London:20260909T150000
DTSTAMP:20260421T230911
CREATED:20220324T083757Z
LAST-MODIFIED:20251216T142747Z
UID:10009079-1788955200-1788966000@www.u3aburystedmunds.co.uk
SUMMARY:Cribbage
DESCRIPTION:Meet up\, have a coffee\, play several hands of crib (cards and boards provided)\, have lunch and then go home.\nGames can comprise of 2\, 3 or 4 players. \nWe are a convivial group of people who enjoy playing Crib\, with life stories to tell/ exchange.\nThe morning starts with coffee before playing groups sort themselves out\, arranging in tables of 3 or 4 players.\nPlay is much fun and very lively\, interrupted only by ample lunch served in quality and quantity.\nNever had a dull session yet. \nWhen we meet: 12 noon on Wednesdays\, fortnightly. (Please contact me for actual dates)
URL:https://www.u3aburystedmunds.co.uk/event/cribbage/2026-09-09/
LOCATION:The Manger\, The Street\, Bradfield Combust\, IP30 0LW
CATEGORIES:Leisure,Study Group
ATTACH;FMTTYPE=image/jpeg:https://www.u3aburystedmunds.co.uk/wp-content/uploads/2021/06/group-scaled-1.jpg
ORGANIZER;CN="Peter Keen":MAILTO:pjkeen1@btinternet.com
GEO:52.1809024;0.7666245
X-APPLE-STRUCTURED-LOCATION;VALUE=URI;X-ADDRESS=The Manger The Street Bradfield Combust IP30 0LW;X-APPLE-RADIUS=500;X-TITLE=The Street:geo:0.7666245,52.1809024
END:VEVENT
BEGIN:VEVENT
DTSTART;TZID=Europe/London:20260916T120000
DTEND;TZID=Europe/London:20260916T150000
DTSTAMP:20260421T230911
CREATED:20220324T083757Z
LAST-MODIFIED:20251216T142747Z
UID:10009080-1789560000-1789570800@www.u3aburystedmunds.co.uk
SUMMARY:Cribbage
DESCRIPTION:Meet up\, have a coffee\, play several hands of crib (cards and boards provided)\, have lunch and then go home.\nGames can comprise of 2\, 3 or 4 players. \nWe are a convivial group of people who enjoy playing Crib\, with life stories to tell/ exchange.\nThe morning starts with coffee before playing groups sort themselves out\, arranging in tables of 3 or 4 players.\nPlay is much fun and very lively\, interrupted only by ample lunch served in quality and quantity.\nNever had a dull session yet. \nWhen we meet: 12 noon on Wednesdays\, fortnightly. (Please contact me for actual dates)
URL:https://www.u3aburystedmunds.co.uk/event/cribbage/2026-09-16/
LOCATION:The Manger\, The Street\, Bradfield Combust\, IP30 0LW
CATEGORIES:Leisure,Study Group
ATTACH;FMTTYPE=image/jpeg:https://www.u3aburystedmunds.co.uk/wp-content/uploads/2021/06/group-scaled-1.jpg
ORGANIZER;CN="Peter Keen":MAILTO:pjkeen1@btinternet.com
GEO:52.1809024;0.7666245
X-APPLE-STRUCTURED-LOCATION;VALUE=URI;X-ADDRESS=The Manger The Street Bradfield Combust IP30 0LW;X-APPLE-RADIUS=500;X-TITLE=The Street:geo:0.7666245,52.1809024
END:VEVENT
BEGIN:VEVENT
DTSTART;TZID=Europe/London:20260923T120000
DTEND;TZID=Europe/London:20260923T150000
DTSTAMP:20260421T230911
CREATED:20220324T083757Z
LAST-MODIFIED:20251216T142747Z
UID:10009081-1790164800-1790175600@www.u3aburystedmunds.co.uk
SUMMARY:Cribbage
DESCRIPTION:Meet up\, have a coffee\, play several hands of crib (cards and boards provided)\, have lunch and then go home.\nGames can comprise of 2\, 3 or 4 players. \nWe are a convivial group of people who enjoy playing Crib\, with life stories to tell/ exchange.\nThe morning starts with coffee before playing groups sort themselves out\, arranging in tables of 3 or 4 players.\nPlay is much fun and very lively\, interrupted only by ample lunch served in quality and quantity.\nNever had a dull session yet. \nWhen we meet: 12 noon on Wednesdays\, fortnightly. (Please contact me for actual dates)
URL:https://www.u3aburystedmunds.co.uk/event/cribbage/2026-09-23/
LOCATION:The Manger\, The Street\, Bradfield Combust\, IP30 0LW
CATEGORIES:Leisure,Study Group
ATTACH;FMTTYPE=image/jpeg:https://www.u3aburystedmunds.co.uk/wp-content/uploads/2021/06/group-scaled-1.jpg
ORGANIZER;CN="Peter Keen":MAILTO:pjkeen1@btinternet.com
GEO:52.1809024;0.7666245
X-APPLE-STRUCTURED-LOCATION;VALUE=URI;X-ADDRESS=The Manger The Street Bradfield Combust IP30 0LW;X-APPLE-RADIUS=500;X-TITLE=The Street:geo:0.7666245,52.1809024
END:VEVENT
BEGIN:VEVENT
DTSTART;TZID=Europe/London:20260930T120000
DTEND;TZID=Europe/London:20260930T150000
DTSTAMP:20260421T230911
CREATED:20220324T083757Z
LAST-MODIFIED:20251216T142747Z
UID:10009082-1790769600-1790780400@www.u3aburystedmunds.co.uk
SUMMARY:Cribbage
DESCRIPTION:Meet up\, have a coffee\, play several hands of crib (cards and boards provided)\, have lunch and then go home.\nGames can comprise of 2\, 3 or 4 players. \nWe are a convivial group of people who enjoy playing Crib\, with life stories to tell/ exchange.\nThe morning starts with coffee before playing groups sort themselves out\, arranging in tables of 3 or 4 players.\nPlay is much fun and very lively\, interrupted only by ample lunch served in quality and quantity.\nNever had a dull session yet. \nWhen we meet: 12 noon on Wednesdays\, fortnightly. (Please contact me for actual dates)
URL:https://www.u3aburystedmunds.co.uk/event/cribbage/2026-09-30/
LOCATION:The Manger\, The Street\, Bradfield Combust\, IP30 0LW
CATEGORIES:Leisure,Study Group
ATTACH;FMTTYPE=image/jpeg:https://www.u3aburystedmunds.co.uk/wp-content/uploads/2021/06/group-scaled-1.jpg
ORGANIZER;CN="Peter Keen":MAILTO:pjkeen1@btinternet.com
GEO:52.1809024;0.7666245
X-APPLE-STRUCTURED-LOCATION;VALUE=URI;X-ADDRESS=The Manger The Street Bradfield Combust IP30 0LW;X-APPLE-RADIUS=500;X-TITLE=The Street:geo:0.7666245,52.1809024
END:VEVENT
BEGIN:VEVENT
DTSTART;TZID=Europe/London:20261007T120000
DTEND;TZID=Europe/London:20261007T150000
DTSTAMP:20260421T230911
CREATED:20220324T083757Z
LAST-MODIFIED:20251216T142747Z
UID:10009083-1791374400-1791385200@www.u3aburystedmunds.co.uk
SUMMARY:Cribbage
DESCRIPTION:Meet up\, have a coffee\, play several hands of crib (cards and boards provided)\, have lunch and then go home.\nGames can comprise of 2\, 3 or 4 players. \nWe are a convivial group of people who enjoy playing Crib\, with life stories to tell/ exchange.\nThe morning starts with coffee before playing groups sort themselves out\, arranging in tables of 3 or 4 players.\nPlay is much fun and very lively\, interrupted only by ample lunch served in quality and quantity.\nNever had a dull session yet. \nWhen we meet: 12 noon on Wednesdays\, fortnightly. (Please contact me for actual dates)
URL:https://www.u3aburystedmunds.co.uk/event/cribbage/2026-10-07/
LOCATION:The Manger\, The Street\, Bradfield Combust\, IP30 0LW
CATEGORIES:Leisure,Study Group
ATTACH;FMTTYPE=image/jpeg:https://www.u3aburystedmunds.co.uk/wp-content/uploads/2021/06/group-scaled-1.jpg
ORGANIZER;CN="Peter Keen":MAILTO:pjkeen1@btinternet.com
GEO:52.1809024;0.7666245
X-APPLE-STRUCTURED-LOCATION;VALUE=URI;X-ADDRESS=The Manger The Street Bradfield Combust IP30 0LW;X-APPLE-RADIUS=500;X-TITLE=The Street:geo:0.7666245,52.1809024
END:VEVENT
BEGIN:VEVENT
DTSTART;TZID=Europe/London:20261014T120000
DTEND;TZID=Europe/London:20261014T150000
DTSTAMP:20260421T230911
CREATED:20220324T083757Z
LAST-MODIFIED:20251216T142747Z
UID:10009084-1791979200-1791990000@www.u3aburystedmunds.co.uk
SUMMARY:Cribbage
DESCRIPTION:Meet up\, have a coffee\, play several hands of crib (cards and boards provided)\, have lunch and then go home.\nGames can comprise of 2\, 3 or 4 players. \nWe are a convivial group of people who enjoy playing Crib\, with life stories to tell/ exchange.\nThe morning starts with coffee before playing groups sort themselves out\, arranging in tables of 3 or 4 players.\nPlay is much fun and very lively\, interrupted only by ample lunch served in quality and quantity.\nNever had a dull session yet. \nWhen we meet: 12 noon on Wednesdays\, fortnightly. (Please contact me for actual dates)
URL:https://www.u3aburystedmunds.co.uk/event/cribbage/2026-10-14/
LOCATION:The Manger\, The Street\, Bradfield Combust\, IP30 0LW
CATEGORIES:Leisure,Study Group
ATTACH;FMTTYPE=image/jpeg:https://www.u3aburystedmunds.co.uk/wp-content/uploads/2021/06/group-scaled-1.jpg
ORGANIZER;CN="Peter Keen":MAILTO:pjkeen1@btinternet.com
GEO:52.1809024;0.7666245
X-APPLE-STRUCTURED-LOCATION;VALUE=URI;X-ADDRESS=The Manger The Street Bradfield Combust IP30 0LW;X-APPLE-RADIUS=500;X-TITLE=The Street:geo:0.7666245,52.1809024
END:VEVENT
BEGIN:VEVENT
DTSTART;TZID=Europe/London:20261021T120000
DTEND;TZID=Europe/London:20261021T150000
DTSTAMP:20260421T230911
CREATED:20220324T083757Z
LAST-MODIFIED:20251216T142747Z
UID:10009085-1792584000-1792594800@www.u3aburystedmunds.co.uk
SUMMARY:Cribbage
DESCRIPTION:Meet up\, have a coffee\, play several hands of crib (cards and boards provided)\, have lunch and then go home.\nGames can comprise of 2\, 3 or 4 players. \nWe are a convivial group of people who enjoy playing Crib\, with life stories to tell/ exchange.\nThe morning starts with coffee before playing groups sort themselves out\, arranging in tables of 3 or 4 players.\nPlay is much fun and very lively\, interrupted only by ample lunch served in quality and quantity.\nNever had a dull session yet. \nWhen we meet: 12 noon on Wednesdays\, fortnightly. (Please contact me for actual dates)
URL:https://www.u3aburystedmunds.co.uk/event/cribbage/2026-10-21/
LOCATION:The Manger\, The Street\, Bradfield Combust\, IP30 0LW
CATEGORIES:Leisure,Study Group
ATTACH;FMTTYPE=image/jpeg:https://www.u3aburystedmunds.co.uk/wp-content/uploads/2021/06/group-scaled-1.jpg
ORGANIZER;CN="Peter Keen":MAILTO:pjkeen1@btinternet.com
GEO:52.1809024;0.7666245
X-APPLE-STRUCTURED-LOCATION;VALUE=URI;X-ADDRESS=The Manger The Street Bradfield Combust IP30 0LW;X-APPLE-RADIUS=500;X-TITLE=The Street:geo:0.7666245,52.1809024
END:VEVENT
END:VCALENDAR