
BEGIN:VCALENDAR
VERSION:2.0
PRODID:-//u3a Bury St Edmunds - ECPv6.15.20//NONSGML v1.0//EN
CALSCALE:GREGORIAN
METHOD:PUBLISH
X-ORIGINAL-URL:https://www.u3aburystedmunds.co.uk
X-WR-CALDESC:Events for u3a Bury St Edmunds
REFRESH-INTERVAL;VALUE=DURATION:PT1H
X-Robots-Tag:noindex
X-PUBLISHED-TTL:PT1H
BEGIN:VTIMEZONE
TZID:Europe/London
BEGIN:DAYLIGHT
TZOFFSETFROM:+0000
TZOFFSETTO:+0100
TZNAME:BST
DTSTART:20250330T010000
END:DAYLIGHT
BEGIN:STANDARD
TZOFFSETFROM:+0100
TZOFFSETTO:+0000
TZNAME:GMT
DTSTART:20251026T010000
END:STANDARD
BEGIN:DAYLIGHT
TZOFFSETFROM:+0000
TZOFFSETTO:+0100
TZNAME:BST
DTSTART:20260329T010000
END:DAYLIGHT
BEGIN:STANDARD
TZOFFSETFROM:+0100
TZOFFSETTO:+0000
TZNAME:GMT
DTSTART:20261025T010000
END:STANDARD
BEGIN:DAYLIGHT
TZOFFSETFROM:+0000
TZOFFSETTO:+0100
TZNAME:BST
DTSTART:20270328T010000
END:DAYLIGHT
BEGIN:STANDARD
TZOFFSETFROM:+0100
TZOFFSETTO:+0000
TZNAME:GMT
DTSTART:20271031T010000
END:STANDARD
END:VTIMEZONE
BEGIN:VEVENT
DTSTART;TZID=Europe/London:20261007T120000
DTEND;TZID=Europe/London:20261007T150000
DTSTAMP:20260422T011310
CREATED:20220324T083757Z
LAST-MODIFIED:20251216T142747Z
UID:10009083-1791374400-1791385200@www.u3aburystedmunds.co.uk
SUMMARY:Cribbage
DESCRIPTION:Meet up\, have a coffee\, play several hands of crib (cards and boards provided)\, have lunch and then go home.\nGames can comprise of 2\, 3 or 4 players. \nWe are a convivial group of people who enjoy playing Crib\, with life stories to tell/ exchange.\nThe morning starts with coffee before playing groups sort themselves out\, arranging in tables of 3 or 4 players.\nPlay is much fun and very lively\, interrupted only by ample lunch served in quality and quantity.\nNever had a dull session yet. \nWhen we meet: 12 noon on Wednesdays\, fortnightly. (Please contact me for actual dates)
URL:https://www.u3aburystedmunds.co.uk/event/cribbage/2026-10-07/
LOCATION:The Manger\, The Street\, Bradfield Combust\, IP30 0LW
CATEGORIES:Leisure,Study Group
ATTACH;FMTTYPE=image/jpeg:https://www.u3aburystedmunds.co.uk/wp-content/uploads/2021/06/group-scaled-1.jpg
ORGANIZER;CN="Peter Keen":MAILTO:pjkeen1@btinternet.com
GEO:52.1809024;0.7666245
X-APPLE-STRUCTURED-LOCATION;VALUE=URI;X-ADDRESS=The Manger The Street Bradfield Combust IP30 0LW;X-APPLE-RADIUS=500;X-TITLE=The Street:geo:0.7666245,52.1809024
END:VEVENT
BEGIN:VEVENT
DTSTART;TZID=Europe/London:20261014T120000
DTEND;TZID=Europe/London:20261014T150000
DTSTAMP:20260422T011310
CREATED:20220324T083757Z
LAST-MODIFIED:20251216T142747Z
UID:10009084-1791979200-1791990000@www.u3aburystedmunds.co.uk
SUMMARY:Cribbage
DESCRIPTION:Meet up\, have a coffee\, play several hands of crib (cards and boards provided)\, have lunch and then go home.\nGames can comprise of 2\, 3 or 4 players. \nWe are a convivial group of people who enjoy playing Crib\, with life stories to tell/ exchange.\nThe morning starts with coffee before playing groups sort themselves out\, arranging in tables of 3 or 4 players.\nPlay is much fun and very lively\, interrupted only by ample lunch served in quality and quantity.\nNever had a dull session yet. \nWhen we meet: 12 noon on Wednesdays\, fortnightly. (Please contact me for actual dates)
URL:https://www.u3aburystedmunds.co.uk/event/cribbage/2026-10-14/
LOCATION:The Manger\, The Street\, Bradfield Combust\, IP30 0LW
CATEGORIES:Leisure,Study Group
ATTACH;FMTTYPE=image/jpeg:https://www.u3aburystedmunds.co.uk/wp-content/uploads/2021/06/group-scaled-1.jpg
ORGANIZER;CN="Peter Keen":MAILTO:pjkeen1@btinternet.com
GEO:52.1809024;0.7666245
X-APPLE-STRUCTURED-LOCATION;VALUE=URI;X-ADDRESS=The Manger The Street Bradfield Combust IP30 0LW;X-APPLE-RADIUS=500;X-TITLE=The Street:geo:0.7666245,52.1809024
END:VEVENT
BEGIN:VEVENT
DTSTART;TZID=Europe/London:20261021T120000
DTEND;TZID=Europe/London:20261021T150000
DTSTAMP:20260422T011310
CREATED:20220324T083757Z
LAST-MODIFIED:20251216T142747Z
UID:10009085-1792584000-1792594800@www.u3aburystedmunds.co.uk
SUMMARY:Cribbage
DESCRIPTION:Meet up\, have a coffee\, play several hands of crib (cards and boards provided)\, have lunch and then go home.\nGames can comprise of 2\, 3 or 4 players. \nWe are a convivial group of people who enjoy playing Crib\, with life stories to tell/ exchange.\nThe morning starts with coffee before playing groups sort themselves out\, arranging in tables of 3 or 4 players.\nPlay is much fun and very lively\, interrupted only by ample lunch served in quality and quantity.\nNever had a dull session yet. \nWhen we meet: 12 noon on Wednesdays\, fortnightly. (Please contact me for actual dates)
URL:https://www.u3aburystedmunds.co.uk/event/cribbage/2026-10-21/
LOCATION:The Manger\, The Street\, Bradfield Combust\, IP30 0LW
CATEGORIES:Leisure,Study Group
ATTACH;FMTTYPE=image/jpeg:https://www.u3aburystedmunds.co.uk/wp-content/uploads/2021/06/group-scaled-1.jpg
ORGANIZER;CN="Peter Keen":MAILTO:pjkeen1@btinternet.com
GEO:52.1809024;0.7666245
X-APPLE-STRUCTURED-LOCATION;VALUE=URI;X-ADDRESS=The Manger The Street Bradfield Combust IP30 0LW;X-APPLE-RADIUS=500;X-TITLE=The Street:geo:0.7666245,52.1809024
END:VEVENT
END:VCALENDAR